Workbook
Name _ftn1: 'NOTE SOJA EN'!$B$1
Name _ftn1: 'NOTE SOJA FR'!$B$1
Name _ftnref1: 'NOTE SOJA EN'!$A$1
Name _ftnref1: 'NOTE SOJA FR'!$A$1

Sheet Accueil
O1: Français
H2: Français | O2: English
B11: =IF(H2="Français","Bienvenue sur la base de données ECOALIM des ACV des matières premières de l'alimentation animale","Welcome on the data base ECOALIM : LCA data of feedstuffs for animal feed") -> Bienvenue sur la base de données ECOALIM des ACV des matières premières de l'alimentation animale
F12: Version : | G12: V9 - 12/11/2024
B15: =IF(H2="Français","Ce travail a été initialement réalisé dans le cadre du RMT Elevages et Environnement avec le soutien financié du CASDAR et de l'ADEME. Aujourd'hui, il constitue la partie nutrition animale de la base de donnée Agribalyse","This work has been carried out initialy by the national French network Livestock and Environment with the financial support of CASDAR and ADEME.Now, ECOALIM is the animal nutrition part of the french national database Agribalyse") -> Ce travail a été initialement réalisé dans le cadre du RMT Elevages et Environnement avec le soutien financié du CASDAR et de l'ADEME. Aujourd'hui, il constitue la partie nutrition animale de la base de donnée Agribalyse
B18: =IF(H2="Français","Partenraires","Partners") -> Partenraires | I18: =IF(H2="Français","Financeurs","Funding") -> Financeurs
B35: Mise à jour avec l'appui d'EVEA et des membres du GIS REVALIM :

Sheet Généralités
B2: =IF(Accueil!H2="français","La base de données ECOALIM regroupe des valeurs d’impacts environnementaux de matières premières entrant ou pouvant entrer dans l’alimentation animale."," The ECOALIM database includes values of environmental impacts of feed ingredients currently or possibly used in animal feed.") -> La base de données ECOALIM regroupe des valeurs d’impacts environnementaux de matières premières entrant ou pouvant entrer dans l’alimentation animale.
B3: =IF(Accueil!H2="français","Elle est destinée aux professionnels de la nutrition animale et permet une prise en compte de critères environnementaux dans l’étape de formulation des aliments du bétail pour : ","It is intended for animal nutrition companies and allows inclusion of environmental criteria in the formulation stage of feed to :") -> Elle est destinée aux professionnels de la nutrition animale et permet une prise en compte de critères environnementaux dans l’étape de formulation des aliments du bétail pour :
B4: =IF(Accueil!H2="français","- Evaluer l’impact environnemental de formulations :","- Assess the environmental impact of formulations for :") -> - Evaluer l’impact environnemental de formulations :
B5: =IF(Accueil!H2="français","o formulations complètes avec prise en compte des différents ingrédients (matières premières agricoles brutes ou transformées, produits industriels)","o Complete formulations taking into account the different ingredients (raw or processed agricultural commodities, industrial products)") -> o formulations complètes avec prise en compte des différents ingrédients (matières premières agricoles brutes ou transformées, produits industriels)
B6: =IF(Accueil!H2="français","o formules actuelles ou formulations innovantes avec mobilisation de matières premières émergentes,","o Current formulas or innovative formulations with mobilization emerging raw materials,") -> o formules actuelles ou formulations innovantes avec mobilisation de matières premières émergentes,
B7: =IF(Accueil!H2="français","o des aliments formulés en usine d’aliments ou au niveau d’atelier de fabrication à la ferme (données céréales sortie champ).","o Food formulated feed mill or at workshop on the farm (cereal field output data).") -> o des aliments formulés en usine d’aliments ou au niveau d’atelier de fabrication à la ferme (données céréales sortie champ).
B8: =IF(Accueil!H2="français","- Optimiser la formulation en prenant en compte des critères environnementaux.","- Optimize the formulation by taking into account environmental criteria.") -> - Optimiser la formulation en prenant en compte des critères environnementaux.
B10: =IF(Accueil!H2="français","Ces travaux s’insèrent dans le programme AGRIBALYSE, menés par le GIS REVALIM, qui fournit des références environnementales pour les produits agricoles et alimentaires français.","This work is part of the AGRIBALYSE program, carried out by the GIS REVALIM, which provides environmental references for French agricultural and food products.") -> Ces travaux s’insèrent dans le programme AGRIBALYSE, menés par le GIS REVALIM, qui fournit des références environnementales pour les produits agricoles et alimentaires français.
B11: =IF(Accueil!H2="français","Ecoalim constitue le volet nutrition animale de la base Agribalyse. Les mises à jour de la base de données ECOALIM suivent donc les mises à jour de la base de données AGRIBALYSE.","Ecoalim is the animal nutrition component of the Agribalyse database. Updates to the ECOALIM database therefore follow updates to the AGRIBALYSE database.") -> Ecoalim constitue le volet nutrition animale de la base Agribalyse. Les mises à jour de la base de données ECOALIM suivent donc les mises à jour de la base de données AGRIBALYSE.
B12: =IF(Accueil!H2="français","Pour suivre les mises à jour et en savoir plus sur l'accessibilité des données, se référer au site AGRIBALYSE : www.agribalyse.fr ","To follow updates and find out more about data accessibility, refer to the AGRIBALYSE website: www.agribalyse.fr") -> Pour suivre les mises à jour et en savoir plus sur l'accessibilité des données, se référer au site AGRIBALYSE : www.agribalyse.fr
B14: =IF(Accueil!H2="français","Des différences importantes d'impact peuvent être observées entre les versions 8 et 9 d'ECOALIM.","Significant differences in impact categories can be observed between versions 7 and 8 of ECOALIM .") -> Des différences importantes d'impact peuvent être observées entre les versions 8 et 9 d'ECOALIM.
B15: =IF(Accueil!H2="français","Ces différences sont en lien avec des mises à jour de méthodes de calcul et de données sous-jacentes.","These differences are related to updates of calculation methods and underlying data.") -> Ces différences sont en lien avec des mises à jour de méthodes de calcul et de données sous-jacentes.
B17: SOMMAIRE :
B18: =IF(Accueil!H2="français","1 - Organisation du fichier ECOALIM","1 - Organization of the ECOALIM file") -> 1 - Organisation du fichier ECOALIM
B19: =IF(Accueil!H2="français","2 - Présentation des colonnes de la base de données ECOALIM","2 - Presentation of the columns of the ECOALIM database") -> 2 - Présentation des colonnes de la base de données ECOALIM
B20: 3 - Précisions concernant les transports
B22: =IF(Accueil!H2="français","Organisation du fichier ECOALIM : Ce fichier comporte plusieurs onglet :","Organization of the ECOALIM file : This file has several tabs:") -> Organisation du fichier ECOALIM : Ce fichier comporte plusieurs onglet :
B23: NOTE SOJA | C23: => Note sur le soja
B24: ACV MP ECOALIM FR | C24: =IF(Accueil!H2="français","=> Base de données ECOALIM en français","=> ECOALIM database in French") -> => Base de données ECOALIM en français
B25: LCA Feedstuff ECOALIM EN | C25: =IF(Accueil!H2="français","=> Base de données ECOALIM en anglais","=> ECOALIM database in English") -> => Base de données ECOALIM en anglais
B26: Correspondances Simapro | C26: =IF(Accueil!H2="français","=> Correspondance entre les noms des inventaires dans ECOALIM et ceux dans Simapro","=> Correspondence between the LCI names in ECOALIM and in Simapro") -> => Correspondance entre les noms des inventaires dans ECOALIM et ceux dans Simapro
B27: Evolution v8-v9 | C27: =IF(Accueil!H2="français","=> Evolution des matières premières contenues dans ECOALIM entre la version 7 et la version 8","=> Evolution of Feedstuff ECOALIM between version 7 and version 8 ECOALIM") -> => Evolution des matières premières contenues dans ECOALIM entre la version 7 et la version 8
B28: Comparaison v8-v9 | C28: =IF(Accueil!H2="français","=> Comparaison des indicateurs d'impacts entre la version 7 et la version 8","=> Comparison of impact indicators between version 7 and version 8 ECOALIM") -> => Comparaison des indicateurs d'impacts entre la version 7 et la version 8
B31: =IF(Accueil!H2="français","Présentation des colonnes de la base de données ECOALIM","Presentation of the columns of the ECOALIM database") -> Présentation des colonnes de la base de données ECOALIM
H32: =IF(Accueil!H2="français","Impacts ACV (par kg de matière première) - METHODE ECOALIM - indicateurs principaux","ECOALIM Method - Main impact categories") -> Impacts ACV (par kg de matière première) - METHODE ECOALIM - indicateurs principaux | N32: =IF(Accueil!H2="français","Méthode ECOALIM - Indicateurs complémentaires","ECOALIM Method - Additional impact categories") -> Méthode ECOALIM - Indicateurs complémentaires | S32: =IF(Accueil!M2="français","Impacts ACV (par kg de matière première)- METHODE EF3.1. Indicateurs identiques à ECOALIM : changement climatique, acidification, 3 eutrophisations","LCA impact (per kg of feedstuff) - EF3.1 method. Same indicators as ECOALIM : climate change, acidification, 3 eutrophications") -> LCA impact (per kg of feedstuff) - EF3.1 method. Same indicators as ECOALIM : climate change, acidification, 3 eutrophications
B33: =IF(Accueil!H2="français","Familles des matières premières destinées aux animaux d'élevage","Types of feedstuffs for livestock") -> Familles des matières premières destinées aux animaux d'élevage | C33: =IF(Accueil!H2="français","Matières premières","Feedstuffs") -> Matières premières | D33: =IF(Accueil!H2="français","Périmètre","Perimeter") -> Périmètre | E33: =IF(Accueil!H2="français","Donnée moyenne ou déclinaison","Average data / subcategory") -> Donnée moyenne ou déclinaison | F33: =IF(Accueil!H2="français","Pays de la production primaire de la MP brute","Country of production for the raw feedstuff") -> Pays de la production primaire de la MP brute | G33: =IF(Accueil!H2="français","Pays de la transformation","Country of transformation for transformed feedstuff") -> Pays de la transformation | H33: =IF(Accueil!$H$2="français","Consommation de Phosphore (kg P)","Phosphorous consumption (kg P)") -> Consommation de Phosphore (kg P) | I33: =IF(Accueil!$H$2="français","Consommation d'énergie : non renouvelable fossile + nucléaire - CED 1.11 (MJ)","Cumulative energy demand : non renewable fossil+nuclear - CED 1.11 (MJ)") -> Consommation d'énergie : non renouvelable fossile + nucléaire - CED 1.11 (MJ) | J33: =IF(Accueil!$H$2="français","Changement climatique - EF 3.1 (kg CO2 eq)","Climate change - EF 3.1 (kg CO2 eq)") -> Changement climatique - EF 3.1 (kg CO2 eq) | K33: =IF(Accueil!$H$2="français","Acidification - EF3.1 (molc H+ eq)","Acidification - EF 3.1 (molc H+ eq)") -> Acidification - EF3.1 (molc H+ eq) | L33: =IF(Accueil!$H$2="français","Eutrophisation - CML baseline (kg PO4---eq)","Eutrophication - CML baseline (kg PO4---eq)") -> Eutrophisation - CML baseline (kg PO4---eq) | M33: =IF(Accueil!$H$2="français","Occupation du sol - CML non baseline (m2a)","Land competition - CML non baseline (m2a)") -> Occupation du sol - CML non baseline (m2a) | N33: =IF(Accueil!$H$2="français","Eutrophisation terrestre - EF 3.1 (mol N eq)","Eutrophication, terrestrial - EF 3.1 (mol N eq)") -> Eutrophisation terrestre - EF 3.1 (mol N eq) | O33: =IF(Accueil!$H$2="français","Eutrophisation d'eau douce - EF 3.1 (kg P eq)","Eutrophication, freshwater - EF 3.1 (kg P eq)") -> Eutrophisation d'eau douce - EF 3.1 (kg P eq) | P33: =IF(Accueil!$H$2="français","Eutrophisation marine - EF 3.1 (kg N eq)","Eutrophication, marine - EF 3.1 (kg N eq)") -> Eutrophisation marine - EF 3.1 (kg N eq) | Q33: =IF(Accueil!$H$2="français","Consommation d'énergie : totale - CED 1.11 (MJ)","Cumulative energy demand : total - CED 1.11 (MJ)") -> Consommation d'énergie : totale - CED 1.11 (MJ) | R33: =IF(Accueil!$H$2="français","Consommation d'énergie : totale - CED 1.11 (MJ) - WITHOUT ENERGY GROSS CALORIFIC VALUE","Cumulative energy demand : total - CED 1.11 (MJ) - WITHOUT ENERGY GROSS CALORIFIC VALUE") -> Consommation d'énergie : totale - CED 1.11 (MJ) - WITHOUT ENERGY GROSS CALORIFIC VALUE | S33: Score unique EF3.1 (mPt) | T33: Changement climatique (kg CO2 eq) | U33: Appauvrissement de la couche d'ozone (kg CFC11 eq) | V33: Rayonnements ionisants (kBq U-235 eq) | W33: Formation photochimique d'ozone (kg NMVOC eq) | X33: Particules (disease inc.) | Y33: Effets toxicologiques sur la santé humaine : substances non-cancérogènes* (CTUh) | Z33: Effets toxicologiques sur la santé humaine : substances cancérogènes* (CTUh) | AA33: Acidification terrestre et eaux douces (mol H+ eq) | AB33: Eutrophisation eaux douces (kg P eq) | AC33: Eutrophisation marine (kg N eq) | AD33: Eutrophisation terreste (mol N eq) | AE33: Écotoxicité pour écosystèmes aquatiques d'eau douce (CTUe) | AF33: Utilisation du sol (Pt) | AG33: Épuisement des ressources eau (m3 depriv.) | AH33: Épuisement des ressources énergétiques (MJ) | AI33: Épuisement des ressources minéraux (kg Sb eq) | AJ33: Changement climatique - biogénique (kg CO2 eq/kg) | AK33: Changement climatique - fossile (kg CO2 eq/kg) | AL33: Changement climatique - changement d'affectation des sols (kg CO2 eq/kg)
C36: =IF(Accueil!H2="français","Nom des MP de l'alimentation animale","Name of the feedstuff for animal feed") -> Nom des MP de l'alimentation animale | D36: =IF(Accueil!H2="français","Le périmètre peut-être la sortie champ ou la sortie organisme de stockage pour les céréales, la sortie usine de transformation pour les huiles et tourteaux par exemple, le port français pour les matières premières importées"&", le mix de consommation pour les acides aminés importés (transport jusqu'en France).","The perimeter could be at field gate, at storage agency, at mill, at consumption mix") -> Le périmètre peut-être la sortie champ ou la sortie organisme de stockage pour les céréales, la sortie usine de transformation pour les huiles et tourteaux par exemple, le port français pour les matières premières importées, le mix de consommation pour les acides aminés importés (transport jusqu'en France). | E36: =IF(Accueil!H2="français","Les données moyennes sont des moyennes France alors que les déclinaisons précisent des itinéraire culturaux spécifiques","The average data are French averages ; the subcategories are for specific ") -> Les données moyennes sont des moyennes France alors que les déclinaisons précisent des itinéraire culturaux spécifiques | F36: =IF(Accueil!H2="français","La production primaire est celle faite au champ","The raw production is the one realised at field") -> La production primaire est celle faite au champ | G36: =IF(Accueil!H2="français","La transformation concerne les étapes après le champ (en dehors du séchage des céréales) : trituration…","The transformation occurs after the field (apart from grain drying) : crushing,...") -> La transformation concerne les étapes après le champ (en dehors du séchage des céréales) : trituration… | H36: =IF(Accueil!H2="français","Impacts environnementaux exprimés par kilogramme de MP brute","Environmental impacts per kilogram of feedstuff") -> Impacts environnementaux exprimés par kilogramme de MP brute
B37: =IF(Accueil!H8="français","Précisions concernant les transports","Precisions regarding transport") -> Precisions regarding transport
B39: Dans les données ECO-ALIM, les impacts environnementaux des matières premières cultivées ou transformées en France sont présentés pour différents périmètres, en fonction de leur nature et des besoins des fabricants : en sortie champ (utile pour la fabrication d’aliments à la ferme), sortie organisme de stockage (OS), sortie usine de transformation et rendu port français pour les matières premières importées (voir les fiches par matière première). Pour les sorties OS, usine de transformation et rendu port, toutes les étapes de transports intermédiaires sont prises en compte dans les données d’inventaire. Pour les matières premières importées, le transport depuis le port d’exportation jusqu’au port français (Brest, Sète ou le Havre) est assuré par bateau. Par contre, les impacts environnementaux n’intègrent pas le transport nécessaire pour relier le périmètre de sortie au lieu de fabrication des aliments (usine ou ferme).
B41: Utilisation de la base de données ecoinvent en arrière-plan
B42: Les valeurs d’impacts environnementaux pour 1 tonne de matière première transportée sur 1 km, pour les différents modes de transport employés, sont disponibles uniquement pour les utilisateurs disposant d'une License ecoinvent® (selon les conditions d'usage des données ecoinvent). Nous n'avons plus l'autorisation de les communiquer dans ces tableurs. Pour en savoir plus sur les Licenses ecoinvent : https://ecoinvent.org/licenses/

Sheet NOTE SOJA FR
A1: Note sur les données relatives au SOJA pour l’alimentation animale* dans la base de données AGRIBALYSE 3.2 (= ECOALIM 9) | B1: *Pour l’alimentation humaine, un mix de consommation comprenant du soja de différentes origines a été construit (soja français, soja brésilien, soja américain et soja canadien, sur la base de données statistiques et de l’expertise des instituts techniques et de France Agrimer).
A3: Sommaire
A4: Introduction
A5: Données soja présentes dans la base de données AGRIBALYSE / ECOALIM
A6: Focus sur le soja brésilien dans AGRIBALYSE / ECOALIM
A7: Différence d'impact entre les données GFLI et Ecoinvent/Agribalyse
A8: Evolution importante des résultats d’impact du soja brésilien dans la nouvelle version Agribalyse 3.2 / Ecoalim 9
A9: Intégration de nouvelles données dans AGRIBALYSE / ECOALIM pour représenter le soja « cut-off date » 2020 et 2008
A12: Introduction
A13: Différentes données environnementales (notamment facteurs d’émissions sur le changement climatique) relatives à la production de soja co-existent dans les bases de données internationales (AGRIBALYSE, GFLI-Agrifootprint, Ecoinvent, WFLDB…). Cette situation s’explique par des choix méthodologiques différents, des données sources différentes ainsi que des pas de temps différents en fonction des bases de données, et entraine une grande confusion parmi les utilisateurs des données. Par ailleurs, avec l’implémentation en Europe de la réglementation sur la déforestation importée, AGRIBALYSE / ECOALIM intègre désormais des données représentant un soja brésilien compatible avec la réglementation « cut-off date 2020 » (pas de déforestation après 2020) et un autre représentant un soja brésilien compatible avec une « cut-off date 2008 » (c’est-à-dire correspondant aux productions de soja certifiées sans déforestation depuis 2008). Dans ce contexte, cette note vise à clarifier et préciser les choix concernant la modélisation des impacts environnementaux des différents soja dans la base de données AGRIBALYSE (ECOALIM*). | B13: *ECOALIM constitue la partie « Alimentation animale » de la base de données AGRIBALYSE
A15: Dans la suite du document, par simplification, on notera AGRIBALYSE pour AGRIBALYSE version 3.2 et ECOALIM pour ECOLALIM 9.
A17: Les données présentes sur le soja dans la base de données AGRIBALYSE (ECOALIM)
A18: Les données présentes sur le soja utilisé pour l’alimentation animale dans la base de données AGRIBALYSE (ECOALIM) concernent la production de soja issue de différents pays (France, Brésil, Etats-Unis). Ainsi, même si du soja argentin est utilisé en France, nous avons pour le moment considéré que les volumes n’étaient pas encore assez significatifs pour être introduits dans la base de données Agribalyse. Les jeux de données pour le soja français, brésilien et américain ont été réalisés : - A travers le projet ECOALIM (2013-2016), en ce qui concerne le soja FR et USA ; - Par l’adaptation de données produites par Ecoinvent en ce qui concerne le soja brésilien.
A46: Focus sur le soja brésilien dans AGRIBALYSE / ECOALIM (Source de données : Ecoinvent / EMBRAPA)
A47: Le rapport Guéneau (Soja - Etat des lieux sur la déforestation et les standards de durabilité - 2021) estime que probablement 70% à 80% des tourteaux de soja qui entrent sur le sol français sont originaires du Brésil, en incluant les ré-exportations des pays européens en France. Ainsi, le soja utilisé pour l’alimentation animale dans les inventaires de production animale dans la base de données Agribalyse sont, par simplification, à 100% du soja brésilien*. Les bases de données donnant des valeurs d’impacts environnementaux (facteurs d’émissions) relatifs à la production de soja brésilien utilisent partiellement ou totalement les données construites par l’EMBRAPA (institut brésilien de recherche sur l’agriculture). Pourtant des grandes différences d’impact sont présentes dans les différentes bases de données – exemple : | B47: *Un « mix de consommation » du soja a été construit pour l’alimentation humaine, puisque le soja utilisé dans les produits pour l’alimentation humaine provient en plus grande proportion d’autres origines (France, Brésil, Etats-Unis, Canada).
A54: D’où viennent ces différences ? Le GIS REVALIM, avec l’appui d’experts consultés spécifiquement sur ce sujet, ont analysé ces différences :
A55: -> La principale contribution aux émissions de GES est liée au changement d’utilisation des terres avant la production de soja (lié à l’estimation de la déforestation donc : passage de forêt à terres cultivées). La manière dont le changement d’utilisation des terres est modélisé dans les bases de données et alloué à la production de soja a donc une importance majeure.
A56: -> La déforestation associée à la production de soja diffère grandement d’un Etat à un autre du Brésil. Ainsi, les résultats d’impacts sont différents en fonction de la finesse de la modélisation différenciant ou non la région de production du soja au Brésil. Il parait donc important de régionaliser les données d’inventaires de la manière la plus fine possible.
A57: -> Les bases de données GFLI-Agrifootprint 2.0 et Ecoinvent 9.1 appliquent des modèles différents pour la modélisation du changement d’usage des sols : selon notre analyse, Ecoinvent 9.1 applique le modèle le plus précis et actualisé que la base de données GFLI-Agrifootprint 2.0, avec un niveau d’agrégation territoriale davantage en phase avec les pratiques et l’utilisation de données spatialement explicites plutôt que basées sur des statistiques nationales (spatialisation plus fine du changement d’utilisation des terres et donc des émissions associées à la déforestation puis agrégation des différents inventaires régionalisés pour les différentes régions exportatrices du Brésil). Par ailleurs, GFLI 2.0 n’utilise pas les dernières données mises à disposition par l’EMBRAPA (explications ci-dessous). A noter que d’autres différences méthodologiques ont également été mises en évidence par l’analyse (mais ayant un impact moindre sur les résultats) : les sources de données sont différentes pour les valeurs de carbone organique des sols et de prise en compte des émissions de N20.
A59: Après consultation d’experts, le GIS REVALIM a conclu qu’il était plus pertinent d’utiliser les données Ecoinvent pour le soja dans Agribalyse, dont les valeurs d’impact sont plus proches de celles originales de l’EMBRAPA et plus fine en termes de spatialisation des pratiques et notamment du changement d’utilisation des terres (déforestation) associée à la production de soja.
A61: Une évolution importante dans les résultats d’impact du soja brésilien dans la nouvelle version Agribalyse 3.2 / Ecoalim 9
A62: L’impact Changement Climatique du soja brésilien diminue de manière significative entre la version Agribalyse 3.1.1 et la version Agribalyse 3.2 (donc entre la version Ecoalim 8 et Ecoalim 9), en lien avec un changement de méthode de la modélisation du changement d’usage des terres entre les versions 3.8 et 3.9 d’Ecoinvent : - Ecoinvent 3.8: 2,6 kg CO2eq/kg soybean (EF 3.1 method: GWP 100, IPCC 2021) - Ecoinvent 3.9: 1,6 kg CO2eq/kg soybean (EF 3.1 method: GWP 100, IPCC 2021) Cette baisse d’impact est liée à un changement de méthode de l’EMBRAPA dans la manière de modéliser les changements d’usage des terres : désormais, ce sont des données spatialement explicites qui sont utilisées, et non plus des données statistiques d’expansion des cultures, sur la base des travaux de Garofalo et al, 2022. Cette nouvelle méthode de modélisation des changements d’usage des terres a des répercussions importantes sur les résultats obtenus induisant des résultats dans des directions opposées concernant les quatre principales utilisations des terres agricoles au Brésil (prairies et cultures temporaires comme le maïs qui voient leurs impacts augmenter versus soja et canne à sucre qui voient leurs impacts diminuer). Ces nouveaux résultats sont en phase avec les études géospatiales qui mettent en évidence le fait que les prairies temporaires sont identifiées comme les premières occupations pour occuper les zones déboisées, principalement en Amazonie.
A85: Cela peut être dû à une charge excessive sur le soja dans les modélisations précédentes causée par l'allocation du changement direct d’utilisation des terres au soja, et non aux premières cultures post-déforestation (en raison de la forte expansion du soja dans les statistiques nationales, une situation typique de la comptabilisation du changement indirect d’affectation des terres). Considérant que les approches intégrant les changements d’usage indirects d’utilisation des terres ont d’autres objectifs (et des applications différentes), et compte-tenu du fait que les changements d’usages indirects ne devraient pas être pris en compte dans l’évaluation des changements directs, ce nouveau modèle semble plus approprié dans le cadre des bases de données ACV attributionnelles, comme Agribalyse/Ecoalim et Ecoinvent.
A102: Ce changement important de l’indicateur Changement Climatique entre les versions Agribalyse / Ecoalim / Ecoinvent ne signifie pas que la déforestation liée au soja a diminué, mais que la nouvelle méthode pour modéliser le changement d’usage des terres à partir de données spatialement explicites, plus fiables que les données statistiques utilisées précédemment, estime que la déforestation associée à la production de soja est finalement moins importante que ce qui était précédemment estimé via les approches statistiques.
A103: A noter que les données GFLI devraient logiquement suivre les mêmes tendances dans les prochaines versions.
A105: L’intégration de nouvelles données dans AGRIBALYSE / ECOALIM pour représenter le soja « cut-off date » 2020 et 2008
A106: Le 9 juin 2023 le Règlement (UE) 2023/1115 du Parlement européen et du Conseil du 31 mai 2023 relatif à la mise à disposition sur le marché de l’Union et à l’exportation à partir de l’Union de certains produits de base et produits associés à la déforestation et à la dégradation des forêts, et abrogeant le règlement (UE) no 995/2010 (RDUE)* a été publié au Journal officiel de l’Union européenne. L’objectif de ce règlement est de réduire au minimum le risque de déforestation et de dégradation des forêts liées aux produits importés, en interdisant l’accès au marché européen de produits issus de cultures cultivés sur des parcelles déforestés après le 31 décembre 2020. Les produits concernés sont : les bovins, le cacao, le café, le palmier à huile, le caoutchouc, le soja et le bois. Depuis la version 8 d’Ecoalim (3.1.1 d’Agribalyse), deux sojas brésiliens sont disponibles : - Un soja « moyen » correspondant à un mix entre du soja cultivé sur des parcelles ayant été déforestées et d’autres non (mix Ecoinvent construit sur la base des données de l’institut brésilien EMBRAPA) ; - Un soja brésilien non déforestant ne prenant en compte que le soja n’ayant pas participé à la déforestation ces 20 dernières années (soja non déforestant construit par le GIS REVALIM, en retravaillant les données Ecoinvent). Les inventaires suivants sont concernés par ce « soja non déforestant » : | B106: *https://eur-lex.europa.eu/legal-content/FR/TXT/?uri=uriserv%3AOJ.L_.2023.150.01.0206.01.FRA&toc=OJ%3AL%3A2023%3A150%3ATOC
A108: Graines de soja, Brésil, non associées à la déforestation, rendues port France
A109: Tourteau soja, Brésil, non associé à la déforestation, trituré au Brésil, rendu port (Brest)
A110: Tourteau soja, Brésil, non associé à la déforestation, trituré France, sortie usine trituration
A111: Huile de soja, Brésil, non associée à la déforestation, triturée au Brésil, rendue port (Brest)
A112: Huile de soja, Brésil, non associée à la déforestation, trituré France, sortie usine trituration
A114: ATTENTION : Le soja brésilien ECOALIM / AGRIBALYSE non associé à la déforestation correspond à la modélisation d'un soja cultivé dans des Etats non déforestants de longue date (=sur des parcelles non déforestées dans les 20 dernières années). Le seuil de 20 ans est basé sur le temps nécessaire pour que le carbone stocké atteigne l'équilibre (souvent 20 ans dans les méthodes par défaut du GIEC et du PAS 2050). Cette modélisation n'est en revanche pas alignée avec le règlement Cut-off date 2020 qui ne prend pas en compte ce qui s'est passé avant fin 2020. En effet, le règlement stipule que seuls les produits issus de cultures cultivées sur des parcelles non déforestées après le 31 décembre 2020 entreront le marché intérieur européen.
A116: Ainsi, afin de répondre à un besoin des utilisateurs de la base de données Agribalyse / Ecoalim, ont été introduits dans la nouvelle version de la base de données (Ecoalim 9 / Agribalyse 3.2), des sojas alignés avec le principe des « cut-off date » (un 2020, correspondant à la nouvelle réglementation en vigueur, et un 2008, correspondant à la date des cahiers des charges des labels non déforestants) :
A117: Graines de soja, Brésil, Cut-off date 2008, rendues port France
A118: Graines de soja, Brésil, Cut-off date 2020, rendues port France
A119: Huile de soja, Brésil, Cut-off date 2008, trituré France, sortie usine trituration
A120: Huile de soja, Brésil, Cut-off date 2020, trituré France, sortie usine trituration
A121: Huile de soja, Brésil, Cut-off date 2008, triturée Brésil, rendue port (Brest)
... A144: Figure 2b : Principe de modélisation du soja "Cut off date 2020" dans AGRIBALYSE / ECOALIM

Sheet NOTE SOJA EN
A1: Note on SOYBEAN data for animal feed* in the AGRIBALYSE 3.2 database (= ECOALIM 9) | B1: *For human consumption, a consumption mix including soybeans of different origins has been constructed (French soybeans, Brazilian soybeans, American soybeans and Canadian soybeans, based on statistical data and the expertise of technical institutes and France Agrimer).
A3: Sommaire
A4: Introduction
A5: Soybean data in the AGRIBALYSE / ECOALIM database
A6: Focus on Brazilian soybeans in AGRIBALYSE / ECOALIM
A7: Difference in impact between GFLI and Ecoinvent/Agribalyse data
A8: Important changes in the impact results for Brazilian soybeans in the new version Agribalyse 3.2 / Ecoalim 9
A9: Integration of new data in AGRIBALYSE / ECOALIM to represent soybean “cut-off date” 2020 and 2008
A12: Introduction
A13: International databases (AGRIBALYSE, GFLI-Agrifootprint, Ecoinvent, WFLDB...) co-exist with different environmental data (notably climate change emission factors) relating to soybean production. This situation is explained by different methodological choices, different source data and different time steps depending on the database, and leads to considerable confusion among data users. Furthermore, with the implementation in Europe of the regulation on imported deforestation, AGRIBALYSE / ECOALIM now integrates data representing Brazilian soy compatible with the “cut-off date 2020” regulation (no deforestation after 2020) and another representing Brazilian soy compatible with a “cut-off date 2008” (i.e. corresponding to soy production certified as deforestation-free since 2008). In this context, this note aims to clarify and specify the choices concerning the modeling of the environmental impacts of the different soybeans in the AGRIBALYSE database (ECOALIM*). | B13: *ECOALIM is the "Animal nutrition/Feed part" of the AGRIBALYSE database
A15: In the rest of the document, for simplicity's sake, we'll refer to AGRIBALYSE as AGRIBALYSE version 3.2 and ECOALIM as ECOLALIM 9.
A17: Soybean data in the AGRIBALYSE database (ECOALIM)
A18: The data on soybeans used for animal feed in the AGRIBALYSE (ECOALIM) database concerns soybean production in various countries (France, Brazil, USA). Thus, even if Argentinean soy is used in France, we considered that the volumes were not yet significant enough to be included in the Agribalyse database. Several data sets for French, Brazilian and American soybeans have been produced: - Through the ECOALIM project (2013-2016), for FR and USA soybeans; - By adapting data produced by Ecoinvent for Brazilian soybeans.
A46: Focus on Brazilian soybeans in AGRIBALYSE / ECOALIM (Data source: Ecoinvent / EMBRAPA)
A47: The Guéneau report (Soja - Etat des lieux sur la déforestation et les standards de durabilité - 2021) estimates that probably 70% to 80% of soybean meal entering France originates in Brazil, including re-exports from European countries to France. Thus, the soy used for animal feed in the animal production inventories in the Agribalyse database is, by simplification, 100% Brazilian soy*. Databases providing environmental impact values (emission factors) for Brazilian soybean production use all or part of the data compiled by EMBRAPA (Brazilian agricultural research institute). However, there are major differences in the impact of the different databases - for example : | B47: *A soybean “consumption mix” has been created for human consumption, since the soy used in human food products comes in greater proportion from other origins (France, Brazil, USA, Canada).
A54: Where do these differences come from? GIS REVALIM, with the support of experts consulted specifically on this subject, have analyzed these differences:
A55: -> The main contribution to GHG emissions is linked to the change in land use prior to soybean production (i.e. deforestation, i.e. from forest to cropland). The way in which land use change is modelled in databases and allocated to soy production is therefore of major importance.
A56: Deforestation associated with soybean production differs greatly from one Brazilian state to another. As a result, impact results differ according to the finesse of the modeling, which may or may not differentiate the region of soy production in Brazil. It therefore seems important to regionalize inventory data as finely as possible.
A57: -> The GFLI-Agrifootprint 2.0 and Ecoinvent 9.1 databases apply different models for modeling land use change: according to our analysis, Ecoinvent 9.1 applies the most accurate and up-to-date model than the GFLI-Agrifootprint 2. 0 database, with a level of territorial aggregation more in line with practices and the use of spatially explicit data rather than data based on national statistics (finer spatialization of land use change and therefore of emissions associated with deforestation, then aggregation of the various regionalized inventories for the different exporting regions of Brazil). Furthermore, GFLI 2.0 does not use the latest data made available by EMBRAPA (see explanations below). Other methodological differences were also highlighted by the analysis (but with a lesser impact on the results): the data sources are different for soil organic carbon values and for the inclusion of N20 emissions.
A59: After consulting experts, GIS REVALIM concluded that it would be more appropriate to use Ecoinvent data for soy in Agribalyse, whose impact values are closer to the original EMBRAPA values, and finer in terms of spatialization of practices and in particular of the change in land use (deforestation) associated with soy production.
A61: A major change in the impact results for Brazilian soybeans in the new version Agribalyse 3.2 / Ecoalim 9
A62: The climate change impact of Brazilian soybean decreases significantly between Agribalyse 3.1.1 and Agribalyse 3.2 (i.e. between Ecoalim 8 and Ecoalim 9), due to a change in land use change modeling method between Ecoinvent 3.8 and 3.9: - Ecoinvent 3.8: 2.6 kg CO2eq/kg soybean (EF 3.1 method: GWP 100, IPCC 2021) - Ecoinvent 3.9: 1,6 kg CO2eq/kg soybean (EF 3.1 method: GWP 100, IPCC 2021) This drop in impact is linked to a change in EMBRAPA's method of modeling land use change: spatially explicit data are now used, rather than statistical data on crop expansion, based on the work of Garofalo et al, 2022. This new method of modelling land-use change has a significant impact on the results obtained, leading to results in opposite directions for the four main uses of agricultural land in Brazil (grassland and temporary crops such as maize, which see their impacts increase, versus soya and sugar cane, which see their impacts decrease). These new results are in line with geospatial studies which highlight the fact that temporary grasslands are identified as the first occupations to occupy deforested areas, mainly in Amazonia.
A85: This may be due to an excessive burden on soybeans in previous modelling caused by the allocation of direct land use change to soybeans, and not to the first post-deforestation crops (due to the strong expansion of soybeans in national statistics, a situation typical of indirect land use change accounting). Considering that approaches integrating indirect land-use change have other objectives (and different applications), and given that indirect land-use change should not be taken into account in the assessment of direct change, this new model seems more appropriate within the framework of attributional LCA databases, such as Agribalyse/Ecoalim and Ecoinvent.
A102: This significant change in the Climate Change indicator between the Agribalyse / Ecoalim / Ecoinvent versions does not mean that soy-related deforestation has decreased, but that the new method for modeling land-use change using spatially explicit data, which is more reliable than the statistical data used previously, estimates that deforestation associated with soy production is ultimately less significant than previously estimated via statistical approaches.
A103: Note that GFLI data should logically follow the same trends in future versions.
A105: Integration of new data in AGRIBALYSE / ECOALIM to represent soybean “cut-off dates” 2020 and 2008
A106: On June 9, 2023, Regulation (EU) 2023/1115 of the European Parliament and of the Council of May 31, 2023, on the placing on the market and export from the Union of certain commodities and products associated with deforestation and forest degradation, and repealing Regulation (EU) No 995/2010 (RDUE)* was published in the Official Journal of the European Union. The aim of this regulation is to minimize the risk of deforestation and forest degradation associated with imported products, by prohibiting access to the European market for products derived from crops grown on deforested land after December 31, 2020. The products concerned are: cattle, cocoa, coffee, oil palm, rubber, soy and wood. Since version 8 of Ecoalim (3.1.1 of Agribalyse), two Brazilian soybeans are available: - An “average” soybean, corresponding to a mix of soybeans grown on deforested and non-deforested plots (Ecoinvent mix based on data from the Brazilian institute EMBRAPA); - A non-deforesting Brazilian soybean, taking into account only soybeans that have not contributed to deforestation over the past 20 years (non-deforesting soybean constructed by GIS REVALIM, by reworking Ecoinvent data). The following inventories are concerned by this “non-deforesting soy”: | B106: *https://eur-lex.europa.eu/legal-content/FR/TXT/?uri=uriserv%3AOJ.L_.2023.150.01.0206.01.FRA&toc=OJ%3AL%3A2023%3A150%3ATOC
A108: Soybean, Brazil, not associated to deforestation, at french port
A109: Soybean meal, Brazil, not associated to deforestation, crushing in Brazil, at french port
A110: Soybean meal, Brazil, not associated to deforestation, crushing in France, at plant
A111: Soybean oil, Brazil, not associated to deforestation, crushing in Brazil, at french port
A112: Soybean oil, Brazil, not associated to deforestation, crushing in France, at plant
A114: WARNING: Brazilian ECOALIM / AGRIBALYSE soybeans not associated with deforestation correspond to the modeling of soybeans grown in states that have not deforested for a long time (=on plots that have not been deforested in the last 20 years). The 20-year threshold is based on the time needed for the stored carbon to reach equilibrium (often 20 years in the IPCC and PAS 2050 default methods). However, this modeling is not aligned with the Cut-off date 2020 regulation, which does not take into account what happened before the end of 2020. Indeed, the regulation stipulates that only products from crops grown on non-deforested land after December 31, 2020 will enter the European internal market.
A116: In response to a need expressed by users of the Agribalyse / Ecoalim database, the new version of the database (Ecoalim 9 / Agribalyse 3.2) includes soybeans aligned with the “cut-off date” principle (2020, corresponding to the new regulations in force, and 2008, corresponding to the date of the specifications for non-deforesting labels):
A117: Soybean, Brazil, Cut-off date 2008, at french port
A118: Soybean, Brazil, Cut-off date 2020, at french port
A119: Soybean meal, Brazil, Cut-off date 2008, crushing in Brazil, at french port
A120: Soybean meal, Brazil, Cut-off date 2020, crushing in Brazil, at french port
A121: Soybean meal, Brazil, Cut-off date 2008, crushing in France, at plant
... A144: Figure 2b: “Cut off date 2020” soybean modeling principle in AGRIBALYSE / ECOALIM

Sheet v9_ACV MP ECOALIM FR
H1: Impacts ACV (par kg de matière première) - METHODE ECOALIM | S1: Impacts ACV (par kg de matière première) - METHODE EF3.1. Indicateurs identiques à ECOALIM : changement climatique, acidification, 3 eutrophisations
A2: Nom ICV simapro | B2: Familles des matières premières destinées aux animaux d'élevage | C2: Matières premières | D2: Périmètre | E2: Donnée moyenne ou déclinaison | F2: Pays de la production primaire de la MP brute | G2: Pays de la transformation | H2: Consommation de Phosphore (kg P) | I2: Consommation d'énergie : non renouvelable fossile + nucléaire - CED 1.11 (MJ) | J2: Changement climatique - EF 3.1 (kg CO2 eq) | K2: Acidification - EF3.1 (molc H+ eq) | L2: Eutrophisation - CML baseline (kg PO4---eq) | M2: Occupation du sol - CML non baseline (m2a) | N2: Eutrophisation terrestre - EF 3.1 (mol N eq) | O2: Eutrophisation d'eau douce - EF 3.1 (kg P eq) | P2: Eutrophisation marine - EF 3.1 (kg N eq) | Q2: Consommation d'énergie : total - CED 1.11 (MJ) - WITHOUT ENERGY GROSS CALORIFIC VALUE | R2: Consommation d'énergie : totale - CED 1.11 (MJ) | S2: Score unique EF3.1 (mPt) | T2: Changement climatique (kg CO2 eq) | U2: Appauvrissement de la couche d'ozone (kg CFC11 eq) | V2: Rayonnements ionisants (kBq U-235 eq) | W2: Formation photochimique d'ozone (kg NMVOC eq) | X2: Particules (disease inc.) | Y2: Effets toxicologiques sur la santé humaine : substances non-cancérogènes* (CTUh) | Z2: Effets toxicologiques sur la santé humaine : substances cancérogènes* (CTUh) | AA2: Acidification terrestre et eaux douces (mol H+ eq) | AB2: Eutrophisation eaux douces (kg P eq) | AC2: Eutrophisation marine (kg N eq) | AD2: Eutrophisation terreste (mol N eq) | AE2: Écotoxicité pour écosystèmes aquatiques d'eau douce (CTUe) | AF2: Utilisation du sol (Pt) | AG2: Épuisement des ressources eau (m3 depriv.) | AH2: Épuisement des ressources énergétiques (MJ) | AI2: Épuisement des ressources minéraux (kg Sb eq) | AJ2: Changement climatique - biogénique (kg CO2 eq/kg) | AK2: Changement climatique - fossile (kg CO2 eq/kg) | AL2: Changement climatique - changement d'affectation des sols (kg CO2 eq/kg)
A3: Arginine S {BR} U | B3: Acides aminées et autres produits | C3: Arginine, Brésil, sortie usine fabrication | D3: sortie usine | E3: moyenne | F3: Brésil | G3: Multi-origine | H3: 0.0099035886 | I3: 83.090895 | J3: 5.2777236 | K3: 0.040691334 | L3: 0.014060187 | M3: 0.23946304 | N3: 0.15223965 | O3: 0.00086346942 | P3: 0.020984514 | Q3: 206.65468 | R3: 99.995623 | S3: 0.72253211 | T3: 5.2777236 | U3: 5.1919127e-07 | V3: 0.20308078 | W3: 0.02440035 | X3: 6.6001875e-07 | Y3: 8.6115947e-08 | Z3: 3.7442951e-09 | AA3: 0.040691334 | AB3: 0.00086346942 | AC3: 0.020984514 | AD3: 0.15223965 | AE3: 164.41071 | AF3: 171.57294 | AG3: 3.5610257 | AH3: 76.290416 | AI3: 9.0169142e-05 | AJ3: 0.16612311 | AK3: 5.691564 | AL3: -0.57996349
A4: Arginine S {CN} U | B4: Acides aminées et autres produits | C4: Arginine, Chine, sortie usine fabrication | D4: sortie usine | E4: moyenne | F4: Chine | H4: 0.011779037 | I4: 167.42999 | J4: 16.648908 | K4: 0.12416583 | L4: 0.015506186 | M4: 0.444498 | N4: 0.2928326 | O4: 0.0038432205 | P4: 0.024927422 | Q4: 177.05489 | R4: 174.86087 | S4: 2.9140161 | T4: 16.648908 | U4: 5.6298064e-07 | V4: 0.43122356 | W4: 0.050274385 | X4: 1.7290801e-06 | Y4: 4.0667859e-07 | Z4: 6.0776762e-09 | AA4: 0.12416583 | AB4: 0.0038432205 | AC4: 0.024927422 | AD4: 0.2928326 | AE4: 3947.2152 | AF4: 204.63452 | AG4: 6.1225456 | AH4: 157.38659 | AI4: 0.00012782657 | AJ4: 0.0099943685 | AK4: 16.540891 | AL4: 0.098023135
A5: Arginine S {KR} U | B5: Acides aminées et autres produits | C5: Arginine, Corée du sud, sortie usine fabrication | D5: sortie usine | E5: moyenne | F5: Corée du sud | H5: 0.019642219 | I5: 141.3639 | J5: 9.8602266 | K5: 0.04867871 | L5: 0.02151294 | M5: 1.2073389 | N5: 0.15063745 | O5: 0.0043342432 | P5: 0.015778862 | Q5: 188.04174 | R5: 144.04236 | S5: 1.0566563 | T5: 9.8602266 | U5: 5.6283586e-07 | V5: 1.0439318 | W5: 0.031457879 | X5: 3.8711836e-07 | Y5: 1.6846873e-07 | Z5: 5.0699489e-09 | AA5: 0.04867871 | AB5: 0.0043342432 | AC5: 0.015778862 | AD5: 0.15063745 | AE5: 183.13529 | AF5: 71.787198 | AG5: 9.0298117 | AH5: 132.19559 | AI5: 0.00012872062 | AJ5: 0.011783037 | AK5: 9.7507003 | AL5: 0.097743264
A6: Arginine S {FR} U | B6: Acides aminées et autres produits | C6: Arginine, France, sortie usine fabrication | D6: sortie usine | E6: moyenne | F6: France | H6: 0.045015603 | I6: 80.452021 | J6: 5.4863177 | K6: 0.017101217 | L6: 0.0061674212 | M6: 1.6717695 | N6: 0.055378136 | O6: 0.00085271321 | P6: 0.0066452565 | Q6: 122.32334 | R6: 82.596568 | S6: 0.51805822 | T6: 5.4863177 | U6: 5.8953853e-07 | V6: 0.18414245 | W6: 0.01361021 | X6: 1.252302e-07 | Y6: 7.6763593e-08 | Z6: 2.5836553e-09 | AA6: 0.017101217 | AB6: 0.00085271321 | AC6: 0.0066452565 | AD6: 0.055378136 | AE6: 112.61448 | AF6: 88.217894 | AG6: 1.9530294 | AH6: 73.321642 | AI6: 8.6479781e-05 | AJ6: 0.0079178931 | AK6: 5.3249851 | AL6: 0.15341468
A7: Arginine S {ID} U | B7: Acides aminées et autres produits | C7: Arginine, Indonésie, sortie usine fabrication | D7: sortie usine | E7: moyenne | F7: Indonésie | H7: 0.0076330237 | I7: 107.83167 | J7: 8.7268566 | K7: 0.043918921 | L7: 0.0334228 | M7: 0.11377903 | N7: 0.11943574 | O7: 0.0096940598 | P7: 0.025442361 | Q7: 112.11928 | R7: 111.52962 | S7: 2.294867 | T7: 8.7268566 | U7: 6.0260013e-07 | V7: 0.17119937 | W7: 0.029094921 | X7: 5.7843566e-07 | Y7: 2.6305978e-07 | Z7: 2.5277971e-09 | AA7: 0.043918921 | AB7: 0.0096940598 | AC7: 0.025442361 | AD7: 0.11943574 | AE7: 3839.5856 | AF7: 561.43675 | AG7: 1.919509 | AH7: 97.945246 | AI7: 9.4085041e-05 | AJ7: 0.020816307 | AK7: 8.6127631 | AL7: 0.093277132
A8: DL-Methionine, animal feed, at retailer gate {RER} U | B8: Acides aminées et autres produits | C8: DL-méthionine, Europe, sortie usine fabrication | D8: sortie usine | E8: moyenne | F8: Europe | H8: 0.00057137984 | I8: 87.211153 | J8: 3.1245617 | K8: 0.015085822 | L8: 0.001387192 | M8: 0.026111842 | N8: 0.017419774 | O8: 0.00022751121 | P8: 0.0017760359 | Q8: 88.653889 | R8: 88.390163 | S8: 0.27068939 | T8: 3.1245617 | U8: 4.3851807e-08 | V8: 0.57783132 | W8: 0.0085835482 | X8: 1.361377e-07 | Y8: 8.5214368e-09 | Z8: 4.8545023e-10 | AA8: 0.015085822 | AB8: 0.00022751121 | AC8: 0.0017760359 | AD8: 0.017419774 | AE8: 4.0007428 | AF8: 1.8905054 | AG8: 0.82851691 | AH8: 80.987488 | AI8: 4.9079235e-06 | AJ8: 0.0026867162 | AK8: 3.1214862 | AL8: 0.00038877531
A9: Histidine S {BR} U | B9: Acides aminées et autres produits | C9: Histidine, Brésil, sortie usine fabrication | D9: sortie usine | E9: moyenne | F9: Brésil | H9: 0.0099036046 | I9: 83.090911 | J9: 5.2777238 | K9: 0.04069139 | L9: 0.014060212 | M9: 0.23946312 | N9: 0.15223989 | O9: 0.0008634698 | P9: 0.020984553 | Q9: 206.65497 | R9: 99.995643 | S9: 0.72253254 | T9: 5.2777238 | U9: 5.1919131e-07 | V9: 0.2030808 | W9: 0.024400364 | X9: 6.6001917e-07 | Y9: 8.6115995e-08 | Z9: 3.7442967e-09 | AA9: 0.04069139 | AB9: 0.0008634698 | AC9: 0.020984553 | AD9: 0.15223989 | AE9: 164.41088 | AF9: 171.57336 | AG9: 3.5610287 | AH9: 76.290431 | AI9: 9.0169156e-05 | AJ9: 0.1661231 | AK9: 5.6915661 | AL9: -0.57996546
A10: Histidine S {ID} U | B10: Acides aminées et autres produits | C10: Histidine, Indonésie, sortie usine fabrication | D10: sortie usine | E10: moyenne | F10: Indonésie | H10: 0.0076414123 | I10: 108.90608 | J10: 8.8179937 | K10: 0.047109172 | L10: 0.034202007 | M10: 3.4866223 | N10: 0.13654904 | O10: 0.0097142661 | P10: 0.026965005 | Q10: 137.89349 | R10: 112.62075 | S10: 2.3500417 | T10: 8.8179937 | U10: 6.1545961e-07 | V10: 0.17237456 | W10: 0.033356483 | X10: 7.3136226e-07 | Y10: 2.715447e-07 | Z10: 2.8095742e-09 | AA10: 0.047109172 | AB10: 0.0097142661 | AC10: 0.026965005 | AD10: 0.13654904 | AE10: 3840.7362 | AF10: 677.62074 | AG10: 1.9243197 | AH10: 98.955711 | AI10: 9.4302839e-05 | AJ10: 0.021948001 | AK10: 8.7019378 | AL10: 0.094107907
A11: Isoleucine S {CN} U | B11: Acides aminées et autres produits | C11: Isoleucine, Chine, sortie usine fabrication | D11: sortie usine | E11: moyenne | F11: Chine | H11: 0.041764379 | I11: 459.50062 | J11: 51.547117 | K11: 0.41968884 | L11: 0.043909282 | M11: 2.8140008 | N11: 0.82881147 | O11: 0.010720332 | P11: 0.069682965 | Q11: 489.12655 | R11: 473.49859 | S11: 8.004921 | T11: 51.547117 | U11: 6.245685e-07 | V11: 0.91497747 | W11: 0.14956191 | X11: 6.2469836e-06 | Y11: 1.0657376e-06 | Z11: 1.458457e-08 | AA11: 0.41968884 | AB11: 0.010720332 | AC11: 0.069682965 | AD11: 0.82881147 | AE11: 10242.376 | AF11: 628.6305 | AG11: 12.008743 | AH11: 433.68233 | AI11: 0.0001379012 | AJ11: 0.015656962 | AK11: 51.427339 | AL11: 0.10412184
A12: Isoleucine S {FR} U | B12: Acides aminées et autres produits | C12: Isoleucine, France, sortie usine fabrication | D12: sortie usine | E12: moyenne | F12: France | H12: 0.12910564 | I12: 211.96992 | J12: 13.452663 | K12: 0.048339112 | L12: 0.012477047 | M12: 5.8286752 | N12: 0.13383991 | O12: 0.001344788 | P12: 0.014934987 | Q12: 327.48011 | R12: 214.25333 | S12: 0.97871922 | T12: 13.452663 | U12: 8.3399747e-07 | V12: 0.30688944 | W12: 0.033267112 | X12: 2.9265535e-07 | Y12: 1.2024822e-07 | Z12: 4.5778287e-09 | AA12: 0.048339112 | AB12: 0.001344788 | AC12: 0.014934987 | AD12: 0.13383991 | AE12: 153.05658 | AF12: 308.40289 | AG12: -0.034443253 | AH12: 192.40618 | AI12: 3.1512512e-05 | AJ12: 0.010276524 | AK12: 13.191921 | AL12: 0.25046544
A13: Leucine S {FR} U | B13: Acides aminées et autres produits | C13: Leucine, France, sortie usine fabrication | D13: sortie usine | E13: moyenne | F13: France | H13: 0.076110874 | I13: 135.63526 | J13: 8.7123247 | K13: 0.031219095 | L13: 0.0077778056 | M13: 3.1136965 | N13: 0.080566704 | O13: 0.00088097367 | P13: 0.0092514569 | Q13: 202.22819 | R13: 137.24019 | S13: 0.62664997 | T13: 8.7123247 | U13: 5.8173712e-07 | V13: 0.2196737 | W13: 0.020901468 | X13: 1.9068487e-07 | Y13: 7.3871934e-08 | Z13: 2.7843704e-09 | AA13: 0.031219095 | AB13: 0.00088097367 | AC13: 0.0092514569 | AD13: 0.080566704 | AE13: 86.376195 | AF13: 163.84779 | AG13: 0.65458712 | AH13: 123.11156 | AI13: 2.0749821e-05 | AJ13: 0.0074643111 | AK13: 8.5573705 | AL13: 0.14748993
A14: Lysine solid (HCl) S {CN} U | B14: Acides aminées et autres produits | C14: L-lysine HCl, Chine, sortie usine fabrication | D14: sortie usine | E14: moyenne | F14: Chine | H14: 0.010844339 | I14: 78.053224 | J14: 8.1591576 | K14: 0.0650328 | L14: 0.0082646799 | M14: 4.017977 | N14: 0.16885993 | O14: 0.0020005531 | P14: 0.014028517 | Q14: 107.33547 | R14: 81.11919 | S14: 1.6714505 | T14: 8.1591576 | U14: 1.6163238e-07 | V14: 0.21081882 | W14: 0.025600453 | X14: 8.4215343e-07 | Y14: 2.2761798e-07 | Z14: 3.1739985e-09 | AA14: 0.0650328 | AB14: 0.0020005531 | AC14: 0.014028517 | AD14: 0.16885993 | AE14: 2470.0339 | AF14: 334.44207 | AG14: 5.4686239 | AH14: 73.320592 | AI14: 6.826657e-05 | AJ14: 0.0064225265 | AK14: 8.1158628 | AL14: 0.036872296
A15: Lysine solid (HCl) S {KR} U | B15: Acides aminées et autres produits | C15: L-lysine HCl, Corée du sud, sortie usine fabrication | D15: sortie usine | E15: moyenne | F15: Corée du sud | H15: 0.01602545 | I15: 65.264771 | J15: 5.1143911 | K15: 0.027851125 | L15: 0.011419496 | M15: 4.5131412 | N15: 0.089574652 | O15: 0.0019952138 | P15: 0.0093688813 | Q15: 119.22012 | R15: 66.401721 | S15: 0.57748844 | T15: 5.1143911 | U15: 1.5866753e-07 | V15: 0.39439227 | W15: 0.017429904 | X15: 2.2143616e-07 | Y15: 9.5374489e-08 | Z15: 2.7555281e-09 | AA15: 0.027851125 | AB15: 0.0019952138 | AC15: 0.0093688813 | AD15: 0.089574652 | AE15: 95.203765 | AF15: 252.39474 | AG15: 5.6747977 | AH15: 60.947692 | AI15: 7.0475734e-05 | AJ15: 0.0070293921 | AK15: 5.0692203 | AL15: 0.038141395
... A32: Valine S {FR} U | B32: Acides aminées et autres produits | C32: Valine, France, sortie usine fabrication | D32: sortie usine | E32: moyenne | F32: France | H32: 0.05418148 | I32: 86.609828 | J32: 5.6737993 | K32: 0.022254678 | L32: 0.0054484594 | M32: 2.0656366 | N32: 0.053757135 | O32: 0.00063134465 | P32: 0.0063198886 | Q32: 131.31215 | R32: 87.823294 | S32: 0.42394834 | T32: 5.6737993 | U32: 3.9116086e-07 | V32: 0.1673258 | W32: 0.013636058 | X32: 1.3234033e-07 | Y32: 5.2464923e-08 | Z32: 1.9831308e-09 | AA32: 0.022254678 | AB32: 0.00063134465 | AC32: 0.0063198886 | AD32: 0.053757135 | AE32: 70.397262 | AF32: 108.87929 | AG32: 0.82002762 | AH32: 78.683112 | AI32: 1.652919e-05 | AJ32: 0.0060448439 | AK32: 5.5685343 | AL32: 0.099220196
A33: Arginine, consumption mix {FR} U | B33: Acides aminées et autres produits | C33: Arginine, mix de consommation Français | D33: Arrivée en France | E33: moyenne | F33: Multi-origine | G33: Multi-origine | H33: 0.010663681 | I33: 155.18929 | J33: 14.786523 | K33: 0.10764677 | L33: 0.020873725 | M33: 0.3644042 | N33: 0.26062416 | O33: 0.0054458721 | P33: 0.026394246 | Q33: 163.45933 | R33: 161.67945 | S33: 2.7792472 | T33: 14.786523 | U33: 5.7848148e-07 | V33: 0.36939659 | W33: 0.048685163 | X33: 1.4319573e-06 | Y33: 3.6960425e-07 | Z33: 5.2629125e-09 | AA33: 0.10764677 | AB33: 0.0054458721 | AC33: 0.026394246 | AD33: 0.26062416 | AE33: 3919.9072 | AF33: 302.16377 | AG33: 5.0022407 | AH33: 144.96273 | AI33: 0.00011923671 | AJ33: 0.013022849 | AK33: 14.67654 | AL33: 0.096960167
A34: Histidine, consumption mix {FR} U | B34: Acides aminées et autres produits | C34: Histidine, mix de consommation Français | D34: Arrivée en France | E34: moyenne | F34: Multi-origine | G34: Multi-origine | H34: 0.0099086279 | I34: 87.164423 | J34: 5.5608844 | K34: 0.0441204 | L34: 0.014440686 | M34: 0.251647 | N34: 0.16195325 | O34: 0.00088598181 | P34: 0.02187225 | Q34: 210.80868 | R34: 104.1311 | S34: 0.75120896 | T34: 5.5608844 | U34: 5.2459959e-07 | V34: 0.21062916 | W34: 0.027345931 | X34: 6.7669625e-07 | Y34: 8.829235e-08 | Z34: 3.8850979e-09 | AA34: 0.0441204 | AB34: 0.00088598181 | AC34: 0.02187225 | AD34: 0.16195325 | AE34: 166.27827 | AF34: 173.28057 | AG34: 3.577876 | AH34: 80.124215 | AI34: 9.0854783e-05 | AJ34: 0.16622357 | AK34: 5.9744319 | AL34: -0.57977107
A35: Isoleucine, consumption mix {FR} U | B35: Acides aminées et autres produits | C35: Isoleucine, mix de consommation Français | D35: Arrivée en France | E35: moyenne | F35: Multi-origine | G35: Multi-origine | H35: 0.076703799 | I35: 363.15311 | J35: 36.498844 | K35: 0.27436803 | L35: 0.031681301 | M35: 4.0270047 | N35: 0.56004196 | O35: 0.0069876672 | P35: 0.048622928 | Q35: 427.20035 | R35: 372.51822 | S35: 5.2160169 | T35: 36.498844 | U35: 7.1168731e-07 | V35: 0.67842097 | W35: 0.10567667 | X35: 3.875099e-06 | Y35: 6.8878047e-07 | Z35: 1.0683826e-08 | AA35: 0.27436803 | AB35: 0.0069876672 | AC35: 0.048622928 | AD35: 0.56004196 | AE35: 6207.8551 | AF35: 501.45482 | AG35: 7.2022145 | AH35: 339.68093 | AI35: 9.5727297e-05 | AJ35: 0.013585701 | AK35: 36.322446 | AL35: 0.16281133
A36: Leucine, consumption mix {FR} U | B36: Acides aminées et autres produits | C36: Leucine, mix de consommation Français | D36: Arrivée en France | E36: moyenne | F36: Multi-origine | G36: Multi-origine | H36: 0.076111561 | I36: 136.10085 | J36: 8.743147 | K36: 0.031293915 | L36: 0.0077935493 | M36: 3.1155006 | N36: 0.080775468 | O36: 0.00088345566 | P36: 0.0092717751 | Q36: 202.70213 | R36: 137.71218 | S36: 0.62905446 | T36: 8.743147 | U36: 5.8240319e-07 | V36: 0.22043063 | W36: 0.021014468 | X36: 1.9297916e-07 | Y36: 7.4180735e-08 | Z36: 2.7991094e-09 | AA36: 0.031293915 | AB36: 0.00088345566 | AC36: 0.0092717751 | AD36: 0.080775468 | AE36: 86.591377 | AF36: 164.11351 | AG36: 0.65678612 | AH36: 123.54961 | AI36: 2.0849751e-05 | AJ36: 0.0074747106 | AK36: 8.5881658 | AL36: 0.14750651
A37: Lysine (liquid), consumption mix {FR} U | B37: Acides aminées et autres produits | C37: Lysine (liquide), mix de consommation Français | D37: Arrivée en France | E37: moyenne | F37: Multi-origine | G37: Multi-origine | H37: 0.0043705593 | I37: 43.227505 | J37: 3.0309723 | K37: 0.022215616 | L37: 0.0077986038 | M37: 1.4547252 | N37: 0.057798921 | O37: 0.0015169041 | P37: 0.0082289444 | Q37: 63.340592 | R37: 44.254925 | S37: 0.50447927 | T37: 3.0309723 | U37: 7.2733301e-08 | V37: 0.2947324 | W37: 0.013068181 | X37: 1.9829499e-07 | Y37: 5.7296808e-08 | Z37: 1.2822583e-09 | AA37: 0.022215616 | AB37: 0.0015169041 | AC37: 0.0082289444 | AD37: 0.057798921 | AE37: 475.66761 | AF37: 121.55202 | AG37: 4.4648678 | AH37: 39.985783 | AI37: 2.4062021e-05 | AJ37: 0.0050657447 | AK37: 3.0178917 | AL37: 0.0080147957
A38: Lysine solid (HCl), consumption mix {FR} U | B38: Acides aminées et autres produits | C38: L-Lysine HCl, mix de consommation Français | D38: Arrivée en France | E38: moyenne | F38: Multi-origine | G38: Multi-origine | H38: 0.010848744 | I38: 82.183962 | J38: 8.4544414 | K38: 0.070347972 | L38: 0.008829022 | M38: 4.0286638 | N38: 0.18408523 | O38: 0.0020281549 | P38: 0.015413496 | Q38: 111.57333 | R38: 85.333947 | S38: 1.7058075 | T38: 8.4544414 | U38: 1.6676671e-07 | V38: 0.22144679 | W38: 0.029912725 | X38: 8.5703568e-07 | Y38: 2.2947652e-07 | Z38: 3.3340957e-09 | AA38: 0.070347972 | AB38: 0.0020281549 | AC38: 0.015413496 | AD38: 0.18408523 | AE38: 2471.9022 | AF38: 335.7904 | AG38: 5.4850677 | AH38: 77.210167 | AI38: 6.8835909e-05 | AJ38: 0.0065504605 | AK38: 8.4107763 | AL38: 0.0371146
A39: Lysine sulfate, consumption mix {FR} U | B39: Acides aminées et autres produits | C39: Lysine sulfate, mix de consommation Français | D39: Arrivée en France | E39: moyenne | F39: Multi-origine | G39: Multi-origine | H39: 0.0073605166 | I39: 59.408584 | J39: 6.5190868 | K39: 0.051542313 | L39: 0.0074104705 | M39: 4.148941 | N39: 0.12405226 | O39: 0.0016482723 | P39: 0.011498325 | Q39: 87.592987 | R39: 61.533327 | S39: 1.120893 | T39: 6.5190868 | U39: 9.0909314e-08 | V39: 0.14114785 | W39: 0.023712234 | X39: 6.7066451e-07 | Y39: 1.4314686e-07 | Z39: 2.0118535e-09 | AA39: 0.051542313 | AB39: 0.0016482723 | AC39: 0.011498325 | AD39: 0.12405226 | AE39: 1497.6053 | AF39: 311.58038 | AG39: 2.6098784 | AH39: 55.88253 | AI39: 2.3583283e-05 | AJ39: 0.0053345245 | AK39: 6.4862068 | AL39: 0.027545398
