Workbook
Name _ftn1: 'NOTE SOJA EN'!$B$1
Name _ftn1: 'NOTE SOJA FR'!$B$1
Name _ftnref1: 'NOTE SOJA EN'!$A$1
Name _ftnref1: 'NOTE SOJA FR'!$A$1

Sheet Accueil
O1: Français
H2: Français | O2: English
B11: =IF(H2="Français","Bienvenue sur la base de données ECOALIM des ACV des matières premières de l'alimentation animale","Welcome on the data base ECOALIM : LCA data of feedstuffs for animal feed") -> Bienvenue sur la base de données ECOALIM des ACV des matières premières de l'alimentation animale
F12: Version : | G12: V9 - 12/11/2024
B15: =IF(H2="Français","Ce travail a été initialement réalisé dans le cadre du RMT Elevages et Environnement avec le soutien financié du CASDAR et de l'ADEME. Aujourd'hui, il constitue la partie nutrition animale de la base de donnée Agribalyse","This work has been carried out initialy by the national French network Livestock and Environment with the financial support of CASDAR and ADEME.Now, ECOALIM is the animal nutrition part of the french national database Agribalyse") -> Ce travail a été initialement réalisé dans le cadre du RMT Elevages et Environnement avec le soutien financié du CASDAR et de l'ADEME. Aujourd'hui, il constitue la partie nutrition animale de la base de donnée Agribalyse
B18: =IF(H2="Français","Partenraires","Partners") -> Partenraires | I18: =IF(H2="Français","Financeurs","Funding") -> Financeurs
B35: Mise à jour avec l'appui d'EVEA et des membres du GIS REVALIM :

Sheet Généralités
B2: =IF(Accueil!H2="français","La base de données ECOALIM regroupe des valeurs d’impacts environnementaux de matières premières entrant ou pouvant entrer dans l’alimentation animale."," The ECOALIM database includes values of environmental impacts of feed ingredients currently or possibly used in animal feed.") -> La base de données ECOALIM regroupe des valeurs d’impacts environnementaux de matières premières entrant ou pouvant entrer dans l’alimentation animale.
B3: =IF(Accueil!H2="français","Elle est destinée aux professionnels de la nutrition animale et permet une prise en compte de critères environnementaux dans l’étape de formulation des aliments du bétail pour : ","It is intended for animal nutrition companies and allows inclusion of environmental criteria in the formulation stage of feed to :") -> Elle est destinée aux professionnels de la nutrition animale et permet une prise en compte de critères environnementaux dans l’étape de formulation des aliments du bétail pour :
B4: =IF(Accueil!H2="français","- Evaluer l’impact environnemental de formulations :","- Assess the environmental impact of formulations for :") -> - Evaluer l’impact environnemental de formulations :
B5: =IF(Accueil!H2="français","o formulations complètes avec prise en compte des différents ingrédients (matières premières agricoles brutes ou transformées, produits industriels)","o Complete formulations taking into account the different ingredients (raw or processed agricultural commodities, industrial products)") -> o formulations complètes avec prise en compte des différents ingrédients (matières premières agricoles brutes ou transformées, produits industriels)
B6: =IF(Accueil!H2="français","o formules actuelles ou formulations innovantes avec mobilisation de matières premières émergentes,","o Current formulas or innovative formulations with mobilization emerging raw materials,") -> o formules actuelles ou formulations innovantes avec mobilisation de matières premières émergentes,
B7: =IF(Accueil!H2="français","o des aliments formulés en usine d’aliments ou au niveau d’atelier de fabrication à la ferme (données céréales sortie champ).","o Food formulated feed mill or at workshop on the farm (cereal field output data).") -> o des aliments formulés en usine d’aliments ou au niveau d’atelier de fabrication à la ferme (données céréales sortie champ).
B8: =IF(Accueil!H2="français","- Optimiser la formulation en prenant en compte des critères environnementaux.","- Optimize the formulation by taking into account environmental criteria.") -> - Optimiser la formulation en prenant en compte des critères environnementaux.
B10: =IF(Accueil!H2="français","Ces travaux s’insèrent dans le programme AGRIBALYSE, menés par le GIS REVALIM, qui fournit des références environnementales pour les produits agricoles et alimentaires français.","This work is part of the AGRIBALYSE program, carried out by the GIS REVALIM, which provides environmental references for French agricultural and food products.") -> Ces travaux s’insèrent dans le programme AGRIBALYSE, menés par le GIS REVALIM, qui fournit des références environnementales pour les produits agricoles et alimentaires français.
B11: =IF(Accueil!H2="français","Ecoalim constitue le volet nutrition animale de la base Agribalyse. Les mises à jour de la base de données ECOALIM suivent donc les mises à jour de la base de données AGRIBALYSE.","Ecoalim is the animal nutrition component of the Agribalyse database. Updates to the ECOALIM database therefore follow updates to the AGRIBALYSE database.") -> Ecoalim constitue le volet nutrition animale de la base Agribalyse. Les mises à jour de la base de données ECOALIM suivent donc les mises à jour de la base de données AGRIBALYSE.
B12: =IF(Accueil!H2="français","Pour suivre les mises à jour et en savoir plus sur l'accessibilité des données, se référer au site AGRIBALYSE : www.agribalyse.fr ","To follow updates and find out more about data accessibility, refer to the AGRIBALYSE website: www.agribalyse.fr") -> Pour suivre les mises à jour et en savoir plus sur l'accessibilité des données, se référer au site AGRIBALYSE : www.agribalyse.fr
B14: =IF(Accueil!H2="français","Des différences importantes d'impact peuvent être observées entre les versions 8 et 9 d'ECOALIM.","Significant differences in impact categories can be observed between versions 7 and 8 of ECOALIM .") -> Des différences importantes d'impact peuvent être observées entre les versions 8 et 9 d'ECOALIM.
B15: =IF(Accueil!H2="français","Ces différences sont en lien avec des mises à jour de méthodes de calcul et de données sous-jacentes.","These differences are related to updates of calculation methods and underlying data.") -> Ces différences sont en lien avec des mises à jour de méthodes de calcul et de données sous-jacentes.
B17: SOMMAIRE :
B18: =IF(Accueil!H2="français","1 - Organisation du fichier ECOALIM","1 - Organization of the ECOALIM file") -> 1 - Organisation du fichier ECOALIM
B19: =IF(Accueil!H2="français","2 - Présentation des colonnes de la base de données ECOALIM","2 - Presentation of the columns of the ECOALIM database") -> 2 - Présentation des colonnes de la base de données ECOALIM
B20: 3 - Précisions concernant les transports
B22: =IF(Accueil!H2="français","Organisation du fichier ECOALIM : Ce fichier comporte plusieurs onglet :","Organization of the ECOALIM file : This file has several tabs:") -> Organisation du fichier ECOALIM : Ce fichier comporte plusieurs onglet :
B23: NOTE SOJA | C23: => Note sur le soja
B24: ACV MP ECOALIM FR | C24: =IF(Accueil!H2="français","=> Base de données ECOALIM en français","=> ECOALIM database in French") -> => Base de données ECOALIM en français
B25: LCA Feedstuff ECOALIM EN | C25: =IF(Accueil!H2="français","=> Base de données ECOALIM en anglais","=> ECOALIM database in English") -> => Base de données ECOALIM en anglais
B26: Correspondances Simapro | C26: =IF(Accueil!H2="français","=> Correspondance entre les noms des inventaires dans ECOALIM et ceux dans Simapro","=> Correspondence between the LCI names in ECOALIM and in Simapro") -> => Correspondance entre les noms des inventaires dans ECOALIM et ceux dans Simapro
B27: Evolution v8-v9 | C27: =IF(Accueil!H2="français","=> Evolution des matières premières contenues dans ECOALIM entre la version 7 et la version 8","=> Evolution of Feedstuff ECOALIM between version 7 and version 8 ECOALIM") -> => Evolution des matières premières contenues dans ECOALIM entre la version 7 et la version 8
B28: Comparaison v8-v9 | C28: =IF(Accueil!H2="français","=> Comparaison des indicateurs d'impacts entre la version 7 et la version 8","=> Comparison of impact indicators between version 7 and version 8 ECOALIM") -> => Comparaison des indicateurs d'impacts entre la version 7 et la version 8
B31: =IF(Accueil!H2="français","Présentation des colonnes de la base de données ECOALIM","Presentation of the columns of the ECOALIM database") -> Présentation des colonnes de la base de données ECOALIM
H32: =IF(Accueil!H2="français","Impacts ACV (par kg de matière première) - METHODE ECOALIM - indicateurs principaux","ECOALIM Method - Main impact categories") -> Impacts ACV (par kg de matière première) - METHODE ECOALIM - indicateurs principaux | N32: =IF(Accueil!H2="français","Méthode ECOALIM - Indicateurs complémentaires","ECOALIM Method - Additional impact categories") -> Méthode ECOALIM - Indicateurs complémentaires | S32: =IF(Accueil!M2="français","Impacts ACV (par kg de matière première)- METHODE EF3.1. Indicateurs identiques à ECOALIM : changement climatique, acidification, 3 eutrophisations","LCA impact (per kg of feedstuff) - EF3.1 method. Same indicators as ECOALIM : climate change, acidification, 3 eutrophications") -> LCA impact (per kg of feedstuff) - EF3.1 method. Same indicators as ECOALIM : climate change, acidification, 3 eutrophications
B33: =IF(Accueil!H2="français","Familles des matières premières destinées aux animaux d'élevage","Types of feedstuffs for livestock") -> Familles des matières premières destinées aux animaux d'élevage | C33: =IF(Accueil!H2="français","Matières premières","Feedstuffs") -> Matières premières | D33: =IF(Accueil!H2="français","Périmètre","Perimeter") -> Périmètre | E33: =IF(Accueil!H2="français","Donnée moyenne ou déclinaison","Average data / subcategory") -> Donnée moyenne ou déclinaison | F33: =IF(Accueil!H2="français","Pays de la production primaire de la MP brute","Country of production for the raw feedstuff") -> Pays de la production primaire de la MP brute | G33: =IF(Accueil!H2="français","Pays de la transformation","Country of transformation for transformed feedstuff") -> Pays de la transformation | H33: =IF(Accueil!$H$2="français","Consommation de Phosphore (kg P)","Phosphorous consumption (kg P)") -> Consommation de Phosphore (kg P) | I33: =IF(Accueil!$H$2="français","Consommation d'énergie : non renouvelable fossile + nucléaire - CED 1.11 (MJ)","Cumulative energy demand : non renewable fossil+nuclear - CED 1.11 (MJ)") -> Consommation d'énergie : non renouvelable fossile + nucléaire - CED 1.11 (MJ) | J33: =IF(Accueil!$H$2="français","Changement climatique - EF 3.1 (kg CO2 eq)","Climate change - EF 3.1 (kg CO2 eq)") -> Changement climatique - EF 3.1 (kg CO2 eq) | K33: =IF(Accueil!$H$2="français","Acidification - EF3.1 (molc H+ eq)","Acidification - EF 3.1 (molc H+ eq)") -> Acidification - EF3.1 (molc H+ eq) | L33: =IF(Accueil!$H$2="français","Eutrophisation - CML baseline (kg PO4---eq)","Eutrophication - CML baseline (kg PO4---eq)") -> Eutrophisation - CML baseline (kg PO4---eq) | M33: =IF(Accueil!$H$2="français","Occupation du sol - CML non baseline (m2a)","Land competition - CML non baseline (m2a)") -> Occupation du sol - CML non baseline (m2a) | N33: =IF(Accueil!$H$2="français","Eutrophisation terrestre - EF 3.1 (mol N eq)","Eutrophication, terrestrial - EF 3.1 (mol N eq)") -> Eutrophisation terrestre - EF 3.1 (mol N eq) | O33: =IF(Accueil!$H$2="français","Eutrophisation d'eau douce - EF 3.1 (kg P eq)","Eutrophication, freshwater - EF 3.1 (kg P eq)") -> Eutrophisation d'eau douce - EF 3.1 (kg P eq) | P33: =IF(Accueil!$H$2="français","Eutrophisation marine - EF 3.1 (kg N eq)","Eutrophication, marine - EF 3.1 (kg N eq)") -> Eutrophisation marine - EF 3.1 (kg N eq) | Q33: =IF(Accueil!$H$2="français","Consommation d'énergie : totale - CED 1.11 (MJ)","Cumulative energy demand : total - CED 1.11 (MJ)") -> Consommation d'énergie : totale - CED 1.11 (MJ) | R33: =IF(Accueil!$H$2="français","Consommation d'énergie : totale - CED 1.11 (MJ) - WITHOUT ENERGY GROSS CALORIFIC VALUE","Cumulative energy demand : total - CED 1.11 (MJ) - WITHOUT ENERGY GROSS CALORIFIC VALUE") -> Consommation d'énergie : totale - CED 1.11 (MJ) - WITHOUT ENERGY GROSS CALORIFIC VALUE | S33: Score unique EF3.1 (mPt) | T33: Changement climatique (kg CO2 eq) | U33: Appauvrissement de la couche d'ozone (kg CFC11 eq) | V33: Rayonnements ionisants (kBq U-235 eq) | W33: Formation photochimique d'ozone (kg NMVOC eq) | X33: Particules (disease inc.) | Y33: Effets toxicologiques sur la santé humaine : substances non-cancérogènes* (CTUh) | Z33: Effets toxicologiques sur la santé humaine : substances cancérogènes* (CTUh) | AA33: Acidification terrestre et eaux douces (mol H+ eq) | AB33: Eutrophisation eaux douces (kg P eq) | AC33: Eutrophisation marine (kg N eq) | AD33: Eutrophisation terreste (mol N eq) | AE33: Écotoxicité pour écosystèmes aquatiques d'eau douce (CTUe) | AF33: Utilisation du sol (Pt) | AG33: Épuisement des ressources eau (m3 depriv.) | AH33: Épuisement des ressources énergétiques (MJ) | AI33: Épuisement des ressources minéraux (kg Sb eq) | AJ33: Changement climatique - biogénique (kg CO2 eq/kg) | AK33: Changement climatique - fossile (kg CO2 eq/kg) | AL33: Changement climatique - changement d'affectation des sols (kg CO2 eq/kg)
C36: =IF(Accueil!H2="français","Nom des MP de l'alimentation animale","Name of the feedstuff for animal feed") -> Nom des MP de l'alimentation animale | D36: =IF(Accueil!H2="français","Le périmètre peut-être la sortie champ ou la sortie organisme de stockage pour les céréales, la sortie usine de transformation pour les huiles et tourteaux par exemple, le port français pour les matières premières importées"&", le mix de consommation pour les acides aminés importés (transport jusqu'en France).","The perimeter could be at field gate, at storage agency, at mill, at consumption mix") -> Le périmètre peut-être la sortie champ ou la sortie organisme de stockage pour les céréales, la sortie usine de transformation pour les huiles et tourteaux par exemple, le port français pour les matières premières importées, le mix de consommation pour les acides aminés importés (transport jusqu'en France). | E36: =IF(Accueil!H2="français","Les données moyennes sont des moyennes France alors que les déclinaisons précisent des itinéraire culturaux spécifiques","The average data are French averages ; the subcategories are for specific ") -> Les données moyennes sont des moyennes France alors que les déclinaisons précisent des itinéraire culturaux spécifiques | F36: =IF(Accueil!H2="français","La production primaire est celle faite au champ","The raw production is the one realised at field") -> La production primaire est celle faite au champ | G36: =IF(Accueil!H2="français","La transformation concerne les étapes après le champ (en dehors du séchage des céréales) : trituration…","The transformation occurs after the field (apart from grain drying) : crushing,...") -> La transformation concerne les étapes après le champ (en dehors du séchage des céréales) : trituration… | H36: =IF(Accueil!H2="français","Impacts environnementaux exprimés par kilogramme de MP brute","Environmental impacts per kilogram of feedstuff") -> Impacts environnementaux exprimés par kilogramme de MP brute
B37: =IF(Accueil!H8="français","Précisions concernant les transports","Precisions regarding transport") -> Precisions regarding transport
B39: Dans les données ECO-ALIM, les impacts environnementaux des matières premières cultivées ou transformées en France sont présentés pour différents périmètres, en fonction de leur nature et des besoins des fabricants : en sortie champ (utile pour la fabrication d’aliments à la ferme), sortie organisme de stockage (OS), sortie usine de transformation et rendu port français pour les matières premières importées (voir les fiches par matière première). Pour les sorties OS, usine de transformation et rendu port, toutes les étapes de transports intermédiaires sont prises en compte dans les données d’inventaire. Pour les matières premières importées, le transport depuis le port d’exportation jusqu’au port français (Brest, Sète ou le Havre) est assuré par bateau. Par contre, les impacts environnementaux n’intègrent pas le transport nécessaire pour relier le périmètre de sortie au lieu de fabrication des aliments (usine ou ferme).
B41: Utilisation de la base de données ecoinvent en arrière-plan
B42: Les valeurs d’impacts environnementaux pour 1 tonne de matière première transportée sur 1 km, pour les différents modes de transport employés, sont disponibles uniquement pour les utilisateurs disposant d'une License ecoinvent® (selon les conditions d'usage des données ecoinvent). Nous n'avons plus l'autorisation de les communiquer dans ces tableurs. Pour en savoir plus sur les Licenses ecoinvent : https://ecoinvent.org/licenses/

Sheet NOTE SOJA FR
A1: Note sur les données relatives au SOJA pour l’alimentation animale* dans la base de données AGRIBALYSE 3.2 (= ECOALIM 9) | B1: *Pour l’alimentation humaine, un mix de consommation comprenant du soja de différentes origines a été construit (soja français, soja brésilien, soja américain et soja canadien, sur la base de données statistiques et de l’expertise des instituts techniques et de France Agrimer).
A3: Sommaire
A4: Introduction
A5: Données soja présentes dans la base de données AGRIBALYSE / ECOALIM
A6: Focus sur le soja brésilien dans AGRIBALYSE / ECOALIM
A7: Différence d'impact entre les données GFLI et Ecoinvent/Agribalyse
A8: Evolution importante des résultats d’impact du soja brésilien dans la nouvelle version Agribalyse 3.2 / Ecoalim 9
A9: Intégration de nouvelles données dans AGRIBALYSE / ECOALIM pour représenter le soja « cut-off date » 2020 et 2008
A12: Introduction
A13: Différentes données environnementales (notamment facteurs d’émissions sur le changement climatique) relatives à la production de soja co-existent dans les bases de données internationales (AGRIBALYSE, GFLI-Agrifootprint, Ecoinvent, WFLDB…). Cette situation s’explique par des choix méthodologiques différents, des données sources différentes ainsi que des pas de temps différents en fonction des bases de données, et entraine une grande confusion parmi les utilisateurs des données. Par ailleurs, avec l’implémentation en Europe de la réglementation sur la déforestation importée, AGRIBALYSE / ECOALIM intègre désormais des données représentant un soja brésilien compatible avec la réglementation « cut-off date 2020 » (pas de déforestation après 2020) et un autre représentant un soja brésilien compatible avec une « cut-off date 2008 » (c’est-à-dire correspondant aux productions de soja certifiées sans déforestation depuis 2008). Dans ce contexte, cette note vise à clarifier et préciser les choix concernant la modélisation des impacts environnementaux des différents soja dans la base de données AGRIBALYSE (ECOALIM*). | B13: *ECOALIM constitue la partie « Alimentation animale » de la base de données AGRIBALYSE
A15: Dans la suite du document, par simplification, on notera AGRIBALYSE pour AGRIBALYSE version 3.2 et ECOALIM pour ECOLALIM 9.
A17: Les données présentes sur le soja dans la base de données AGRIBALYSE (ECOALIM)
A18: Les données présentes sur le soja utilisé pour l’alimentation animale dans la base de données AGRIBALYSE (ECOALIM) concernent la production de soja issue de différents pays (France, Brésil, Etats-Unis). Ainsi, même si du soja argentin est utilisé en France, nous avons pour le moment considéré que les volumes n’étaient pas encore assez significatifs pour être introduits dans la base de données Agribalyse. Les jeux de données pour le soja français, brésilien et américain ont été réalisés : - A travers le projet ECOALIM (2013-2016), en ce qui concerne le soja FR et USA ; - Par l’adaptation de données produites par Ecoinvent en ce qui concerne le soja brésilien.
A46: Focus sur le soja brésilien dans AGRIBALYSE / ECOALIM (Source de données : Ecoinvent / EMBRAPA)
A47: Le rapport Guéneau (Soja - Etat des lieux sur la déforestation et les standards de durabilité - 2021) estime que probablement 70% à 80% des tourteaux de soja qui entrent sur le sol français sont originaires du Brésil, en incluant les ré-exportations des pays européens en France. Ainsi, le soja utilisé pour l’alimentation animale dans les inventaires de production animale dans la base de données Agribalyse sont, par simplification, à 100% du soja brésilien*. Les bases de données donnant des valeurs d’impacts environnementaux (facteurs d’émissions) relatifs à la production de soja brésilien utilisent partiellement ou totalement les données construites par l’EMBRAPA (institut brésilien de recherche sur l’agriculture). Pourtant des grandes différences d’impact sont présentes dans les différentes bases de données – exemple : | B47: *Un « mix de consommation » du soja a été construit pour l’alimentation humaine, puisque le soja utilisé dans les produits pour l’alimentation humaine provient en plus grande proportion d’autres origines (France, Brésil, Etats-Unis, Canada).
A54: D’où viennent ces différences ? Le GIS REVALIM, avec l’appui d’experts consultés spécifiquement sur ce sujet, ont analysé ces différences :
A55: -> La principale contribution aux émissions de GES est liée au changement d’utilisation des terres avant la production de soja (lié à l’estimation de la déforestation donc : passage de forêt à terres cultivées). La manière dont le changement d’utilisation des terres est modélisé dans les bases de données et alloué à la production de soja a donc une importance majeure.
A56: -> La déforestation associée à la production de soja diffère grandement d’un Etat à un autre du Brésil. Ainsi, les résultats d’impacts sont différents en fonction de la finesse de la modélisation différenciant ou non la région de production du soja au Brésil. Il parait donc important de régionaliser les données d’inventaires de la manière la plus fine possible.
A57: -> Les bases de données GFLI-Agrifootprint 2.0 et Ecoinvent 9.1 appliquent des modèles différents pour la modélisation du changement d’usage des sols : selon notre analyse, Ecoinvent 9.1 applique le modèle le plus précis et actualisé que la base de données GFLI-Agrifootprint 2.0, avec un niveau d’agrégation territoriale davantage en phase avec les pratiques et l’utilisation de données spatialement explicites plutôt que basées sur des statistiques nationales (spatialisation plus fine du changement d’utilisation des terres et donc des émissions associées à la déforestation puis agrégation des différents inventaires régionalisés pour les différentes régions exportatrices du Brésil). Par ailleurs, GFLI 2.0 n’utilise pas les dernières données mises à disposition par l’EMBRAPA (explications ci-dessous). A noter que d’autres différences méthodologiques ont également été mises en évidence par l’analyse (mais ayant un impact moindre sur les résultats) : les sources de données sont différentes pour les valeurs de carbone organique des sols et de prise en compte des émissions de N20.
A59: Après consultation d’experts, le GIS REVALIM a conclu qu’il était plus pertinent d’utiliser les données Ecoinvent pour le soja dans Agribalyse, dont les valeurs d’impact sont plus proches de celles originales de l’EMBRAPA et plus fine en termes de spatialisation des pratiques et notamment du changement d’utilisation des terres (déforestation) associée à la production de soja.
A61: Une évolution importante dans les résultats d’impact du soja brésilien dans la nouvelle version Agribalyse 3.2 / Ecoalim 9
A62: L’impact Changement Climatique du soja brésilien diminue de manière significative entre la version Agribalyse 3.1.1 et la version Agribalyse 3.2 (donc entre la version Ecoalim 8 et Ecoalim 9), en lien avec un changement de méthode de la modélisation du changement d’usage des terres entre les versions 3.8 et 3.9 d’Ecoinvent : - Ecoinvent 3.8: 2,6 kg CO2eq/kg soybean (EF 3.1 method: GWP 100, IPCC 2021) - Ecoinvent 3.9: 1,6 kg CO2eq/kg soybean (EF 3.1 method: GWP 100, IPCC 2021) Cette baisse d’impact est liée à un changement de méthode de l’EMBRAPA dans la manière de modéliser les changements d’usage des terres : désormais, ce sont des données spatialement explicites qui sont utilisées, et non plus des données statistiques d’expansion des cultures, sur la base des travaux de Garofalo et al, 2022. Cette nouvelle méthode de modélisation des changements d’usage des terres a des répercussions importantes sur les résultats obtenus induisant des résultats dans des directions opposées concernant les quatre principales utilisations des terres agricoles au Brésil (prairies et cultures temporaires comme le maïs qui voient leurs impacts augmenter versus soja et canne à sucre qui voient leurs impacts diminuer). Ces nouveaux résultats sont en phase avec les études géospatiales qui mettent en évidence le fait que les prairies temporaires sont identifiées comme les premières occupations pour occuper les zones déboisées, principalement en Amazonie.
A85: Cela peut être dû à une charge excessive sur le soja dans les modélisations précédentes causée par l'allocation du changement direct d’utilisation des terres au soja, et non aux premières cultures post-déforestation (en raison de la forte expansion du soja dans les statistiques nationales, une situation typique de la comptabilisation du changement indirect d’affectation des terres). Considérant que les approches intégrant les changements d’usage indirects d’utilisation des terres ont d’autres objectifs (et des applications différentes), et compte-tenu du fait que les changements d’usages indirects ne devraient pas être pris en compte dans l’évaluation des changements directs, ce nouveau modèle semble plus approprié dans le cadre des bases de données ACV attributionnelles, comme Agribalyse/Ecoalim et Ecoinvent.
A102: Ce changement important de l’indicateur Changement Climatique entre les versions Agribalyse / Ecoalim / Ecoinvent ne signifie pas que la déforestation liée au soja a diminué, mais que la nouvelle méthode pour modéliser le changement d’usage des terres à partir de données spatialement explicites, plus fiables que les données statistiques utilisées précédemment, estime que la déforestation associée à la production de soja est finalement moins importante que ce qui était précédemment estimé via les approches statistiques.
A103: A noter que les données GFLI devraient logiquement suivre les mêmes tendances dans les prochaines versions.
A105: L’intégration de nouvelles données dans AGRIBALYSE / ECOALIM pour représenter le soja « cut-off date » 2020 et 2008
A106: Le 9 juin 2023 le Règlement (UE) 2023/1115 du Parlement européen et du Conseil du 31 mai 2023 relatif à la mise à disposition sur le marché de l’Union et à l’exportation à partir de l’Union de certains produits de base et produits associés à la déforestation et à la dégradation des forêts, et abrogeant le règlement (UE) no 995/2010 (RDUE)* a été publié au Journal officiel de l’Union européenne. L’objectif de ce règlement est de réduire au minimum le risque de déforestation et de dégradation des forêts liées aux produits importés, en interdisant l’accès au marché européen de produits issus de cultures cultivés sur des parcelles déforestés après le 31 décembre 2020. Les produits concernés sont : les bovins, le cacao, le café, le palmier à huile, le caoutchouc, le soja et le bois. Depuis la version 8 d’Ecoalim (3.1.1 d’Agribalyse), deux sojas brésiliens sont disponibles : - Un soja « moyen » correspondant à un mix entre du soja cultivé sur des parcelles ayant été déforestées et d’autres non (mix Ecoinvent construit sur la base des données de l’institut brésilien EMBRAPA) ; - Un soja brésilien non déforestant ne prenant en compte que le soja n’ayant pas participé à la déforestation ces 20 dernières années (soja non déforestant construit par le GIS REVALIM, en retravaillant les données Ecoinvent). Les inventaires suivants sont concernés par ce « soja non déforestant » : | B106: *https://eur-lex.europa.eu/legal-content/FR/TXT/?uri=uriserv%3AOJ.L_.2023.150.01.0206.01.FRA&toc=OJ%3AL%3A2023%3A150%3ATOC
A108: Graines de soja, Brésil, non associées à la déforestation, rendues port France
A109: Tourteau soja, Brésil, non associé à la déforestation, trituré au Brésil, rendu port (Brest)
A110: Tourteau soja, Brésil, non associé à la déforestation, trituré France, sortie usine trituration
A111: Huile de soja, Brésil, non associée à la déforestation, triturée au Brésil, rendue port (Brest)
A112: Huile de soja, Brésil, non associée à la déforestation, trituré France, sortie usine trituration
A114: ATTENTION : Le soja brésilien ECOALIM / AGRIBALYSE non associé à la déforestation correspond à la modélisation d'un soja cultivé dans des Etats non déforestants de longue date (=sur des parcelles non déforestées dans les 20 dernières années). Le seuil de 20 ans est basé sur le temps nécessaire pour que le carbone stocké atteigne l'équilibre (souvent 20 ans dans les méthodes par défaut du GIEC et du PAS 2050). Cette modélisation n'est en revanche pas alignée avec le règlement Cut-off date 2020 qui ne prend pas en compte ce qui s'est passé avant fin 2020. En effet, le règlement stipule que seuls les produits issus de cultures cultivées sur des parcelles non déforestées après le 31 décembre 2020 entreront le marché intérieur européen.
A116: Ainsi, afin de répondre à un besoin des utilisateurs de la base de données Agribalyse / Ecoalim, ont été introduits dans la nouvelle version de la base de données (Ecoalim 9 / Agribalyse 3.2), des sojas alignés avec le principe des « cut-off date » (un 2020, correspondant à la nouvelle réglementation en vigueur, et un 2008, correspondant à la date des cahiers des charges des labels non déforestants) :
A117: Graines de soja, Brésil, Cut-off date 2008, rendues port France
A118: Graines de soja, Brésil, Cut-off date 2020, rendues port France
A119: Huile de soja, Brésil, Cut-off date 2008, trituré France, sortie usine trituration
A120: Huile de soja, Brésil, Cut-off date 2020, trituré France, sortie usine trituration
A121: Huile de soja, Brésil, Cut-off date 2008, triturée Brésil, rendue port (Brest)
... A144: Figure 2b : Principe de modélisation du soja "Cut off date 2020" dans AGRIBALYSE / ECOALIM

Sheet NOTE SOJA EN
A1: Note on SOYBEAN data for animal feed* in the AGRIBALYSE 3.2 database (= ECOALIM 9) | B1: *For human consumption, a consumption mix including soybeans of different origins has been constructed (French soybeans, Brazilian soybeans, American soybeans and Canadian soybeans, based on statistical data and the expertise of technical institutes and France Agrimer).
A3: Sommaire
A4: Introduction
A5: Soybean data in the AGRIBALYSE / ECOALIM database
A6: Focus on Brazilian soybeans in AGRIBALYSE / ECOALIM
A7: Difference in impact between GFLI and Ecoinvent/Agribalyse data
A8: Important changes in the impact results for Brazilian soybeans in the new version Agribalyse 3.2 / Ecoalim 9
A9: Integration of new data in AGRIBALYSE / ECOALIM to represent soybean “cut-off date” 2020 and 2008
A12: Introduction
A13: International databases (AGRIBALYSE, GFLI-Agrifootprint, Ecoinvent, WFLDB...) co-exist with different environmental data (notably climate change emission factors) relating to soybean production. This situation is explained by different methodological choices, different source data and different time steps depending on the database, and leads to considerable confusion among data users. Furthermore, with the implementation in Europe of the regulation on imported deforestation, AGRIBALYSE / ECOALIM now integrates data representing Brazilian soy compatible with the “cut-off date 2020” regulation (no deforestation after 2020) and another representing Brazilian soy compatible with a “cut-off date 2008” (i.e. corresponding to soy production certified as deforestation-free since 2008). In this context, this note aims to clarify and specify the choices concerning the modeling of the environmental impacts of the different soybeans in the AGRIBALYSE database (ECOALIM*). | B13: *ECOALIM is the "Animal nutrition/Feed part" of the AGRIBALYSE database
A15: In the rest of the document, for simplicity's sake, we'll refer to AGRIBALYSE as AGRIBALYSE version 3.2 and ECOALIM as ECOLALIM 9.
A17: Soybean data in the AGRIBALYSE database (ECOALIM)
A18: The data on soybeans used for animal feed in the AGRIBALYSE (ECOALIM) database concerns soybean production in various countries (France, Brazil, USA). Thus, even if Argentinean soy is used in France, we considered that the volumes were not yet significant enough to be included in the Agribalyse database. Several data sets for French, Brazilian and American soybeans have been produced: - Through the ECOALIM project (2013-2016), for FR and USA soybeans; - By adapting data produced by Ecoinvent for Brazilian soybeans.
A46: Focus on Brazilian soybeans in AGRIBALYSE / ECOALIM (Data source: Ecoinvent / EMBRAPA)
A47: The Guéneau report (Soja - Etat des lieux sur la déforestation et les standards de durabilité - 2021) estimates that probably 70% to 80% of soybean meal entering France originates in Brazil, including re-exports from European countries to France. Thus, the soy used for animal feed in the animal production inventories in the Agribalyse database is, by simplification, 100% Brazilian soy*. Databases providing environmental impact values (emission factors) for Brazilian soybean production use all or part of the data compiled by EMBRAPA (Brazilian agricultural research institute). However, there are major differences in the impact of the different databases - for example : | B47: *A soybean “consumption mix” has been created for human consumption, since the soy used in human food products comes in greater proportion from other origins (France, Brazil, USA, Canada).
A54: Where do these differences come from? GIS REVALIM, with the support of experts consulted specifically on this subject, have analyzed these differences:
A55: -> The main contribution to GHG emissions is linked to the change in land use prior to soybean production (i.e. deforestation, i.e. from forest to cropland). The way in which land use change is modelled in databases and allocated to soy production is therefore of major importance.
A56: Deforestation associated with soybean production differs greatly from one Brazilian state to another. As a result, impact results differ according to the finesse of the modeling, which may or may not differentiate the region of soy production in Brazil. It therefore seems important to regionalize inventory data as finely as possible.
A57: -> The GFLI-Agrifootprint 2.0 and Ecoinvent 9.1 databases apply different models for modeling land use change: according to our analysis, Ecoinvent 9.1 applies the most accurate and up-to-date model than the GFLI-Agrifootprint 2. 0 database, with a level of territorial aggregation more in line with practices and the use of spatially explicit data rather than data based on national statistics (finer spatialization of land use change and therefore of emissions associated with deforestation, then aggregation of the various regionalized inventories for the different exporting regions of Brazil). Furthermore, GFLI 2.0 does not use the latest data made available by EMBRAPA (see explanations below). Other methodological differences were also highlighted by the analysis (but with a lesser impact on the results): the data sources are different for soil organic carbon values and for the inclusion of N20 emissions.
A59: After consulting experts, GIS REVALIM concluded that it would be more appropriate to use Ecoinvent data for soy in Agribalyse, whose impact values are closer to the original EMBRAPA values, and finer in terms of spatialization of practices and in particular of the change in land use (deforestation) associated with soy production.
A61: A major change in the impact results for Brazilian soybeans in the new version Agribalyse 3.2 / Ecoalim 9
A62: The climate change impact of Brazilian soybean decreases significantly between Agribalyse 3.1.1 and Agribalyse 3.2 (i.e. between Ecoalim 8 and Ecoalim 9), due to a change in land use change modeling method between Ecoinvent 3.8 and 3.9: - Ecoinvent 3.8: 2.6 kg CO2eq/kg soybean (EF 3.1 method: GWP 100, IPCC 2021) - Ecoinvent 3.9: 1,6 kg CO2eq/kg soybean (EF 3.1 method: GWP 100, IPCC 2021) This drop in impact is linked to a change in EMBRAPA's method of modeling land use change: spatially explicit data are now used, rather than statistical data on crop expansion, based on the work of Garofalo et al, 2022. This new method of modelling land-use change has a significant impact on the results obtained, leading to results in opposite directions for the four main uses of agricultural land in Brazil (grassland and temporary crops such as maize, which see their impacts increase, versus soya and sugar cane, which see their impacts decrease). These new results are in line with geospatial studies which highlight the fact that temporary grasslands are identified as the first occupations to occupy deforested areas, mainly in Amazonia.
A85: This may be due to an excessive burden on soybeans in previous modelling caused by the allocation of direct land use change to soybeans, and not to the first post-deforestation crops (due to the strong expansion of soybeans in national statistics, a situation typical of indirect land use change accounting). Considering that approaches integrating indirect land-use change have other objectives (and different applications), and given that indirect land-use change should not be taken into account in the assessment of direct change, this new model seems more appropriate within the framework of attributional LCA databases, such as Agribalyse/Ecoalim and Ecoinvent.
A102: This significant change in the Climate Change indicator between the Agribalyse / Ecoalim / Ecoinvent versions does not mean that soy-related deforestation has decreased, but that the new method for modeling land-use change using spatially explicit data, which is more reliable than the statistical data used previously, estimates that deforestation associated with soy production is ultimately less significant than previously estimated via statistical approaches.
A103: Note that GFLI data should logically follow the same trends in future versions.
A105: Integration of new data in AGRIBALYSE / ECOALIM to represent soybean “cut-off dates” 2020 and 2008
A106: On June 9, 2023, Regulation (EU) 2023/1115 of the European Parliament and of the Council of May 31, 2023, on the placing on the market and export from the Union of certain commodities and products associated with deforestation and forest degradation, and repealing Regulation (EU) No 995/2010 (RDUE)* was published in the Official Journal of the European Union. The aim of this regulation is to minimize the risk of deforestation and forest degradation associated with imported products, by prohibiting access to the European market for products derived from crops grown on deforested land after December 31, 2020. The products concerned are: cattle, cocoa, coffee, oil palm, rubber, soy and wood. Since version 8 of Ecoalim (3.1.1 of Agribalyse), two Brazilian soybeans are available: - An “average” soybean, corresponding to a mix of soybeans grown on deforested and non-deforested plots (Ecoinvent mix based on data from the Brazilian institute EMBRAPA); - A non-deforesting Brazilian soybean, taking into account only soybeans that have not contributed to deforestation over the past 20 years (non-deforesting soybean constructed by GIS REVALIM, by reworking Ecoinvent data). The following inventories are concerned by this “non-deforesting soy”: | B106: *https://eur-lex.europa.eu/legal-content/FR/TXT/?uri=uriserv%3AOJ.L_.2023.150.01.0206.01.FRA&toc=OJ%3AL%3A2023%3A150%3ATOC
A108: Soybean, Brazil, not associated to deforestation, at french port
A109: Soybean meal, Brazil, not associated to deforestation, crushing in Brazil, at french port
A110: Soybean meal, Brazil, not associated to deforestation, crushing in France, at plant
A111: Soybean oil, Brazil, not associated to deforestation, crushing in Brazil, at french port
A112: Soybean oil, Brazil, not associated to deforestation, crushing in France, at plant
A114: WARNING: Brazilian ECOALIM / AGRIBALYSE soybeans not associated with deforestation correspond to the modeling of soybeans grown in states that have not deforested for a long time (=on plots that have not been deforested in the last 20 years). The 20-year threshold is based on the time needed for the stored carbon to reach equilibrium (often 20 years in the IPCC and PAS 2050 default methods). However, this modeling is not aligned with the Cut-off date 2020 regulation, which does not take into account what happened before the end of 2020. Indeed, the regulation stipulates that only products from crops grown on non-deforested land after December 31, 2020 will enter the European internal market.
A116: In response to a need expressed by users of the Agribalyse / Ecoalim database, the new version of the database (Ecoalim 9 / Agribalyse 3.2) includes soybeans aligned with the “cut-off date” principle (2020, corresponding to the new regulations in force, and 2008, corresponding to the date of the specifications for non-deforesting labels):
A117: Soybean, Brazil, Cut-off date 2008, at french port
A118: Soybean, Brazil, Cut-off date 2020, at french port
A119: Soybean meal, Brazil, Cut-off date 2008, crushing in Brazil, at french port
A120: Soybean meal, Brazil, Cut-off date 2020, crushing in Brazil, at french port
A121: Soybean meal, Brazil, Cut-off date 2008, crushing in France, at plant
... A144: Figure 2b: “Cut off date 2020” soybean modeling principle in AGRIBALYSE / ECOALIM

Sheet v9_ACV MP ECOALIM FR
H1: Impacts ACV (par kg de matière première) - METHODE ECOALIM | S1: Impacts ACV (par kg de matière première) - METHODE EF3.1. Indicateurs identiques à ECOALIM : changement climatique, acidification, 3 eutrophisations
A2: Nom ICV simapro | B2: Familles des matières premières destinées aux animaux d'élevage | C2: Matières premières | D2: Périmètre | E2: Donnée moyenne ou déclinaison | F2: Pays de la production primaire de la MP brute | G2: Pays de la transformation | H2: Consommation de Phosphore (kg P) | I2: Consommation d'énergie : non renouvelable fossile + nucléaire - CED 1.11 (MJ) | J2: Changement climatique - EF 3.1 (kg CO2 eq) | K2: Acidification - EF3.1 (molc H+ eq) | L2: Eutrophisation - CML baseline (kg PO4---eq) | M2: Occupation du sol - CML non baseline (m2a) | N2: Eutrophisation terrestre - EF 3.1 (mol N eq) | O2: Eutrophisation d'eau douce - EF 3.1 (kg P eq) | P2: Eutrophisation marine - EF 3.1 (kg N eq) | Q2: Consommation d'énergie : total - CED 1.11 (MJ) - WITHOUT ENERGY GROSS CALORIFIC VALUE | R2: Consommation d'énergie : totale - CED 1.11 (MJ) | S2: Score unique EF3.1 (mPt) | T2: Changement climatique (kg CO2 eq) | U2: Appauvrissement de la couche d'ozone (kg CFC11 eq) | V2: Rayonnements ionisants (kBq U-235 eq) | W2: Formation photochimique d'ozone (kg NMVOC eq) | X2: Particules (disease inc.) | Y2: Effets toxicologiques sur la santé humaine : substances non-cancérogènes* (CTUh) | Z2: Effets toxicologiques sur la santé humaine : substances cancérogènes* (CTUh) | AA2: Acidification terrestre et eaux douces (mol H+ eq) | AB2: Eutrophisation eaux douces (kg P eq) | AC2: Eutrophisation marine (kg N eq) | AD2: Eutrophisation terreste (mol N eq) | AE2: Écotoxicité pour écosystèmes aquatiques d'eau douce (CTUe) | AF2: Utilisation du sol (Pt) | AG2: Épuisement des ressources eau (m3 depriv.) | AH2: Épuisement des ressources énergétiques (MJ) | AI2: Épuisement des ressources minéraux (kg Sb eq) | AJ2: Changement climatique - biogénique (kg CO2 eq/kg) | AK2: Changement climatique - fossile (kg CO2 eq/kg) | AL2: Changement climatique - changement d'affectation des sols (kg CO2 eq/kg)
A3: Arginine S {BR} U | B3: Acides aminées et autres produits | C3: Arginine, Brésil, sortie usine fabrication | D3: sortie usine | E3: moyenne | F3: Brésil | G3: Multi-origine | H3: 0.0099035886 | I3: 83.090895 | J3: 5.2777236 | K3: 0.040691334 | L3: 0.014060187 | M3: 0.23946304 | N3: 0.15223965 | O3: 0.00086346942 | P3: 0.020984514 | Q3: 206.65468 | R3: 99.995623 | S3: 0.72253211 | T3: 5.2777236 | U3: 5.1919127e-07 | V3: 0.20308078 | W3: 0.02440035 | X3: 6.6001875e-07 | Y3: 8.6115947e-08 | Z3: 3.7442951e-09 | AA3: 0.040691334 | AB3: 0.00086346942 | AC3: 0.020984514 | AD3: 0.15223965 | AE3: 164.41071 | AF3: 171.57294 | AG3: 3.5610257 | AH3: 76.290416 | AI3: 9.0169142e-05 | AJ3: 0.16612311 | AK3: 5.691564 | AL3: -0.57996349
A4: Arginine S {CN} U | B4: Acides aminées et autres produits | C4: Arginine, Chine, sortie usine fabrication | D4: sortie usine | E4: moyenne | F4: Chine | H4: 0.011779037 | I4: 167.42999 | J4: 16.648908 | K4: 0.12416583 | L4: 0.015506186 | M4: 0.444498 | N4: 0.2928326 | O4: 0.0038432205 | P4: 0.024927422 | Q4: 177.05489 | R4: 174.86087 | S4: 2.9140161 | T4: 16.648908 | U4: 5.6298064e-07 | V4: 0.43122356 | W4: 0.050274385 | X4: 1.7290801e-06 | Y4: 4.0667859e-07 | Z4: 6.0776762e-09 | AA4: 0.12416583 | AB4: 0.0038432205 | AC4: 0.024927422 | AD4: 0.2928326 | AE4: 3947.2152 | AF4: 204.63452 | AG4: 6.1225456 | AH4: 157.38659 | AI4: 0.00012782657 | AJ4: 0.0099943685 | AK4: 16.540891 | AL4: 0.098023135
A5: Arginine S {KR} U | B5: Acides aminées et autres produits | C5: Arginine, Corée du sud, sortie usine fabrication | D5: sortie usine | E5: moyenne | F5: Corée du sud | H5: 0.019642219 | I5: 141.3639 | J5: 9.8602266 | K5: 0.04867871 | L5: 0.02151294 | M5: 1.2073389 | N5: 0.15063745 | O5: 0.0043342432 | P5: 0.015778862 | Q5: 188.04174 | R5: 144.04236 | S5: 1.0566563 | T5: 9.8602266 | U5: 5.6283586e-07 | V5: 1.0439318 | W5: 0.031457879 | X5: 3.8711836e-07 | Y5: 1.6846873e-07 | Z5: 5.0699489e-09 | AA5: 0.04867871 | AB5: 0.0043342432 | AC5: 0.015778862 | AD5: 0.15063745 | AE5: 183.13529 | AF5: 71.787198 | AG5: 9.0298117 | AH5: 132.19559 | AI5: 0.00012872062 | AJ5: 0.011783037 | AK5: 9.7507003 | AL5: 0.097743264
A6: Arginine S {FR} U | B6: Acides aminées et autres produits | C6: Arginine, France, sortie usine fabrication | D6: sortie usine | E6: moyenne | F6: France | H6: 0.045015603 | I6: 80.452021 | J6: 5.4863177 | K6: 0.017101217 | L6: 0.0061674212 | M6: 1.6717695 | N6: 0.055378136 | O6: 0.00085271321 | P6: 0.0066452565 | Q6: 122.32334 | R6: 82.596568 | S6: 0.51805822 | T6: 5.4863177 | U6: 5.8953853e-07 | V6: 0.18414245 | W6: 0.01361021 | X6: 1.252302e-07 | Y6: 7.6763593e-08 | Z6: 2.5836553e-09 | AA6: 0.017101217 | AB6: 0.00085271321 | AC6: 0.0066452565 | AD6: 0.055378136 | AE6: 112.61448 | AF6: 88.217894 | AG6: 1.9530294 | AH6: 73.321642 | AI6: 8.6479781e-05 | AJ6: 0.0079178931 | AK6: 5.3249851 | AL6: 0.15341468
A7: Arginine S {ID} U | B7: Acides aminées et autres produits | C7: Arginine, Indonésie, sortie usine fabrication | D7: sortie usine | E7: moyenne | F7: Indonésie | H7: 0.0076330237 | I7: 107.83167 | J7: 8.7268566 | K7: 0.043918921 | L7: 0.0334228 | M7: 0.11377903 | N7: 0.11943574 | O7: 0.0096940598 | P7: 0.025442361 | Q7: 112.11928 | R7: 111.52962 | S7: 2.294867 | T7: 8.7268566 | U7: 6.0260013e-07 | V7: 0.17119937 | W7: 0.029094921 | X7: 5.7843566e-07 | Y7: 2.6305978e-07 | Z7: 2.5277971e-09 | AA7: 0.043918921 | AB7: 0.0096940598 | AC7: 0.025442361 | AD7: 0.11943574 | AE7: 3839.5856 | AF7: 561.43675 | AG7: 1.919509 | AH7: 97.945246 | AI7: 9.4085041e-05 | AJ7: 0.020816307 | AK7: 8.6127631 | AL7: 0.093277132
A8: DL-Methionine, animal feed, at retailer gate {RER} U | B8: Acides aminées et autres produits | C8: DL-méthionine, Europe, sortie usine fabrication | D8: sortie usine | E8: moyenne | F8: Europe | H8: 0.00057137984 | I8: 87.211153 | J8: 3.1245617 | K8: 0.015085822 | L8: 0.001387192 | M8: 0.026111842 | N8: 0.017419774 | O8: 0.00022751121 | P8: 0.0017760359 | Q8: 88.653889 | R8: 88.390163 | S8: 0.27068939 | T8: 3.1245617 | U8: 4.3851807e-08 | V8: 0.57783132 | W8: 0.0085835482 | X8: 1.361377e-07 | Y8: 8.5214368e-09 | Z8: 4.8545023e-10 | AA8: 0.015085822 | AB8: 0.00022751121 | AC8: 0.0017760359 | AD8: 0.017419774 | AE8: 4.0007428 | AF8: 1.8905054 | AG8: 0.82851691 | AH8: 80.987488 | AI8: 4.9079235e-06 | AJ8: 0.0026867162 | AK8: 3.1214862 | AL8: 0.00038877531
A9: Histidine S {BR} U | B9: Acides aminées et autres produits | C9: Histidine, Brésil, sortie usine fabrication | D9: sortie usine | E9: moyenne | F9: Brésil | H9: 0.0099036046 | I9: 83.090911 | J9: 5.2777238 | K9: 0.04069139 | L9: 0.014060212 | M9: 0.23946312 | N9: 0.15223989 | O9: 0.0008634698 | P9: 0.020984553 | Q9: 206.65497 | R9: 99.995643 | S9: 0.72253254 | T9: 5.2777238 | U9: 5.1919131e-07 | V9: 0.2030808 | W9: 0.024400364 | X9: 6.6001917e-07 | Y9: 8.6115995e-08 | Z9: 3.7442967e-09 | AA9: 0.04069139 | AB9: 0.0008634698 | AC9: 0.020984553 | AD9: 0.15223989 | AE9: 164.41088 | AF9: 171.57336 | AG9: 3.5610287 | AH9: 76.290431 | AI9: 9.0169156e-05 | AJ9: 0.1661231 | AK9: 5.6915661 | AL9: -0.57996546
A10: Histidine S {ID} U | B10: Acides aminées et autres produits | C10: Histidine, Indonésie, sortie usine fabrication | D10: sortie usine | E10: moyenne | F10: Indonésie | H10: 0.0076414123 | I10: 108.90608 | J10: 8.8179937 | K10: 0.047109172 | L10: 0.034202007 | M10: 3.4866223 | N10: 0.13654904 | O10: 0.0097142661 | P10: 0.026965005 | Q10: 137.89349 | R10: 112.62075 | S10: 2.3500417 | T10: 8.8179937 | U10: 6.1545961e-07 | V10: 0.17237456 | W10: 0.033356483 | X10: 7.3136226e-07 | Y10: 2.715447e-07 | Z10: 2.8095742e-09 | AA10: 0.047109172 | AB10: 0.0097142661 | AC10: 0.026965005 | AD10: 0.13654904 | AE10: 3840.7362 | AF10: 677.62074 | AG10: 1.9243197 | AH10: 98.955711 | AI10: 9.4302839e-05 | AJ10: 0.021948001 | AK10: 8.7019378 | AL10: 0.094107907
A11: Isoleucine S {CN} U | B11: Acides aminées et autres produits | C11: Isoleucine, Chine, sortie usine fabrication | D11: sortie usine | E11: moyenne | F11: Chine | H11: 0.041764379 | I11: 459.50062 | J11: 51.547117 | K11: 0.41968884 | L11: 0.043909282 | M11: 2.8140008 | N11: 0.82881147 | O11: 0.010720332 | P11: 0.069682965 | Q11: 489.12655 | R11: 473.49859 | S11: 8.004921 | T11: 51.547117 | U11: 6.245685e-07 | V11: 0.91497747 | W11: 0.14956191 | X11: 6.2469836e-06 | Y11: 1.0657376e-06 | Z11: 1.458457e-08 | AA11: 0.41968884 | AB11: 0.010720332 | AC11: 0.069682965 | AD11: 0.82881147 | AE11: 10242.376 | AF11: 628.6305 | AG11: 12.008743 | AH11: 433.68233 | AI11: 0.0001379012 | AJ11: 0.015656962 | AK11: 51.427339 | AL11: 0.10412184
A12: Isoleucine S {FR} U | B12: Acides aminées et autres produits | C12: Isoleucine, France, sortie usine fabrication | D12: sortie usine | E12: moyenne | F12: France | H12: 0.12910564 | I12: 211.96992 | J12: 13.452663 | K12: 0.048339112 | L12: 0.012477047 | M12: 5.8286752 | N12: 0.13383991 | O12: 0.001344788 | P12: 0.014934987 | Q12: 327.48011 | R12: 214.25333 | S12: 0.97871922 | T12: 13.452663 | U12: 8.3399747e-07 | V12: 0.30688944 | W12: 0.033267112 | X12: 2.9265535e-07 | Y12: 1.2024822e-07 | Z12: 4.5778287e-09 | AA12: 0.048339112 | AB12: 0.001344788 | AC12: 0.014934987 | AD12: 0.13383991 | AE12: 153.05658 | AF12: 308.40289 | AG12: -0.034443253 | AH12: 192.40618 | AI12: 3.1512512e-05 | AJ12: 0.010276524 | AK12: 13.191921 | AL12: 0.25046544
A13: Leucine S {FR} U | B13: Acides aminées et autres produits | C13: Leucine, France, sortie usine fabrication | D13: sortie usine | E13: moyenne | F13: France | H13: 0.076110874 | I13: 135.63526 | J13: 8.7123247 | K13: 0.031219095 | L13: 0.0077778056 | M13: 3.1136965 | N13: 0.080566704 | O13: 0.00088097367 | P13: 0.0092514569 | Q13: 202.22819 | R13: 137.24019 | S13: 0.62664997 | T13: 8.7123247 | U13: 5.8173712e-07 | V13: 0.2196737 | W13: 0.020901468 | X13: 1.9068487e-07 | Y13: 7.3871934e-08 | Z13: 2.7843704e-09 | AA13: 0.031219095 | AB13: 0.00088097367 | AC13: 0.0092514569 | AD13: 0.080566704 | AE13: 86.376195 | AF13: 163.84779 | AG13: 0.65458712 | AH13: 123.11156 | AI13: 2.0749821e-05 | AJ13: 0.0074643111 | AK13: 8.5573705 | AL13: 0.14748993
A14: Lysine solid (HCl) S {CN} U | B14: Acides aminées et autres produits | C14: L-lysine HCl, Chine, sortie usine fabrication | D14: sortie usine | E14: moyenne | F14: Chine | H14: 0.010844339 | I14: 78.053224 | J14: 8.1591576 | K14: 0.0650328 | L14: 0.0082646799 | M14: 4.017977 | N14: 0.16885993 | O14: 0.0020005531 | P14: 0.014028517 | Q14: 107.33547 | R14: 81.11919 | S14: 1.6714505 | T14: 8.1591576 | U14: 1.6163238e-07 | V14: 0.21081882 | W14: 0.025600453 | X14: 8.4215343e-07 | Y14: 2.2761798e-07 | Z14: 3.1739985e-09 | AA14: 0.0650328 | AB14: 0.0020005531 | AC14: 0.014028517 | AD14: 0.16885993 | AE14: 2470.0339 | AF14: 334.44207 | AG14: 5.4686239 | AH14: 73.320592 | AI14: 6.826657e-05 | AJ14: 0.0064225265 | AK14: 8.1158628 | AL14: 0.036872296
A15: Lysine solid (HCl) S {KR} U | B15: Acides aminées et autres produits | C15: L-lysine HCl, Corée du sud, sortie usine fabrication | D15: sortie usine | E15: moyenne | F15: Corée du sud | H15: 0.01602545 | I15: 65.264771 | J15: 5.1143911 | K15: 0.027851125 | L15: 0.011419496 | M15: 4.5131412 | N15: 0.089574652 | O15: 0.0019952138 | P15: 0.0093688813 | Q15: 119.22012 | R15: 66.401721 | S15: 0.57748844 | T15: 5.1143911 | U15: 1.5866753e-07 | V15: 0.39439227 | W15: 0.017429904 | X15: 2.2143616e-07 | Y15: 9.5374489e-08 | Z15: 2.7555281e-09 | AA15: 0.027851125 | AB15: 0.0019952138 | AC15: 0.0093688813 | AD15: 0.089574652 | AE15: 95.203765 | AF15: 252.39474 | AG15: 5.6747977 | AH15: 60.947692 | AI15: 7.0475734e-05 | AJ15: 0.0070293921 | AK15: 5.0692203 | AL15: 0.038141395
... A32: Valine S {FR} U | B32: Acides aminées et autres produits | C32: Valine, France, sortie usine fabrication | D32: sortie usine | E32: moyenne | F32: France | H32: 0.05418148 | I32: 86.609828 | J32: 5.6737993 | K32: 0.022254678 | L32: 0.0054484594 | M32: 2.0656366 | N32: 0.053757135 | O32: 0.00063134465 | P32: 0.0063198886 | Q32: 131.31215 | R32: 87.823294 | S32: 0.42394834 | T32: 5.6737993 | U32: 3.9116086e-07 | V32: 0.1673258 | W32: 0.013636058 | X32: 1.3234033e-07 | Y32: 5.2464923e-08 | Z32: 1.9831308e-09 | AA32: 0.022254678 | AB32: 0.00063134465 | AC32: 0.0063198886 | AD32: 0.053757135 | AE32: 70.397262 | AF32: 108.87929 | AG32: 0.82002762 | AH32: 78.683112 | AI32: 1.652919e-05 | AJ32: 0.0060448439 | AK32: 5.5685343 | AL32: 0.099220196
A33: Arginine, consumption mix {FR} U | B33: Acides aminées et autres produits | C33: Arginine, mix de consommation Français | D33: Arrivée en France | E33: moyenne | F33: Multi-origine | G33: Multi-origine | H33: 0.010663681 | I33: 155.18929 | J33: 14.786523 | K33: 0.10764677 | L33: 0.020873725 | M33: 0.3644042 | N33: 0.26062416 | O33: 0.0054458721 | P33: 0.026394246 | Q33: 163.45933 | R33: 161.67945 | S33: 2.7792472 | T33: 14.786523 | U33: 5.7848148e-07 | V33: 0.36939659 | W33: 0.048685163 | X33: 1.4319573e-06 | Y33: 3.6960425e-07 | Z33: 5.2629125e-09 | AA33: 0.10764677 | AB33: 0.0054458721 | AC33: 0.026394246 | AD33: 0.26062416 | AE33: 3919.9072 | AF33: 302.16377 | AG33: 5.0022407 | AH33: 144.96273 | AI33: 0.00011923671 | AJ33: 0.013022849 | AK33: 14.67654 | AL33: 0.096960167
A34: Histidine, consumption mix {FR} U | B34: Acides aminées et autres produits | C34: Histidine, mix de consommation Français | D34: Arrivée en France | E34: moyenne | F34: Multi-origine | G34: Multi-origine | H34: 0.0099086279 | I34: 87.164423 | J34: 5.5608844 | K34: 0.0441204 | L34: 0.014440686 | M34: 0.251647 | N34: 0.16195325 | O34: 0.00088598181 | P34: 0.02187225 | Q34: 210.80868 | R34: 104.1311 | S34: 0.75120896 | T34: 5.5608844 | U34: 5.2459959e-07 | V34: 0.21062916 | W34: 0.027345931 | X34: 6.7669625e-07 | Y34: 8.829235e-08 | Z34: 3.8850979e-09 | AA34: 0.0441204 | AB34: 0.00088598181 | AC34: 0.02187225 | AD34: 0.16195325 | AE34: 166.27827 | AF34: 173.28057 | AG34: 3.577876 | AH34: 80.124215 | AI34: 9.0854783e-05 | AJ34: 0.16622357 | AK34: 5.9744319 | AL34: -0.57977107
A35: Isoleucine, consumption mix {FR} U | B35: Acides aminées et autres produits | C35: Isoleucine, mix de consommation Français | D35: Arrivée en France | E35: moyenne | F35: Multi-origine | G35: Multi-origine | H35: 0.076703799 | I35: 363.15311 | J35: 36.498844 | K35: 0.27436803 | L35: 0.031681301 | M35: 4.0270047 | N35: 0.56004196 | O35: 0.0069876672 | P35: 0.048622928 | Q35: 427.20035 | R35: 372.51822 | S35: 5.2160169 | T35: 36.498844 | U35: 7.1168731e-07 | V35: 0.67842097 | W35: 0.10567667 | X35: 3.875099e-06 | Y35: 6.8878047e-07 | Z35: 1.0683826e-08 | AA35: 0.27436803 | AB35: 0.0069876672 | AC35: 0.048622928 | AD35: 0.56004196 | AE35: 6207.8551 | AF35: 501.45482 | AG35: 7.2022145 | AH35: 339.68093 | AI35: 9.5727297e-05 | AJ35: 0.013585701 | AK35: 36.322446 | AL35: 0.16281133
A36: Leucine, consumption mix {FR} U | B36: Acides aminées et autres produits | C36: Leucine, mix de consommation Français | D36: Arrivée en France | E36: moyenne | F36: Multi-origine | G36: Multi-origine | H36: 0.076111561 | I36: 136.10085 | J36: 8.743147 | K36: 0.031293915 | L36: 0.0077935493 | M36: 3.1155006 | N36: 0.080775468 | O36: 0.00088345566 | P36: 0.0092717751 | Q36: 202.70213 | R36: 137.71218 | S36: 0.62905446 | T36: 8.743147 | U36: 5.8240319e-07 | V36: 0.22043063 | W36: 0.021014468 | X36: 1.9297916e-07 | Y36: 7.4180735e-08 | Z36: 2.7991094e-09 | AA36: 0.031293915 | AB36: 0.00088345566 | AC36: 0.0092717751 | AD36: 0.080775468 | AE36: 86.591377 | AF36: 164.11351 | AG36: 0.65678612 | AH36: 123.54961 | AI36: 2.0849751e-05 | AJ36: 0.0074747106 | AK36: 8.5881658 | AL36: 0.14750651
A37: Lysine (liquid), consumption mix {FR} U | B37: Acides aminées et autres produits | C37: Lysine (liquide), mix de consommation Français | D37: Arrivée en France | E37: moyenne | F37: Multi-origine | G37: Multi-origine | H37: 0.0043705593 | I37: 43.227505 | J37: 3.0309723 | K37: 0.022215616 | L37: 0.0077986038 | M37: 1.4547252 | N37: 0.057798921 | O37: 0.0015169041 | P37: 0.0082289444 | Q37: 63.340592 | R37: 44.254925 | S37: 0.50447927 | T37: 3.0309723 | U37: 7.2733301e-08 | V37: 0.2947324 | W37: 0.013068181 | X37: 1.9829499e-07 | Y37: 5.7296808e-08 | Z37: 1.2822583e-09 | AA37: 0.022215616 | AB37: 0.0015169041 | AC37: 0.0082289444 | AD37: 0.057798921 | AE37: 475.66761 | AF37: 121.55202 | AG37: 4.4648678 | AH37: 39.985783 | AI37: 2.4062021e-05 | AJ37: 0.0050657447 | AK37: 3.0178917 | AL37: 0.0080147957
A38: Lysine solid (HCl), consumption mix {FR} U | B38: Acides aminées et autres produits | C38: L-Lysine HCl, mix de consommation Français | D38: Arrivée en France | E38: moyenne | F38: Multi-origine | G38: Multi-origine | H38: 0.010848744 | I38: 82.183962 | J38: 8.4544414 | K38: 0.070347972 | L38: 0.008829022 | M38: 4.0286638 | N38: 0.18408523 | O38: 0.0020281549 | P38: 0.015413496 | Q38: 111.57333 | R38: 85.333947 | S38: 1.7058075 | T38: 8.4544414 | U38: 1.6676671e-07 | V38: 0.22144679 | W38: 0.029912725 | X38: 8.5703568e-07 | Y38: 2.2947652e-07 | Z38: 3.3340957e-09 | AA38: 0.070347972 | AB38: 0.0020281549 | AC38: 0.015413496 | AD38: 0.18408523 | AE38: 2471.9022 | AF38: 335.7904 | AG38: 5.4850677 | AH38: 77.210167 | AI38: 6.8835909e-05 | AJ38: 0.0065504605 | AK38: 8.4107763 | AL38: 0.0371146
A39: Lysine sulfate, consumption mix {FR} U | B39: Acides aminées et autres produits | C39: Lysine sulfate, mix de consommation Français | D39: Arrivée en France | E39: moyenne | F39: Multi-origine | G39: Multi-origine | H39: 0.0073605166 | I39: 59.408584 | J39: 6.5190868 | K39: 0.051542313 | L39: 0.0074104705 | M39: 4.148941 | N39: 0.12405226 | O39: 0.0016482723 | P39: 0.011498325 | Q39: 87.592987 | R39: 61.533327 | S39: 1.120893 | T39: 6.5190868 | U39: 9.0909314e-08 | V39: 0.14114785 | W39: 0.023712234 | X39: 6.7066451e-07 | Y39: 1.4314686e-07 | Z39: 2.0118535e-09 | AA39: 0.051542313 | AB39: 0.0016482723 | AC39: 0.011498325 | AD39: 0.12405226 | AE39: 1497.6053 | AF39: 311.58038 | AG39: 2.6098784 | AH39: 55.88253 | AI39: 2.3583283e-05 | AJ39: 0.0053345245 | AK39: 6.4862068 | AL39: 0.027545398
A40: Lysine, consumption mix {FR} U | B40: Acides aminées et autres produits | C40: Lysine, mix de consommation Français | D40: Arrivée en France | E40: moyenne | F40: Multi-origine | G40: Multi-origine | H40: 0.0085514863 | I40: 67.919697 | J40: 6.7774395 | K40: 0.055057439 | L40: 0.0082476921 | M40: 3.4924666 | N40: 0.141294 | O40: 0.0018207091 | P40: 0.012854102 | Q40: 94.96704 | R40: 70.346407 | S40: 1.2952866 | T40: 6.7774395 | U40: 1.2711501e-07 | V40: 0.21749489 | W40: 0.024656803 | X40: 6.6551994e-07 | Y40: 1.7001457e-07 | Z40: 2.5521309e-09 | AA40: 0.055057439 | AB40: 0.0018207091 | AC40: 0.012854102 | AD40: 0.141294 | AE40: 1789.1563 | AF40: 282.60545 | AG40: 4.5418264 | AH40: 63.688893 | AI40: 4.7672497e-05 | AJ40: 0.005919839 | AK40: 6.7431993 | AL40: 0.028320343
A41: Tryptophane, consumption mix {FR} U | B41: Acides aminées et autres produits | C41: Tryptophane, mix de consommation Français | D41: Arrivée en France | E41: moyenne | F41: Multi-origine | G41: Multi-origine | H41: 0.029272739 | I41: 114.98697 | J41: 9.8518503 | K41: 0.065684826 | L41: 0.037602641 | M41: 2.6041162 | N41: 0.14319822 | O41: 0.010438352 | P41: 0.0271827 | Q41: 153.4205 | R41: 119.64149 | S41: 2.1813174 | T41: 9.8518503 | U41: 9.3845392e-07 | V41: 0.44668478 | W41: 0.033957907 | X41: 7.0537799e-07 | Y41: 2.4539183e-07 | Z41: 2.8458647e-09 | AA41: 0.065684826 | AB41: 0.010438352 | AC41: 0.0271827 | AD41: 0.14319822 | AE41: 3350.5415 | AF41: 603.64737 | AG41: 2.964494 | AH41: 104.77578 | AI41: 3.4116895e-05 | AJ41: 0.023648716 | AK41: 9.7425041 | AL41: 0.085697435
A42: Threonine, consumption mix {FR} U | B42: Acides aminées et autres produits | C42: Threonine, mix de consommation Français | D42: Arrivée en France | E42: moyenne | F42: Multi-origine | G42: Multi-origine | H42: 0.012500814 | I42: 99.283182 | J42: 10.793633 | K42: 0.089652265 | L42: 0.01028967 | M42: 4.0421396 | N42: 0.21657241 | O42: 0.0024544605 | P42: 0.018215573 | Q42: 127.63571 | R42: 102.68653 | S42: 2.0406183 | T42: 10.793633 | U42: 1.6776439e-07 | V42: 0.23059707 | W42: 0.036218791 | X42: 1.181144e-06 | Y42: 2.7543589e-07 | Z42: 3.7127188e-09 | AA42: 0.089652265 | AB42: 0.0024544605 | AC42: 0.018215573 | AD42: 0.21657241 | AE42: 2953.1419 | AF42: 359.23139 | AG42: 5.1819037 | AH42: 93.476982 | AI42: 5.4093082e-05 | AJ42: 0.0066127504 | AK42: 10.745566 | AL42: 0.041454583
A43: Valine, consumption mix {FR} U | B43: Acides aminées et autres produits | C43: Valine, mix de consommation Français | D43: Arrivée en France | E43: moyenne | F43: Multi-origine | G43: Multi-origine | H43: 0.028418822 | I43: 164.30008 | J43: 16.934559 | K43: 0.13260328 | L43: 0.015032014 | M43: 1.1801981 | N43: 0.26960372 | O43: 0.0033863533 | P43: 0.023453043 | Q43: 184.05698 | R43: 169.36765 | S43: 2.4906992 | T43: 16.934559 | U43: 3.3955754e-07 | V43: 0.36626093 | W43: 0.050975287 | X43: 1.8341026e-06 | Y43: 3.3135742e-07 | Z43: 5.0730015e-09 | AA43: 0.13260328 | AB43: 0.0033863533 | AC43: 0.023453043 | AD43: 0.26960372 | AE43: 3048.4942 | AF43: 204.16847 | AG43: 2.510138 | AH43: 154.1699 | AI43: 4.8615988e-05 | AJ43: 0.0077604739 | AK43: 16.870434 | AL43: 0.056364506
A44: Concentrated alfalfa, animal feed, at farm gate {FR} U | B44: Autres produits et coproduits d'origine végétale | C44: Concentré protéique de luzerne, France, sortie usine transformation | D44: sortie usine | E44: moyenne | F44: France | G44: France | H44: 0.70516161 | I44: 32.308529 | J44: 1.4656634 | K44: 0.0075141554 | L44: 0.0091926663 | M44: 7.2208043 | N44: 0.017917931 | O44: 0.00025745125 | P44: 0.018547431 | Q44: 162.11793 | R44: 33.972058 | S44: 0.22728556 | T44: 1.4656634 | U44: 3.4629008e-08 | V44: 1.0524294 | W44: 0.0057629147 | X44: 6.1483836e-08 | Y44: 3.8994049e-08 | Z44: 1.4727457e-09 | AA44: 0.0075141554 | AB44: 0.00025745125 | AC44: 0.018547431 | AD44: 0.017917931 | AE44: 46.956753 | AF44: 365.16407 | AG44: 0.42547178 | AH44: 31.532929 | AI44: 9.2561838e-06 | AJ44: 0.001054585 | AK44: 1.0409994 | AL44: 0.4236095
A45: Silage maize, conventional, national average, animal feed, at farm gate, production {FR} U | B45: Autres produits et coproduits d'origine végétale | C45: Ensilage maïs plante entière, France, sortie champ | D45: sortie champ | E45: moyenne | F45: France | H45: 0.028104121 | I45: 1.2809452 | J45: 0.23659602 | K45: 0.0077860734 | L45: 0.0026021321 | M45: 0.92054414 | N45: 0.034585349 | O45: 8.2871571e-05 | P45: 0.0035198199 | Q45: 20.350294 | R45: 1.3089008 | S45: 0.053030888 | T45: 0.23659602 | U45: 8.0166744e-09 | V45: 0.0081847457 | W45: 0.00095039055 | X45: 5.1217499e-08 | Y45: 8.1805549e-09 | Z45: 5.1646948e-10 | AA45: 0.0077860734 | AB45: 8.2871571e-05 | AC45: 0.0035198199 | AD45: 0.034585349 | AE45: 15.404577 | AF45: 46.32637 | AG45: 0.089837436 | AH45: 1.2006842 | AI45: 9.0397664e-07 | AJ45: 4.1192417e-05 | AK45: 0.18224814 | AL45: 0.054306688
A46: Silage sorghum, national average, animal feed, at farm gate {FR} U | B46: Autres produits et coproduits d'origine végétale | C46: Ensilage sorgho, France, sortie champ | D46: sortie champ | E46: moyenne | F46: France | H46: 0.017576237 | I46: 1.2027208 | J46: 0.19691456 | K46: 0.0030426409 | L46: 0.0022498138 | M46: 1.179007 | N46: 0.013163138 | O46: 0.00017764791 | P46: 0.0031780577 | Q46: 1.2373655 | R46: 1.2295946 | S46: 0.034614089 | T46: 0.19691456 | U46: 5.8024405e-09 | V46: 0.010469803 | W46: 0.00057974753 | X46: 1.9694089e-08 | Y46: 1.1024105e-09 | Z46: 9.8405827e-10 | AA46: 0.0030426409 | AB46: 0.00017764791 | AC46: 0.0031780577 | AD46: 0.013163138 | AE46: 3.1376263 | AF46: 59.265509 | AG46: 0.094590649 | AH46: 1.1380636 | AI46: 7.9949606e-07 | AJ46: 3.0206057e-05 | AK46: 0.12726754 | AL46: 0.069616822
A47: Alfalfa, dehydrated, with new energies process, conventional, at feed plant {FR} U | B47: Autres produits et coproduits d'origine végétale | C47: Luzerne déshydratée, conventionnelle, France, sortie usine transformation | D47: sortie usine | E47: moyenne | F47: France | G47: France | H47: 0.099809512 | I47: 6.4347166 | J47: 0.55116443 | K47: 0.003931453 | L47: 0.0020739844 | M47: 1.2207274 | N47: 0.0079624146 | O47: 0.00022343029 | P47: 0.0031436996 | Q47: 27.017619 | R47: 6.6254444 | S47: 0.061525955 | T47: 0.55116443 | U47: 5.8617999e-09 | V47: 0.076178386 | W47: 0.0024378429 | X47: 5.2633713e-08 | Y47: 9.2369517e-09 | Z47: 3.1428614e-10 | AA47: 0.003931453 | AB47: 0.00022343029 | AC47: 0.0031436996 | AD47: 0.0079624146 | AE47: 7.5996487 | AF47: 56.392863 | AG47: 0.063827496 | AH47: 6.1400702 | AI47: 1.4194348e-06 | AJ47: 0.00044181562 | AK47: 0.49056989 | AL47: 0.060152719
A48: Alfalfa, conventional, for animal feeding, at farm gate {FR} U | B48: Autres produits et coproduits d'origine végétale | C48: Luzerne, conventionnel, France, sortie champ | D48: sortie champ | E48: moyenne | F48: France | H48: 0.0078384564 | I48: 1.185329 | J48: 0.24901992 | K48: 0.00021797661 | L48: 0.0018659893 | M48: 1.5476329 | N48: 0.00041439567 | O48: 2.1051095e-05 | P48: 0.0039432345 | Q48: 19.331524 | R48: 1.2225641 | S48: 0.025273074 | T48: 0.24901992 | U48: 1.6061548e-09 | V48: 0.0053751124 | W48: 0.00022911621 | X48: 2.0640163e-09 | Y48: 9.6447333e-10 | Z48: 1.3258268e-10 | AA48: 0.00021797661 | AB48: 2.1051095e-05 | AC48: 0.0039432345 | AD48: 0.00041439567 | AE48: 1.9621839 | AF48: 78.133959 | AG48: 0.020254557 | AH48: 1.1145424 | AI48: 7.6149193e-07 | AJ48: 4.8966082e-05 | AK48: 0.15264968 | AL48: 0.096321281
A49: Molasses, from sugarcane, from Brazil, at feed plant S {FR} U | B49: Autres produits et coproduits d'origine végétale | C49: Mélasse de canne, Brésil, sortie usine transformation | D49: sortie usine | E49: moyenne | F49: Brésil | G49: Brésil | H49: 0.000548716 | I49: 4.2843012 | J49: 0.27894691 | K49: 0.0041226863 | L49: 0.00061546239 | M49: 0.21263921 | N49: 0.012770992 | O49: 5.0416597e-05 | P49: 0.0010233622 | Q49: 4.361222 | R49: 4.3446173 | S49: 0.037542396 | T49: 0.27894691 | U49: 4.6305121e-08 | V49: 0.034912577 | W49: 0.002988562 | X49: 4.3372892e-08 | Y49: 3.6750451e-09 | Z49: 1.0642058e-10 | AA49: 0.0041226863 | AB49: 5.0416597e-05 | AC49: 0.0010233622 | AD49: 0.012770992 | AE49: 1.6637271 | AF49: 12.058254 | AG49: 0.19177205 | AH49: 4.0388847 | AI49: 4.8994352e-07 | AJ49: 0.011913723 | AK49: 0.26702669 | AL49: 6.5e-06
A50: Wheat straw, animal feed, average practices {FR} U | B50: Autres produits et coproduits d'origine végétale | C50: Paille blé tendre, France, sortie champ | D50: sortie champ | E50: moyenne | F50: France | H50: 1.4538829e-06 | I50: 0.89047723 | J50: 0.059151066 | K50: 0.0001280838 | L50: 2.4214092e-05 | M50: 0.0010189139 | N50: 0.0002293358 | O50: 4.5808099e-06 | P50: 2.3780056e-05 | Q50: 16.634464 | R50: 0.903217 | S50: 0.0047152462 | T50: 0.059151066 | U50: 1.4522453e-09 | V50: 0.0044455565 | W50: 0.00015991863 | X50: 1.0679369e-09 | Y50: 1.1730343e-09 | Z50: 3.4267355e-11 | AA50: 0.0001280838 | AB50: 4.5808099e-06 | AC50: 2.3780056e-05 | AD50: 0.0002293358 | AE50: 0.3530255 | AF50: 0.096015387 | AG50: 0.0042026516 | AH50: 0.84142392 | AI50: 7.6670443e-07 | AJ50: 1.7770826e-05 | AK50: 0.059102447 | AL50: 3.0848263e-05
A51: Barley straw, animal feed, average practices {FR} U | B51: Autres produits et coproduits d'origine végétale | C51: Paille orge, France, sortie champ | D51: sortie champ | E51: moyenne | F51: France | H51: 1.816612e-06 | I51: 1.1126423 | J51: 0.073908659 | K51: 0.00016003941 | L51: 3.0255263e-05 | M51: 0.0012731226 | N51: 0.00028655277 | O51: 5.7236757e-06 | P51: 2.971294e-05 | Q51: 16.686322 | R51: 1.1285605 | S51: 0.0058916525 | T51: 0.073908659 | U51: 1.8145658e-09 | V51: 0.005554678 | W51: 0.00019981671 | X51: 1.3343763e-09 | Y51: 1.4656945e-09 | Z51: 4.2816714e-11 | AA51: 0.00016003941 | AB51: 5.7236757e-06 | AC51: 2.971294e-05 | AD51: 0.00028655277 | AE51: 0.44110179 | AF51: 0.11997026 | AG51: 0.0052511707 | AH51: 1.0513507 | AI51: 9.5798945e-07 | AJ51: 2.2204468e-05 | AK51: 0.07384791 | AL51: 3.8544593e-05
A52: Triticale straw, animal feed, average practices {FR} U | B52: Autres produits et coproduits d'origine végétale | C52: Paille triticale, France, sortie champ | D52: sortie champ | E52: moyenne | F52: France | H52: 1.6233024e-06 | I52: 0.99424362 | J52: 0.066043878 | K52: 0.00014300927 | L52: 2.7035735e-05 | M52: 0.0011376469 | N52: 0.00025606006 | O52: 5.1146069e-06 | P52: 2.6551122e-05 | Q52: 16.909426 | R52: 1.0084679 | S52: 0.0052647089 | T52: 0.066043878 | U52: 1.6214739e-09 | V52: 0.0049635926 | W52: 0.00017855378 | X52: 1.1923824e-09 | Y52: 1.3097268e-09 | Z52: 3.8260495e-11 | AA52: 0.00014300927 | AB52: 5.1146069e-06 | AC52: 2.6551122e-05 | AD52: 0.00025606006 | AE52: 0.39416319 | AF52: 0.10720396 | AG52: 0.0046923822 | AH52: 0.93947417 | AI52: 8.5604771e-07 | AJ52: 1.9841642e-05 | AK52: 0.065989593 | AL52: 3.4442979e-05
A53: Groundnut meal, manual extraction, from Indonesia, at feed plant S {FR} U | B53: Autres produits et coproduits d'origine végétale | C53: Tourteau d'arachide, extraction manuelle, Indonésie, sortie usine transformation | D53: sortie usine | E53: moyenne | F53: Indonésie | G53: Indonésie | H53: 0.007424866 | I53: 6.6778207 | J53: 0.51721074 | K53: 0.012132487 | L53: 0.0071528957 | M53: 1.3251175 | N53: 0.041115935 | O53: 0.0010759149 | P53: 0.0071789307 | Q53: 6.8759015 | R53: 6.82686 | S53: 0.62047563 | T53: 0.51721074 | U53: 9.2994983e-08 | V53: 0.054964249 | W53: 0.0032149364 | X53: 9.1404401e-08 | Y53: 4.0328769e-08 | Z53: 8.3969882e-10 | AA53: 0.012132487 | AB53: 0.0010759149 | AC53: 0.0071789307 | AD53: 0.041115935 | AE53: 7.2437029 | AF53: 67.334212 | AG53: 68.855945 | AH53: 6.2707682 | AI53: 1.0608454e-06 | AJ53: 0.000923562 | AK53: 0.51467324 | AL53: 0.001613935
A54: Oat grain, national average, animal feed, at farm gate {FR} U | B54: Céréales | C54: Avoine, conventionnelle, France, sortie champ | D54: sortie champ | E54: moyenne | F54: France | H54: 0.05671969 | I54: 2.4890692 | J54: 0.55512354 | K54: 0.0087047911 | L54: 0.0046300805 | M54: 2.1112437 | N54: 0.038715775 | O54: 0.00017285429 | P54: 0.007073108 | Q54: 19.664358 | R54: 2.5420418 | S54: 0.079602399 | T54: 0.55512354 | U54: 6.653186e-09 | V54: 0.0086291617 | W54: 0.0017374887 | X54: 5.5130877e-08 | Y54: 1.4805134e-08 | Z54: 1.0422817e-09 | AA54: 0.0087047911 | AB54: 0.00017285429 | AC54: 0.007073108 | AD54: 0.038715775 | AE54: 7.9976134 | AF54: 106.18051 | AG54: 0.12413737 | AH54: 2.2993856 | AI54: 1.5671997e-06 | AJ54: 9.2248565e-05 | AK54: 0.43045332 | AL54: 0.12457798
A55: Oat grain stored and transported, processing {FR} U | B55: Céréales | C55: Avoine, conventionnelle, France, sortie OS | D55: sortie OS | E55: moyenne | F55: France | H55: 0.056719967 | I55: 2.6705951 | J55: 0.56547734 | K55: 0.0087521378 | L55: 0.0046392313 | M55: 2.1124195 | N55: 0.038897966 | O55: 0.0001738358 | P55: 0.0070902405 | Q55: 19.851996 | R55: 2.728499 | S55: 0.080646898 | T55: 0.56547734 | U55: 6.8819048e-09 | V55: 0.010694386 | W55: 0.0018008546 | X55: 5.5797234e-08 | Y55: 1.5010573e-08 | Z55: 1.0482506e-09 | AA55: 0.0087521378 | AB55: 0.0001738358 | AC55: 0.0070902405 | AD55: 0.038897966 | AE55: 8.0643638 | AF55: 106.33872 | AG55: 0.12533043 | AH55: 2.4722586 | AI55: 1.6663936e-06 | AJ55: 9.7189855e-05 | AK55: 0.44079642 | AL55: 0.12458373
A56: Soft wheat grain, systematic cover cropping scenario, at farm gate {FR} U | B56: Céréales | C56: Blé tendre, conventionnel, France, levier couverture interculture, sortie champ | D56: sortie champ | E56: déclinaison | F56: France | H56: 0.077105974 | I56: 2.2919582 | J56: 0.44549504 | K56: 0.0075421435 | L56: 0.0029297215 | M56: 1.2232309 | N56: 0.033234592 | O56: 9.3671661e-05 | P56: 0.0040696049 | Q56: 18.007483 | R56: 2.3447841 | S56: 0.060194273 | T56: 0.44549504 | U56: 6.3915778e-09 | V56: 0.0098060641 | W56: 0.0014691794 | X56: 4.8123843e-08 | Y56: 1.0412687e-08 | Z56: 6.8502609e-10 | AA56: 0.0075421435 | AB56: 9.3671661e-05 | AC56: 0.0040696049 | AD56: 0.033234592 | AE56: 4.9704166 | AF56: 61.634971 | AG56: 0.16019659 | AH56: 2.1167368 | AI56: 1.3609514e-06 | AJ56: 8.73336e-05 | AK56: 0.37330126 | AL56: 0.072106443
A57: Soft wheat grain, systematic covercropping scenario, stored and transported, processing {FR} U | B57: Céréales | C57: Blé tendre, conventionnel, France, levier couverture interculture, sortie OS | D57: sortie OS | E57: déclinaison | F57: France | H57: 0.077106254 | I57: 2.4870003 | J57: 0.45594756 | K57: 0.007590179 | L57: 0.0029390564 | M57: 1.2244183 | N57: 0.033417875 | O57: 9.4694496e-05 | P57: 0.0040868705 | Q57: 18.209772 | R57: 2.5458175 | S57: 0.061276211 | T57: 0.45594756 | U57: 6.6243739e-09 | V57: 0.012475682 | W57: 0.0015329168 | X57: 4.8796948e-08 | Y57: 1.0623229e-08 | Z57: 6.9111286e-10 | AA57: 0.007590179 | AB57: 9.4694496e-05 | AC57: 0.0040868705 | AD57: 0.033417875 | AE57: 5.0379864 | AF57: 61.793848 | AG57: 0.16142621 | AH57: 2.303008 | AI57: 1.4647794e-06 | AJ57: 9.2624967e-05 | AK57: 0.38374267 | AL57: 0.072112264
A58: Soft wheat grain, protein crop scenario, at farm gate {FR} U | B58: Céréales | C58: Blé tendre, conventionnel, France, levier introduction de légumineuse, sortie champ | D58: sortie champ | E58: déclinaison | F58: France | H58: 0.07343969 | I58: 2.0536119 | J58: 0.42903985 | K58: 0.0067706042 | L58: 0.0032589388 | M58: 1.4113285 | N58: 0.029807812 | O58: 8.9728411e-05 | P58: 0.0050150817 | Q58: 17.75713 | R58: 2.1015907 | S58: 0.058901051 | T58: 0.42903985 | U58: 5.731476e-09 | V58: 0.0089412798 | W58: 0.0013314291 | X58: 4.3191712e-08 | Y58: 1.0049761e-08 | Z58: 6.6737923e-10 | AA58: 0.0067706042 | AB58: 8.9728411e-05 | AC58: 0.0050150817 | AD58: 0.029807812 | AE58: 5.0223828 | AF58: 71.06043 | AG58: 0.1465729 | AH58: 1.8966516 | AI58: 1.2114814e-06 | AJ58: 7.9369723e-05 | AK58: 0.34572138 | AL58: 0.083239093
A59: Soft wheat grain, protein crop scenario, stored and transported, processing {FR} U | B59: Céréales | C59: Blé tendre, conventionnel, France, levier introduction de légumineuse, sortie OS | D59: sortie OS | E59: déclinaison | F59: France | H59: 0.07343997 | I59: 2.2486539 | J59: 0.43949237 | K59: 0.0068186398 | L59: 0.0032682737 | M59: 1.4125159 | N59: 0.029991095 | O59: 9.0751246e-05 | P59: 0.0050323473 | Q59: 17.95942 | R59: 2.3026241 | S59: 0.059982989 | T59: 0.43949237 | U59: 5.9642721e-09 | V59: 0.011610898 | W59: 0.0013951665 | X59: 4.3864816e-08 | Y59: 1.0260303e-08 | Z59: 6.73466e-10 | AA59: 0.0068186398 | AB59: 9.0751246e-05 | AC59: 0.0050323473 | AD59: 0.029991095 | AE59: 5.0899526 | AF59: 71.219307 | AG59: 0.14780252 | AH59: 2.0829228 | AI59: 1.3153095e-06 | AJ59: 8.466109e-05 | AK59: 0.35616279 | AL59: 0.083244914
A60: Soft wheat grain, basis scenario without lever, at farm gate {FR} U | B60: Céréales | C60: Blé tendre, conventionnel, France, sans levier, sortie champ | D60: sortie champ | E60: déclinaison | F60: France | H60: 0.077106006 | I60: 2.2153249 | J60: 0.4445626 | K60: 0.0074498036 | L60: 0.0033233071 | M60: 1.2231352 | N60: 0.032882115 | O60: 9.3318803e-05 | P60: 0.0049697319 | Q60: 17.929309 | R60: 2.2670962 | S60: 0.060542562 | T60: 0.4445626 | U60: 6.2783818e-09 | V60: 0.0094534545 | W60: 0.0014556664 | X60: 4.7477264e-08 | Y60: 1.0879129e-08 | Z60: 5.7183184e-10 | AA60: 0.0074498036 | AB60: 9.3318803e-05 | AC60: 0.0049697319 | AD60: 0.032882115 | AE60: 3.6609278 | AF60: 61.626839 | AG60: 0.15972047 | AH60: 2.0443829 | AI60: 1.2977475e-06 | AJ60: 8.5697274e-05 | AK60: 0.37237267 | AL60: 0.072104232
A61: Soft wheat grain, basis scenario without lever, stored and transported, processing {FR} U | B61: Céréales | C61: Blé tendre, conventionnel, France, sans levier, sortie OS | D61: sortie OS | E61: déclinaison | F61: France | H61: 0.077106286 | I61: 2.410367 | J61: 0.45501512 | K61: 0.0074978392 | L61: 0.003332642 | M61: 1.2243226 | N61: 0.033065398 | O61: 9.4341638e-05 | P61: 0.0049869975 | Q61: 18.131599 | R61: 2.4681295 | S61: 0.0616245 | T61: 0.45501512 | U61: 6.5111779e-09 | V61: 0.012123073 | W61: 0.0015194038 | X61: 4.8150369e-08 | Y61: 1.1089671e-08 | Z61: 5.779186e-10 | AA61: 0.0074978392 | AB61: 9.4341638e-05 | AC61: 0.0049869975 | AD61: 0.033065398 | AE61: 3.7284977 | AF61: 61.785716 | AG61: 0.16095009 | AH61: 2.2306541 | AI61: 1.4015756e-06 | AJ61: 9.0988641e-05 | AK61: 0.38281408 | AL61: 0.072110053
A62: Soft wheat grain, conventional, national average, animal feed, at farm gate, production {FR} U | B62: Céréales | C62: Blé tendre, conventionnel, France, sortie champ | D62: sortie champ | E62: moyenne | F62: France | H62: 0.083621219 | I62: 2.3994134 | J62: 0.47229038 | K62: 0.0074020551 | L62: 0.0034414052 | M62: 1.3738553 | N62: 0.032289078 | O62: 0.00010999814 | P62: 0.0051658877 | Q62: 18.182348 | R62: 2.4574603 | S62: 0.064235191 | T62: 0.47229038 | U62: 6.4129605e-09 | V62: 0.010719945 | W62: 0.0015615221 | X62: 4.691438e-08 | Y62: 2.5978762e-09 | Z62: 7.6170444e-10 | AA62: 0.0074020551 | AB62: 0.00010999814 | AC62: 0.0051658877 | AD62: 0.032289078 | AE62: 9.9158369 | AF62: 69.199264 | AG62: 0.14308273 | AH62: 2.2176601 | AI62: 1.6811547e-06 | AJ62: 0.00012186826 | AK62: 0.39118449 | AL62: 0.080984021
A63: Soft wheat grain, conventional, stored and transported, processing {FR} U | B63: Céréales | C63: Blé tendre, conventionnel, France, sortie OS | D63: sortie OS | E63: moyenne | F63: France | H63: 0.083621499 | I63: 2.5944555 | J63: 0.4827429 | K63: 0.0074500907 | L63: 0.0034507401 | M63: 1.3750427 | N63: 0.032472361 | O63: 0.00011102098 | P63: 0.0051831533 | Q63: 18.384638 | R63: 2.6584936 | S63: 0.065317128 | T63: 0.4827429 | U63: 6.6457566e-09 | V63: 0.013389563 | W63: 0.0016252595 | X63: 4.7587484e-08 | Y63: 2.8084185e-09 | Z63: 7.6779121e-10 | AA63: 0.0074500907 | AB63: 0.00011102098 | AC63: 0.0051831533 | AD63: 0.032472361 | AE63: 9.9834068 | AF63: 69.358141 | AG63: 0.14431234 | AH63: 2.4039313 | AI63: 1.7849828e-06 | AJ63: 0.00012715962 | AK63: 0.4016259 | AL63: 0.080989842
A64: Maize grain, conventional, 28% moisture, national average, animal feed, at farm gate {FR} U | B64: Céréales | C64: Maïs humide (28% humidité), conventionnel, France, sortie champ | D64: sortie champ | E64: moyenne | F64: France | H64: 0.051368392 | I64: 2.4924667 | J64: 0.35610761 | K64: 0.0078635987 | L64: 0.0026262272 | M64: 0.98211144 | N64: 0.035643017 | O64: 9.7711345e-05 | P64: 0.003381946 | Q64: 15.379919 | R64: 2.5897169 | S64: 0.06497755 | T64: 0.35610761 | U64: 1.0980621e-08 | V64: 0.040547249 | W64: 0.0011926015 | X64: 5.379761e-08 | Y64: 7.0566011e-09 | Z64: 5.5439903e-10 | AA64: 0.0078635987 | AB64: 9.7711345e-05 | AC64: 0.003381946 | AD64: 0.035643017 | AE64: 19.945791 | AF64: 49.468899 | AG64: 0.54974867 | AH64: 2.3536869 | AI64: 1.3929973e-06 | AJ64: 0.00010747959 | AK64: 0.29813935 | AL64: 0.057860779
A65: Maize grain dried, systematic covercropping scenario, processing {FR} U | B65: Céréales | C65: Maïs, conventionnel, France, levier couverture interculture, sortie champ | D65: sortie champ | E65: déclinaison | F65: France | H65: 0.068424032 | I65: 4.7589508 | J65: 0.4804843 | K65: 0.010650089 | L65: 0.0029965556 | M65: 1.2790355 | N65: 0.046597998 | O65: 0.00016572935 | P65: 0.0030824941 | Q65: 20.052057 | R65: 4.9439137 | S65: 0.090616134 | T65: 0.4804843 | U65: 2.2143839e-08 | V65: 0.085407602 | W65: 0.0014802965 | X65: 7.0692265e-08 | Y65: 1.2270189e-08 | Z65: 9.6930148e-10 | AA65: 0.010650089 | AB65: 0.00016572935 | AC65: 0.0030824941 | AD65: 0.046597998 | AE65: 26.913513 | AF65: 64.818125 | AG65: 1.1046411 | AH65: 4.4965813 | AI65: 1.9339648e-06 | AJ65: 0.00013261832 | AK65: 0.40502557 | AL65: 0.075326109
... A81: Sorghum, conventional, stored and transported, processing {FR} U | B81: Céréales | C81: Sorgho, conventionnel, France, sortie OS | D81: sortie OS | E81: moyenne | F81: France | H81: 0.090105345 | I81: 2.7605035 | J81: 0.44943306 | K81: 0.0031185865 | L81: 0.0033509723 | M81: 2.1785891 | N81: 0.012499943 | O81: 0.00027236482 | P81: 0.0048595574 | Q81: 2.8541272 | R81: 2.8327637 | S81: 0.056497609 | T81: 0.44943306 | U81: 1.2369234e-08 | V81: 0.024231193 | W81: 0.00098105642 | X81: 2.0463033e-08 | Y81: 1.8617325e-09 | Z81: 1.3004874e-09 | AA81: 0.0031185865 | AB81: 0.00027236482 | AC81: 0.0048595574 | AD81: 0.012499943 | AE81: 5.9308535 | AF81: 109.70122 | AG81: 0.22160759 | AH81: 2.5792787 | AI81: 1.4947747e-06 | AJ81: 8.8318094e-05 | AK81: 0.32081898 | AL81: 0.12852576
A82: Sorghum, grain US, conventional, national average, animal feed, at french port {FR} U | B82: Céréales | C82: Sorgho, conventionnel, USA, rendu port (Brest) | D82: arrivée port | E82: moyenne | F82: USA | G82: France | H82: 0.0028970931 | I82: 7.1832112 | J82: 0.60961017 | K82: 0.0077566088 | L82: 0.0031412974 | M82: 0.095801617 | N82: 0.02858789 | O82: 0.00023086352 | P82: 0.0050137422 | Q82: 40.573585 | R82: 7.4050888 | S82: 0.11112275 | T82: 0.60961017 | U82: 1.0659265e-08 | V82: 0.020556957 | W82: 0.0049600733 | X82: 5.806581e-08 | Y82: 6.3508177e-09 | Z82: 3.5971506e-10 | AA82: 0.0077566088 | AB82: 0.00023086352 | AC82: 0.0050137422 | AD82: 0.02858789 | AE82: 9.4491054 | AF82: 56.40095 | AG82: 4.1901711 | AH82: 6.7381184 | AI82: 2.8020996e-06 | AJ82: 0.00042289035 | AK82: 0.60863576 | AL82: 0.00055152254
A83: Triticale grain, conventional, national average, animal feed, at farm gate, production {FR} U | B83: Céréales | C83: Triticale, conventionnelle, France, sortie champ | D83: sortie champ | E83: moyenne | F83: France | H83: 0.045938552 | I83: 2.6058521 | J83: 0.54905466 | K83: 0.0059561493 | L83: 0.0043884525 | M83: 2.0808046 | N83: 0.026484409 | O83: 0.00017081706 | P83: 0.0072077215 | Q83: 18.44665 | R83: 2.6616235 | S83: 0.068235692 | T83: 0.54905466 | U83: 9.0677316e-09 | V83: 0.010257421 | W83: 0.0017680347 | X83: 3.5962678e-08 | Y83: 8.5182572e-09 | Z83: 9.805108e-10 | AA83: 0.0059561493 | AB83: 0.00017081706 | AC83: 0.0072077215 | AD83: 0.026484409 | AE83: 2.8215664 | AF83: 104.63524 | AG83: 0.089896948 | AH83: 2.4095189 | AI83: 1.6386573e-06 | AJ83: 0.00012494711 | AK83: 0.42616621 | AL83: 0.1227635
A84: Triticale grain stored and transported, processing {FR} U | B84: Céréales | C84: Triticale, conventionnelle, France, sortie OS | D84: sortie OS | E84: moyenne | F84: France | H84: 0.045938829 | I84: 2.7873779 | J84: 0.55940846 | K84: 0.0060034959 | L84: 0.0043976032 | M84: 2.0819804 | N84: 0.026666601 | O84: 0.00017179857 | P84: 0.007224854 | Q84: 18.634288 | R84: 2.8480806 | S84: 0.069280191 | T84: 0.55940846 | U84: 9.2964504e-09 | V84: 0.012322646 | W84: 0.0018314006 | X84: 3.6629035e-08 | Y84: 8.7236959e-09 | Z84: 9.8647978e-10 | AA84: 0.0060034959 | AB84: 0.00017179857 | AC84: 0.007224854 | AD84: 0.026666601 | AE84: 2.8883167 | AF84: 104.79345 | AG84: 0.091090012 | AH84: 2.582392 | AI84: 1.7378512e-06 | AJ84: 0.0001298884 | AK84: 0.43650932 | AL84: 0.12276925
A85: Wheat starch, from wheat starch extraction, at plant {FR} U | B85: Coproduits des céréales | C85: Amidon de blé, France, sortie usine transformation | D85: sortie usine | E85: moyenne | F85: France | G85: France | H85: 0.084217552 | I85: 11.880342 | J85: 0.83851363 | K85: 0.0079459571 | L85: 0.0039395266 | M85: 1.3908463 | N85: 0.034021957 | O85: 0.00016109317 | P85: 0.0059034671 | Q85: 28.114771 | R85: 12.252443 | S85: 0.095273318 | T85: 0.83851363 | U85: 2.1314962e-08 | V85: 0.20629259 | W85: 0.002360797 | X85: 5.3508704e-08 | Y85: 4.0723286e-09 | Z85: 8.7857862e-10 | AA85: 0.0079459571 | AB85: 0.00016109317 | AC85: 0.0059034671 | AD85: 0.034021957 | AE85: 11.940845 | AF85: 70.292318 | AG85: 0.16518173 | AH85: 11.179963 | AI85: 2.35556e-06 | AJ85: 0.00052072338 | AK85: 0.7563309 | AL85: 0.081662008
A86: Maize starch, national average, animal feed, at plant {FR} U | B86: Coproduits des céréales | C86: Amidon de maïs, France, sortie usine transformation | D86: sortie usine | E86: moyenne | F86: France | G86: France | H86: 0.069567419 | I86: 10.578607 | J86: 0.80417284 | K86: 0.011551344 | L86: 0.0039090038 | M86: 1.3465493 | N86: 0.050273105 | O86: 0.00019677443 | P86: 0.0049264012 | Q86: 28.355569 | R86: 10.954821 | S86: 0.12176539 | T86: 0.80417284 | U86: 2.7475345e-08 | V86: 0.17344596 | W86: 0.0024702547 | X86: 8.0612885e-08 | Y86: 1.5246462e-08 | Z86: 9.5655e-10 | AA86: 0.011551344 | AB86: 0.00019677443 | AC86: 0.0049264012 | AD86: 0.050273105 | AE86: 28.43737 | AF86: 68.110576 | AG86: 0.78175009 | AH86: 9.944215 | AI86: 8.2454422e-06 | AJ86: 0.00050495374 | AK86: 0.72519367 | AL86: 0.078474218
A87: Soft wheat grain, conventional, Great Britain, animal feed, at french port {FR} U | B87: Coproduits des céréales | C87: Blé tendre, conventionnel, Grance-Bretagne, rendu port (le Havre) | D87: arrivée port | E87: moyenne | F87: Grande Bretagne | H87: 0.075623064 | I87: 2.8435962 | J87: 0.36451741 | K87: 0.0068821911 | L87: 0.0023551919 | M87: 1.0244128 | N87: 0.030444154 | O87: 7.0289353e-05 | P87: 0.003425902 | Q87: 15.344053 | R87: 2.926416 | S87: 0.058058517 | T87: 0.36451741 | U87: 8.2342777e-09 | V87: 0.010000459 | W87: 0.0020106666 | X87: 4.5977213e-08 | Y87: 1.5670327e-08 | Z87: 9.6028255e-10 | AA87: 0.0068821911 | AB87: 7.0289353e-05 | AC87: 0.003425902 | AD87: 0.030444154 | AE87: 6.7816691 | AF87: 53.224547 | AG87: 0.19015156 | AH87: 2.6423947 | AI87: 1.9734534e-06 | AJ87: 0.00016096774 | AK87: 0.36345456 | AL87: 0.00090188331
A88: Wheat starch slurry, from wheat starch extraction, at plant {FR} U | B88: Coproduits des céréales | C88: Bouillie d'amidon de blé, France, sortie usine de transformation | D88: sortie usine | E88: moyenne | F88: France | G88: France | H88: 0.0067287254 | I88: 0.94920304 | J88: 0.06699468 | K88: 0.00063485772 | L88: 0.00031475615 | M88: 0.11112437 | N88: 0.0027182506 | O88: 1.2870853e-05 | P88: 0.00047166901 | Q88: 2.2462844 | R88: 0.97893283 | S88: 0.0076120473 | T88: 0.06699468 | U88: 1.7030004e-09 | V88: 0.016482148 | W88: 0.00018862048 | X88: 4.2751821e-09 | Y88: 3.2536662e-10 | Z88: 7.019575e-11 | AA88: 0.00063485772 | AB88: 1.2870853e-05 | AC88: 0.00047166901 | AD88: 0.0027182506 | AE88: 0.95403707 | AF88: 5.6161416 | AG88: 0.013197516 | AH88: 0.89324493 | AI88: 1.8820205e-07 | AJ88: 4.1604209e-05 | AK88: 0.060428531 | AL88: 0.0065245452
A89: Biscuit meal, animal feed, at retailer gate {FR} U | B89: Coproduits des céréales | C89: Coproduits biscuiterie, France, sortie usine transformation | D89: sortie usine | E89: moyenne | F89: France | G89: France | H89: 4.4015043e-07 | I89: 0.29641367 | J89: 0.019332233 | K89: 9.0197111e-05 | L89: 1.6961257e-05 | M89: 0.0013702905 | N89: 0.00038340357 | O89: 1.3928679e-06 | P89: 3.5785106e-05 | Q89: 0.300834 | R89: 0.2997904 | S89: 0.0017945163 | T89: 0.019332233 | U89: 4.2396512e-10 | V89: 0.00038578677 | W89: 0.00013392939 | X89: 1.9024649e-09 | Y89: 2.1625646e-10 | Z89: 1.039778e-11 | AA89: 9.0197111e-05 | AB89: 1.3928679e-06 | AC89: 3.5785106e-05 | AD89: 0.00038340357 | AE89: 0.13729128 | AF89: 0.20954997 | AG89: 0.0012147757 | AH89: 0.27882976 | AI89: 6.0172645e-08 | AJ89: 5.7973349e-06 | AK89: 0.019316993 | AL89: 9.44212e-06
A90: Bread meal, animal feed, at retailer gate {FR} U | B90: Coproduits des céréales | C90: Coproduits boulangerie France, sortie usine transformation | D90: sortie usine | E90: moyenne | F90: France | G90: France | H90: 1.1194926e-06 | I90: 1.7545059 | J90: 0.11144369 | K90: 0.00016563674 | L90: 3.6022605e-05 | M90: 0.0017954702 | N90: 0.00063229796 | O90: 4.6749635e-06 | P90: 5.896625e-05 | Q90: 1.7720476 | R90: 1.7686879 | S90: 0.0067548598 | T90: 0.11144369 | U90: 4.4641269e-09 | V90: 0.0017619787 | W90: 0.00029407801 | X90: 2.3411528e-09 | Y90: 4.0550652e-10 | Z90: 3.1758591e-11 | AA90: 0.00016563674 | AB90: 4.6749635e-06 | AC90: 5.896625e-05 | AD90: 0.00063229796 | AE90: 0.20635808 | AF90: 0.24125954 | AG90: 0.0032885234 | AH90: 1.5965742 | AI90: 1.5023617e-07 | AJ90: 2.3848543e-05 | AK90: 0.11139648 | AL90: 2.3368472e-05
A91: Corn gluten feed, national average, animal feed, at plant {FR} U | B91: Coproduits des céréales | C91: Corn gluten feed, France, sortie usine transformation | D91: sortie usine | E91: moyenne | F91: France | G91: France | H91: 0.021557898 | I91: 3.2781514 | J91: 0.24920108 | K91: 0.0035795879 | L91: 0.0012113416 | M91: 0.41727539 | N91: 0.01557888 | O91: 6.0977441e-05 | P91: 0.0015266177 | Q91: 8.7869647 | R91: 3.3947346 | S91: 0.037733264 | T91: 0.24920108 | U91: 8.5141966e-09 | V91: 0.053748296 | W91: 0.00076549483 | X91: 2.4980722e-08 | Y91: 4.7246494e-09 | Z91: 2.9642047e-10 | AA91: 0.0035795879 | AB91: 6.0977441e-05 | AC91: 0.0015266177 | AD91: 0.01557888 | AE91: 8.8123135 | AF91: 21.106444 | AG91: 0.24225261 | AH91: 3.0815628 | AI91: 2.5551387e-06 | AJ91: 0.00015647758 | AK91: 0.22472662 | AL91: 0.024317981
A92: DDGS, dehydrated, from wheat distillation, animal feed, at plant {FR} U | B92: Coproduits des céréales | C92: Drêches de distillerie de blé, France, sortie usine transformation | D92: sortie usine | E92: moyenne | F92: France | G92: France | H92: 0.056499157 | I92: 9.0105806 | J92: 0.63967696 | K92: 0.0059033758 | L92: 0.0055248625 | M92: 0.90092735 | N92: 0.025588607 | O92: 0.00061124651 | P92: 0.0037872641 | Q92: 20.744411 | R92: 9.2478703 | S92: 0.076517118 | T92: 0.63967696 | U92: 2.0838475e-08 | V92: 0.13134255 | W92: 0.00184722 | X92: 3.8943128e-08 | Y92: 8.9075539e-09 | Z92: 4.8455774e-10 | AA92: 0.0059033758 | AB92: 0.00061124651 | AC92: 0.0037872641 | AD92: 0.025588607 | AE92: 3.1187288 | AF92: 45.571925 | AG92: 0.13723754 | AH92: 8.4205239 | AI92: 1.3419336e-06 | AJ92: 0.00017954329 | AK92: 0.58660361 | AL92: 0.052893804
A93: DDGS, dehydrated, from corn, animal feed, at plant {FR} U | B93: Coproduits des céréales | C93: Drêches et solubles de distillerie de maïs, France, sortie usine transformation | D93: sortie usine | E93: moyenne | F93: France | G93: France | H93: 0.04308162 | I93: 12.304807 | J93: 0.90643809 | K93: 0.0074712229 | L93: 0.006547498 | M93: 0.83101274 | N93: 0.032150725 | O93: 0.00084948367 | P93: 0.0030503387 | Q93: 23.270425 | R93: 12.498495 | S93: 0.1033256 | T93: 0.90643809 | U93: 3.5755518e-08 | V93: 0.077826609 | W93: 0.0023165888 | X93: 5.353697e-08 | Y93: 7.4455394e-09 | Z93: 5.8652115e-10 | AA93: 0.0074712229 | AB93: 0.00084948367 | AC93: 0.0030503387 | AD93: 0.032150725 | AE93: 17.54101 | AF93: 42.01308 | AG93: 0.48820621 | AH93: 11.315753 | AI93: 1.6083132e-06 | AJ93: 0.00021798411 | AK93: 0.85761276 | AL93: 0.048607343
A94: DDGS US, dehydrated, from corn, animal feed, at french port {FR} U | B94: Coproduits des céréales | C94: Drêches et solubles de distillerie de maïs, USA, rendues port (Brest) | D94: arrivée port | E94: moyenne | F94: USA | G94: USA | H94: 0.043268734 | I94: 8.8791519 | J94: 0.66058103 | K94: 0.0066552255 | L94: 0.0019672313 | M94: 0.6233661 | N94: 0.023142071 | O94: 0.00014836146 | P94: 0.0032486847 | Q94: 12.248825 | R94: 9.1027419 | S94: 0.094247632 | T94: 0.66058103 | U94: 3.7954456e-08 | V94: 0.026372199 | W94: 0.0049125345 | X94: 4.9333368e-08 | Y94: 1.1615634e-08 | Z94: 5.5169976e-10 | AA94: 0.0066552255 | AB94: 0.00014836146 | AC94: 0.0032486847 | AD94: 0.023142071 | AE94: 55.525014 | AF94: 41.622797 | AG94: 0.55264056 | AH94: 8.2571932 | AI94: 2.25054e-06 | AJ94: 0.00048961695 | AK94: 0.65850114 | AL94: 0.0015902733
A95: Wheat feed flour, animal feed, at plant {FR} U | B95: Coproduits des céréales | C95: Farine basse de blé tendre, France, sortie usine transformation | D95: sortie usine | E95: moyenne | F95: France | G95: France | H95: 0.019276639 | I95: 0.87372497 | J95: 0.1173578 | K95: 0.0018902652 | L95: 0.00083665804 | M95: 0.3063891 | N95: 0.0083186969 | O95: 2.4040501e-05 | P95: 0.0012522705 | Q95: 4.8211621 | R95: 0.90392976 | S95: 0.016133561 | T95: 0.1173578 | U95: 1.7363262e-09 | V95: 0.013915942 | W95: 0.00039835239 | X95: 1.2315731e-08 | Y95: 2.8152221e-09 | Z95: 1.4654903e-10 | AA95: 0.0018902652 | AB95: 2.4040501e-05 | AC95: 0.0012522705 | AD95: 0.0083186969 | AE95: 0.95382941 | AF95: 15.473873 | AG95: 0.041030452 | AH95: 0.82500405 | AI95: 3.6930235e-07 | AJ95: 2.9111899e-05 | AK95: 0.099299336 | AL95: 0.018029351
A96: Wheat flour, animal feed, at plant {FR} U | B96: Coproduits des céréales | C96: Farine de blé tendre, France, sortie usine de transformation | D96: sortie usine | E96: moyenne | F96: France | G96: France | H96: 0.094649842 | I96: 4.2900595 | J96: 0.57623618 | K96: 0.0092813534 | L96: 0.0041080579 | M96: 1.504395 | N96: 0.040845467 | O96: 0.00011804078 | P96: 0.0061487485 | Q96: 23.672292 | R96: 4.4383674 | S96: 0.079217075 | T96: 0.57623618 | U96: 8.5255005e-09 | V96: 0.068328388 | W96: 0.0019559421 | X96: 6.0471225e-08 | Y96: 1.3822966e-08 | Z96: 7.1956747e-10 | AA96: 0.0092813534 | AB96: 0.00011804078 | AC96: 0.0061487485 | AD96: 0.040845467 | AE96: 4.6833787 | AF96: 75.977955 | AG96: 0.2014628 | AH96: 4.0508359 | AI96: 1.8133041e-06 | AJ96: 0.00014294176 | AK96: 0.48756768 | AL96: 0.088525555
A97: Wheat gluten meal, from wheat starch extraction, at plant {FR} U | B97: Coproduits des céréales | C97: Farine de gluten feed de blé, amidon 25% sur brut, France, sortie usine transformation | D97: sortie usine | E97: moyenne | F97: France | G97: France | H97: 0.26105462 | I97: 36.826267 | J97: 2.5991952 | K97: 0.0246306 | L97: 0.012211607 | M97: 4.3112967 | N97: 0.10546007 | O97: 0.00049935098 | P97: 0.018299361 | Q97: 87.149185 | R97: 37.979695 | S97: 0.2953249 | T97: 2.5991952 | U97: 6.6071373e-08 | V97: 0.63945854 | W97: 0.0073179159 | X97: 1.6586441e-07 | Y97: 1.2623262e-08 | Z97: 2.7233873e-09 | AA97: 0.0246306 | AB97: 0.00049935098 | AC97: 0.018299361 | AD97: 0.10546007 | AE97: 37.013814 | AF97: 217.88967 | AG97: 0.51202455 | AH97: 34.655258 | AI97: 7.3016824e-06 | AJ97: 0.0016141201 | AK97: 2.3444481 | AL97: 0.25313304
A98: Corn gluten meal (gluten 60), national average, animal feed, at plant {FR} U | B98: Coproduits des céréales | C98: Gluten 60, France, sortie usine transformation | D98: sortie usine | E98: moyenne | F98: France | G98: France | H98: 0.10189459 | I98: 15.494362 | J98: 1.1778626 | K98: 0.016919118 | L98: 0.0057254723 | M98: 1.972275 | N98: 0.073634431 | O98: 0.00028821322 | P98: 0.0072156424 | Q98: 41.53207 | R98: 16.045399 | S98: 0.17834834 | T98: 1.1778626 | U98: 4.0242817e-08 | V98: 0.25404427 | W98: 0.0036181533 | X98: 1.1807275e-07 | Y98: 2.2331314e-08 | Z98: 1.4010476e-09 | AA98: 0.016919118 | AB98: 0.00028821322 | AC98: 0.0072156424 | AD98: 0.073634431 | AE98: 41.651884 | AF98: 99.760766 | AG98: 1.1450202 | AH98: 14.565176 | AI98: 1.2077003e-05 | AJ98: 0.00073959986 | AK98: 1.0621827 | AL98: 0.11494027
A99: Wheat gluten feed, from wheat starch extraction, at plant {FR} U | B99: Coproduits des céréales | C99: Gluten feed de blé, amidon 25% sur brut, France, sortie usine transformation | D99: sortie usine | E99: moyenne | F99: France | G99: France | H99: 0.053949858 | I99: 7.6105602 | J99: 0.53715277 | K99: 0.005090189 | L99: 0.0025236651 | M99: 0.8909777 | N99: 0.021794504 | O99: 0.00010319647 | P99: 0.0037817677 | Q99: 18.010354 | R99: 7.848929 | S99: 0.061032194 | T99: 0.53715277 | U99: 1.3654388e-08 | V99: 0.13215126 | W99: 0.0015123292 | X99: 3.4277736e-08 | Y99: 2.6087382e-09 | Z99: 5.6281845e-10 | AA99: 0.005090189 | AB99: 0.00010319647 | AC99: 0.0037817677 | AD99: 0.021794504 | AE99: 7.6493187 | AF99: 45.029337 | AG99: 0.1058156 | AH99: 7.1618969 | AI99: 1.5089744e-06 | AJ99: 0.00033357598 | AK99: 0.48450642 | AL99: 0.052312774
... A104: Faba bean extruded, Bleu Blanc Coeur feed, at processing {FR} U | B104: Graines d'oléagineux et de protéagineux | C104: Féverole extrudée, Bleu Blanc Cœur, France, sortie usine transformation | D104: sortie usine | E104: moyenne | F104: France | G104: France | H104: 0.086568026 | I104: 2.3041141 | J104: 0.337721 | K104: 0.0012093141 | L104: 0.0037179292 | M104: 2.1547778 | N104: 0.004309921 | O104: 0.00012207286 | P104: 0.0072250106 | Q104: 19.114557 | R104: 2.3627001 | S104: 0.049374069 | T104: 0.337721 | U104: 5.9389539e-09 | V104: 0.026960702 | W104: 0.00059228352 | X104: 8.9035642e-09 | Y104: 2.9974594e-09 | Z104: 6.8786651e-10 | AA104: 0.0012093141 | AB104: 0.00012207286 | AC104: 0.0072250106 | AD104: 0.004309921 | AE104: 18.227818 | AF104: 108.49798 | AG104: 0.032715849 | AH104: 2.1793306 | AI104: 1.0803173e-06 | AJ104: 6.3040857e-05 | AK104: 0.21049585 | AL104: 0.1271621
A105: Spring faba bean, conventional, national average, at farm gate {FR} U | B105: Graines d'oléagineux et de protéagineux | C105: Féverole, à fleurs blanches, France, sortie champ | D105: sortie champ | E105: moyenne | F105: France | H105: 0.086567545 | I105: 1.3637056 | J105: 0.30254122 | K105: 0.0011322489 | L105: 0.0037010958 | M105: 2.1532011 | N105: 0.0040425717 | O105: 0.00011976699 | P105: 0.0071988704 | Q105: 18.136527 | R105: 1.3885512 | S105: 0.046212826 | T105: 0.30254122 | U105: 4.6306863e-09 | V105: 0.0061331975 | W105: 0.00048153119 | X105: 7.9746452e-09 | Y105: 2.7111973e-09 | Z105: 6.7509128e-10 | AA105: 0.0011322489 | AB105: 0.00011976699 | AC105: 0.0071988704 | AD105: 0.0040425717 | AE105: 18.131459 | AF105: 108.31998 | AG105: 0.030150258 | AH105: 1.28463 | AI105: 9.3744708e-07 | AJ105: 4.3937875e-05 | AK105: 0.17534582 | AL105: 0.12715146
A106: Faba bean, grain stored and transported, processing {FR} U | B106: Graines d'oléagineux et de protéagineux | C106: Féverole, France, sortie OS | D106: sortie OS | E106: moyenne | F106: France | H106: 0.086567822 | I106: 1.5452315 | J106: 0.31289502 | K106: 0.0011795955 | L106: 0.0037102465 | M106: 2.1543768 | N106: 0.0042247635 | O106: 0.0001207485 | P106: 0.0072160029 | Q106: 18.324165 | R106: 1.5750083 | S106: 0.047257326 | T106: 0.31289502 | U106: 4.8594051e-09 | V106: 0.0081984223 | W106: 0.00054489711 | X106: 8.6410022e-09 | Y106: 2.916636e-09 | Z106: 6.8106025e-10 | AA106: 0.0011795955 | AB106: 0.0001207485 | AC106: 0.0072160029 | AD106: 0.0042247635 | AE106: 18.198209 | AF106: 108.47819 | AG106: 0.031343322 | AH106: 1.4575031 | AI106: 1.036641e-06 | AJ106: 4.8879166e-05 | AK106: 0.18568893 | AL106: 0.12715721
A107: Rapeseed, systematic covercropping scenario, at farm gate {FR} U | B107: Graines d'oléagineux et de protéagineux | C107: Graine de colza, conventionnelle, France, levier couverture interculture, sortie champ | D107: sortie champ | E107: déclinaison | F107: France | H107: 0.1586259 | I107: 4.4874509 | J107: 0.90375812 | K107: 0.016731821 | L107: 0.0061853764 | M107: 2.7444235 | N107: 0.073028952 | O107: 0.00025764458 | P107: 0.0080637331 | Q107: 30.574297 | R107: 4.5851969 | S107: 0.13324211 | T107: 0.90375812 | U107: 3.5791261e-08 | V107: 0.015164464 | W107: 0.0029766315 | X107: 1.0746684e-07 | Y107: 2.5889388e-08 | Z107: 1.7146642e-09 | AA107: 0.016731821 | AB107: 0.00025764458 | AC107: 0.0080637331 | AD107: 0.073028952 | AE107: 22.862068 | AF107: 138.22736 | AG107: 0.28516067 | AH107: 4.1374431 | AI107: 2.6168874e-06 | AJ107: 0.00017171245 | AK107: 0.74175337 | AL107: 0.16183304
A108: Rapeseed grain, systematic covercropping scenario, dried, stored and transported, processing {FR} U | B108: Graines d'oléagineux et de protéagineux | C108: Graine de colza, conventionnelle, France, levier couverture interculture, sortie OS | D108: sortie OS | E108: déclinaison | F108: France | H108: 0.15863094 | I108: 4.6907353 | J108: 0.91535638 | K108: 0.016780787 | L108: 0.0061949969 | M108: 2.7456894 | N108: 0.073216787 | O108: 0.00025868464 | P108: 0.0080814352 | Q108: 30.78487 | R108: 4.7937647 | S108: 0.13436249 | T108: 0.91535638 | U108: 3.6074399e-08 | V108: 0.017367047 | W108: 0.0030422426 | X108: 1.0814346e-07 | Y108: 2.6099069e-08 | Z108: 1.7209856e-09 | AA108: 0.016780787 | AB108: 0.00025868464 | AC108: 0.0080814352 | AD108: 0.073216787 | AE108: 22.930564 | AF108: 138.39026 | AG108: 0.28639646 | AH108: 4.3302157 | AI108: 2.7182436e-06 | AJ108: 0.00017696258 | AK108: 0.75333557 | AL108: 0.16184384
A109: Rapeseed, protein crop scenario, at farm gate {FR} U | B109: Graines d'oléagineux et de protéagineux | C109: Graine de colza, conventionnelle, France, levier introduction de légumineuse, sortie champ | D109: sortie champ | E109: déclinaison | F109: France | H109: 0.15003631 | I109: 4.4864222 | J109: 0.91218494 | K109: 0.016717335 | L109: 0.0069878626 | M109: 2.744156 | N109: 0.073029302 | O109: 0.00025663396 | P109: 0.0098686609 | Q109: 30.573051 | R109: 4.5840487 | S109: 0.13599598 | T109: 0.91218494 | U109: 3.5796141e-08 | V109: 0.015127312 | W109: 0.0029751202 | X109: 1.0731555e-07 | Y109: 2.494532e-08 | Z109: 1.7026311e-09 | AA109: 0.016717335 | AB109: 0.00025663396 | AC109: 0.0098686609 | AD109: 0.073029302 | AE109: 22.874233 | AF109: 138.19583 | AG109: 0.28311433 | AH109: 4.1363919 | AI109: 2.6247925e-06 | AJ109: 0.00017131262 | AK109: 0.75019307 | AL109: 0.16182056
A110: Rapeseed grain, protein crop scenario, dried, stored and transported, processing {FR} U | B110: Graines d'oléagineux et de protéagineux | C110: Graine de colza, conventionnelle, France, levier introduction de légumineuse, sortie OS | D110: sortie OS | E110: déclinaison | F110: France | H110: 0.1500411 | I110: 4.6897065 | J110: 0.92378345 | K110: 0.0167663 | L110: 0.0069975071 | M110: 2.745422 | N110: 0.073217137 | O110: 0.00025767399 | P110: 0.0098864171 | Q110: 30.783624 | R110: 4.7926165 | S110: 0.13711644 | T110: 0.92378345 | U110: 3.6079279e-08 | V110: 0.017329895 | W110: 0.0030407313 | X110: 1.0799216e-07 | Y110: 2.5154973e-08 | Z110: 1.7089521e-09 | AA110: 0.0167663 | AB110: 0.00025767399 | AC110: 0.0098864171 | AD110: 0.073217137 | AE110: 22.942729 | AF110: 138.35873 | AG110: 0.28435005 | AH110: 4.3291644 | AI110: 2.7261489e-06 | AJ110: 0.00017656274 | AK110: 0.76177553 | AL110: 0.16183136
A111: Rapeseed, basis scenario without lever, at farm gate {FR} U | B111: Graines d'oléagineux et de protéagineux | C111: Graine de colza, conventionnelle, France, sans levier, sortie champ | D111: sortie champ | E111: déclinaison | F111: France | H111: 0.1586259 | I111: 4.4873758 | J111: 0.91226654 | K111: 0.016731807 | L111: 0.0069925412 | M111: 2.7444233 | N111: 0.073028923 | O111: 0.00025764384 | P111: 0.0098689065 | Q111: 30.574219 | R111: 4.5851202 | S111: 0.13621295 | T111: 0.91226654 | U111: 3.5791244e-08 | V111: 0.015164308 | W111: 0.0029766188 | X111: 1.0746669e-07 | Y111: 2.5889288e-08 | Z111: 1.7146624e-09 | AA111: 0.016731807 | AB111: 0.00025764384 | AC111: 0.0098689065 | AD111: 0.073028923 | AE111: 22.862052 | AF111: 138.22735 | AG111: 0.2851591 | AH111: 4.137373 | AI111: 2.616867e-06 | AJ111: 0.0001716988 | AK111: 0.75026181 | AL111: 0.16183303
A112: Rapeseed grain, basis scenario without lever, dried, stored and transported, processing {FR} U | B112: Graines d'oléagineux et de protéagineux | C112: Graine de colza, conventionnelle, France, sans levier, sortie OS | D112: sortie OS | E112: déclinaison | F112: France | H112: 0.15863094 | I112: 4.6906601 | J112: 0.92386506 | K112: 0.016780772 | L112: 0.0070021859 | M112: 2.7456892 | N112: 0.073216758 | O112: 0.0002586839 | P112: 0.0098866628 | Q112: 30.784793 | R112: 4.793688 | S112: 0.13733342 | T112: 0.92386506 | U112: 3.6074382e-08 | V112: 0.017366891 | W112: 0.0030422299 | X112: 1.081433e-07 | Y112: 2.6098969e-08 | Z112: 1.7209838e-09 | AA112: 0.016780772 | AB112: 0.0002586839 | AC112: 0.0098866628 | AD112: 0.073216758 | AE112: 22.930548 | AF112: 138.39025 | AG112: 0.28639489 | AH112: 4.3301455 | AI112: 2.7182232e-06 | AJ112: 0.00017694893 | AK112: 0.76184427 | AL112: 0.16184384
A113: Rapeseed, conventional, 9% moisture, national average, animal feed, at farm gate, production {FR} U | B113: Graines d'oléagineux et de protéagineux | C113: Graine de colza, conventionnelle, France, sortie champ | D113: sortie champ | E113: moyenne | F113: France | H113: 0.11963859 | I113: 6.1845 | J113: 1.150749 | K113: 0.016802853 | L113: 0.0076659524 | M113: 3.1728472 | N113: 0.078642928 | O113: 0.00026079849 | P113: 0.011649591 | Q113: 33.937942 | R113: 6.3437522 | S113: 0.15550749 | T113: 1.150749 | U113: 4.0258181e-08 | V113: 0.04219782 | W113: 0.0036259184 | X113: 1.2161271e-07 | Y113: 1.7652857e-08 | Z113: 1.4878502e-09 | AA113: 0.016802853 | AB113: 0.00026079849 | AC113: 0.011649591 | AD113: 0.078642928 | AE113: 25.30797 | AF113: 159.54936 | AG113: 0.28100723 | AH113: 5.7542753 | AI113: 4.2563511e-06 | AJ113: 0.029652001 | AK113: 0.93468912 | AL113: 0.18640786
A114: Rapeseed grain, conventional, dried, stored and transported, processing {FR} U | B114: Graines d'oléagineux et de protéagineux | C114: Graine de colza, conventionnelle, France, sortie OS | D114: sortie OS | E114: moyenne | F114: France | H114: 0.11964247 | I114: 6.3878352 | J114: 1.1623546 | K114: 0.01685182 | L114: 0.0076756173 | M114: 3.174126 | N114: 0.07883093 | O114: 0.00026183865 | P114: 0.011667401 | Q114: 34.148616 | R114: 6.5523728 | S114: 0.15662854 | T114: 1.1623546 | U114: 4.0541453e-08 | V114: 0.044401214 | W114: 0.003691549 | X114: 1.2228975e-07 | Y114: 1.7862292e-08 | Z114: 1.4941648e-09 | AA114: 0.01685182 | AB114: 0.00026183865 | AC114: 0.011667401 | AD114: 0.07883093 | AE114: 25.376539 | AF114: 159.7129 | AG114: 0.28224289 | AH114: 5.9470964 | AI114: 4.3577565e-06 | AJ114: 0.029658136 | AK114: 0.94627711 | AL114: 0.1864194
A115: Flaxseed, national average, animal feed, at farm gate {FR} U | B115: Graines d'oléagineux et de protéagineux | C115: Graine de lin, conventionnelle, France, sortie champ | D115: sortie champ | E115: moyenne | F115: France | H115: 0.20888315 | I115: 5.624869 | J115: 1.0913486 | K115: 0.017160451 | L115: 0.010183844 | M115: 5.5235463 | N115: 0.07475709 | O115: 0.0004804175 | P115: 0.015672896 | Q115: 30.548303 | R115: 5.7409468 | S115: 0.16831862 | T115: 1.0913486 | U115: 1.3331819e-08 | V115: 0.020421608 | W115: 0.0028159678 | X115: 1.0991755e-07 | Y115: 1.5320057e-08 | Z115: 3.1171722e-09 | AA115: 0.017160451 | AB115: 0.0004804175 | AC115: 0.015672896 | AD115: 0.07475709 | AE115: 14.390175 | AF115: 277.82736 | AG115: 0.24663765 | AH115: 5.2188527 | AI115: 3.8021291e-06 | AJ115: 0.00020661703 | AK115: 0.76512913 | AL115: 0.32601283
A116: Flaxseed grain dried, stored and transported, processing {FR} U | B116: Graines d'oléagineux et de protéagineux | C116: Graine de lin, conventionnelle, France, sortie OS | D116: sortie OS | E116: moyenne | F116: France | H116: 0.20888343 | I116: 5.8063948 | J116: 1.1017024 | K116: 0.017207798 | L116: 0.010192995 | M116: 5.5247221 | N116: 0.074939282 | O116: 0.00048139901 | P116: 0.015690029 | Q116: 30.735941 | R116: 5.9274039 | S116: 0.16936312 | T116: 1.1017024 | U116: 1.3560538e-08 | V116: 0.022486833 | W116: 0.0028793337 | X116: 1.1058391e-07 | Y116: 1.5525495e-08 | Z116: 3.1231411e-09 | AA116: 0.017207798 | AB116: 0.00048139901 | AC116: 0.015690029 | AD116: 0.074939282 | AE116: 14.456925 | AF116: 277.98557 | AG116: 0.24783072 | AH116: 5.3917258 | AI116: 3.9013231e-06 | AJ116: 0.00021155832 | AK116: 0.77547224 | AL116: 0.32601858
... A124: Sunflower grain, conventional, dried, stored and transported, processing {FR} U | B124: Graines d'oléagineux et de protéagineux | C124: Graine de tournesol, conventionnelle, France, sortie OS | D124: sortie OS | E124: moyenne | F124: France | H124: 0.11762889 | I124: 4.4028356 | J124: 0.91081107 | K124: 0.0083166407 | L124: 0.0074514567 | M124: 4.8000943 | N124: 0.041950581 | O124: 0.00052733723 | P124: 0.01133029 | Q124: 32.077449 | R124: 4.505798 | S124: 0.13072048 | T124: 0.91081107 | U124: 1.071557e-08 | V124: 0.033910743 | W124: 0.0020120184 | X124: 6.8728688e-08 | Y124: 3.564916e-08 | Z124: 3.24825e-09 | AA124: 0.0083166407 | AB124: 0.00052733723 | AC124: 0.01133029 | AD124: 0.041950581 | AE124: 14.312755 | AF124: 241.24545 | AG124: 0.20606076 | AH124: 4.1353251 | AI124: 3.0615873e-06 | AJ124: 0.03603213 | AK124: 0.59213961 | AL124: 0.28263933
A125: Highly dehulled sunflower grains, animal feed, at transformation plant {FR} U | B125: Graines d'oléagineux et de protéagineux | C125: Graine de Tournesol, fortement décortiquée, France, sortie usine transformation | D125: sortie usine | E125: moyenne | F125: France | G125: France | H125: 0.13423624 | I125: 5.7007048 | J125: 1.0811286 | K125: 0.0097075875 | L125: 0.0085489515 | M125: 5.4809015 | N125: 0.048779796 | O125: 0.00060686197 | P125: 0.013014647 | Q125: 37.302997 | R125: 5.8346832 | S125: 0.15322084 | T125: 1.0811286 | U125: 1.3111063e-08 | V125: 0.042428292 | W125: 0.0026008221 | X125: 8.2412734e-08 | Y125: 4.1134066e-08 | Z125: 3.7332791e-09 | AA125: 0.0097075875 | AB125: 0.00060686197 | AC125: 0.013014647 | AD125: 0.048779796 | AE125: 16.622267 | AF125: 275.74138 | AG125: 0.2383118 | AH125: 5.3578875 | AI125: 3.6231292e-06 | AJ125: 0.041141863 | AK125: 0.71741808 | AL125: 0.32256865
A126: Soybean, national average, animal feed, at farm gate {FR} U | B126: Graines d'oléagineux et de protéagineux | C126: Graines de soja, France, sortie champ | D126: sortie champ | E126: moyenne | F126: France | H126: 0.072679497 | I126: 1.4827574 | J126: 0.45892391 | K126: 0.0019085101 | L126: 0.0051702067 | M126: 4.0030752 | N126: 0.0072442145 | O126: 0.00028936503 | P126: 0.0091450765 | Q126: 22.381793 | R126: 1.5095727 | S126: 0.063376963 | T126: 0.45892391 | U126: 1.1657199e-08 | V126: 0.0065238686 | W126: 0.00064671745 | X126: 1.2681986e-08 | Y126: -2.1897661e-09 | Z126: 5.8989067e-10 | AA126: 0.0019085101 | AB126: 0.00028936503 | AC126: 0.0091450765 | AD126: 0.0072442145 | AE126: 5.9924059 | AF126: 201.19494 | AG126: 0.032199873 | AH126: 1.3959694 | AI126: 1.1118662e-06 | AJ126: 4.9200201e-05 | AK126: 0.22242754 | AL126: 0.23644718
A127: Soybean extruded BR, animal feed, at french transformation plant {FR} U | B127: Graines d'oléagineux et de protéagineux | C127: Graines de soja extrudées, Brésil, déforestation moyenne, extrusion en France, sortie usine transformation | D127: sortie usine | E127: moyenne | F127: Brésil | G127: France | H127: 0.01721132 | I127: 7.1345395 | J127: 1.8111871 | K127: 0.0070879966 | L127: 0.0054911234 | M127: 0.076511895 | N127: 0.024299417 | O127: 0.00012466735 | P127: 0.011037008 | Q127: 15.832645 | R127: 15.179184 | S127: 0.15631457 | T127: 1.8111871 | U127: 1.2411862e-08 | V127: 0.031252104 | W127: 0.0062213812 | X127: 5.1989875e-08 | Y127: 3.6617063e-08 | Z127: 1.538327e-09 | AA127: 0.0070879966 | AB127: 0.00012466735 | AC127: 0.011037008 | AD127: 0.024299417 | AE127: 104.01636 | AF127: 18.545877 | AG127: 0.1177001 | AH127: 6.7039802 | AI127: 4.0734421e-06 | AJ127: 0.00037257742 | AK127: 0.70426615 | AL127: 1.1065483
A128: Soybean extruded, animal feed, at french transformation plant {FR} U | B128: Graines d'oléagineux et de protéagineux | C128: Graines de soja extrudées, France, sortie usine transformation | D128: sortie usine | E128: moyenne | F128: France | G128: France | H128: 0.072688074 | I128: 3.0416391 | J128: 0.5339065 | K128: 0.0021779163 | L128: 0.0052279817 | M128: 4.0078062 | N128: 0.0083144086 | O128: 0.00029624565 | P128: 0.0092470544 | Q128: 23.997178 | R128: 3.1153725 | S128: 0.070212292 | T128: 0.5339065 | U128: 1.3880598e-08 | V128: 0.029425172 | W128: 0.0010298769 | X128: 1.7107108e-08 | Y128: -1.5008655e-09 | Z128: 6.2660676e-10 | AA128: 0.0021779163 | AB128: 0.00029624565 | AC128: 0.0092470544 | AD128: 0.0083144086 | AE128: 6.3443727 | AF128: 201.77714 | AG128: 0.037558843 | AH128: 2.8713334 | AI128: 1.3721286e-06 | AJ128: 8.8337239e-05 | AK128: 0.29731236 | AL128: 0.2365058
A129: Soybean toasted BR, animal feed, at french transformation plant {FR} U | B129: Graines d'oléagineux et de protéagineux | C129: Graines de soja toastées, Brésil, déforestation moyenne, toastage en France, sortie usine transformation | D129: sortie usine | E129: moyenne | F129: Brésil | G129: France | H129: 0.017211409 | I129: 7.1414444 | J129: 1.8248316 | K129: 0.0070938081 | L129: 0.0054924926 | M129: 0.076411242 | N129: 0.024325957 | O129: 0.00012490223 | P129: 0.011038865 | Q129: 15.825509 | R129: 15.172892 | S129: 0.15660373 | T129: 1.8248316 | U129: 1.3015683e-08 | V129: 0.020946609 | W129: 0.006242691 | X129: 5.1972386e-08 | Y129: 3.6628059e-08 | Z129: 1.5408918e-09 | AA129: 0.0070938081 | AB129: 0.00012490223 | AC129: 0.011038865 | AD129: 0.024325957 | AE129: 104.02031 | AF129: 18.544145 | AG129: 0.11754237 | AH129: 6.6896544 | AI129: 4.0756963e-06 | AJ129: 0.00036993907 | AK129: 0.71791193 | AL129: 1.1065497
A130: Soybean BR, average, animal feed, at french port, consumption mix {FR} U | B130: Graines d'oléagineux et de protéagineux | C130: Graines de soja, Brésil, déforestation moyenne, rendues port France | D130: arrivée port | E130: moyenne | F130: Brésil | H130: 0.017211049 | I130: 6.3300547 | J130: 1.7833869 | K130: 0.0070444015 | L130: 0.0054808313 | M130: 0.075900125 | N130: 0.024155274 | O130: 0.0001231287 | P130: 0.011022495 | Q130: 14.995971 | R130: 14.345371 | S130: 0.15392174 | T130: 1.7833869 | U130: 1.1267088e-08 | V130: 0.012430473 | W130: 0.0061533903 | X130: 5.1434626e-08 | Y130: 3.650297e-08 | Z130: 1.5299211e-09 | AA130: 0.0070444015 | AB130: 0.0001231287 | AC130: 0.011022495 | AD130: 0.024155274 | AE130: 103.96563 | AF130: 18.493841 | AG130: 0.11614069 | AH130: 5.9392558 | AI130: 4.0205085e-06 | AJ130: 0.00035752383 | AK130: 0.67648738 | AL130: 1.106542
A131: Soybean BR, not associated to deforestation, animal feed, at french port {FR} U | B131: Graines d'oléagineux et de protéagineux | C131: Graines de soja, Brésil, non associées à la déforestation, rendues port France | D131: arrivée port | E131: déclinaison | F131: Brésil | H131: 0.016583696 | I131: 6.3460519 | J131: 0.97322541 | K131: 0.0060611757 | L131: 0.0050362116 | M131: 0.07687836 | N131: 0.020380329 | O131: 0.00014847738 | P131: 0.010022547 | Q131: 7.2153803 | R131: 6.6128618 | S131: 0.11022923 | T131: 0.97322541 | U131: 1.2307203e-08 | V131: 0.013199616 | W131: 0.0046354533 | X131: 3.9910501e-08 | Y131: 2.3705228e-08 | Z131: 3.2555267e-10 | AA131: 0.0060611757 | AB131: 0.00014847738 | AC131: 0.010022547 | AD131: 0.020380329 | AE131: 72.965729 | AF131: 7.0448931 | AG131: 0.11784574 | AH131: 5.9537849 | AI131: 4.2286467e-06 | AJ131: 0.00036628493 | AK131: 0.65792703 | AL131: 0.3149321
A132: Soybean BR, cut-off date 2008, animal feed, at french port {FR} U | B132: Graines d'oléagineux et de protéagineux | C132: Graines de soja, Brésil, Cut-off date 2008, rendues port France | D132: arrivée port | E132: déclinaison | F132: Brésil | H132: 0.016677799 | I132: 6.3436524 | J132: 1.0947496 | K132: 0.0062086596 | L132: 0.0051029046 | M132: 0.076731624 | N132: 0.02094657 | O132: 0.00014467508 | P132: 0.010172539 | Q132: 8.382469 | R132: 7.7727382 | S132: 0.11678311 | T132: 1.0947496 | U132: 1.2151185e-08 | V132: 0.013084245 | W132: 0.0048631439 | X132: 4.1639119e-08 | Y132: 2.562489e-08 | Z132: 5.0620794e-10 | AA132: 0.0062086596 | AB132: 0.00014467508 | AC132: 0.010172539 | AD132: 0.02094657 | AE132: 77.615715 | AF132: 8.7622352 | AG132: 0.11758998 | AH132: 5.9516056 | AI132: 4.197426e-06 | AJ132: 0.00036497076 | AK132: 0.66071109 | AL132: 0.43367358
A133: Soybean BR, cut-off date 2020, animal feed, at french port {FR} U | B133: Graines d'oléagineux et de protéagineux | C133: Graines de soja, Brésil, Cut-off date 2020, rendues port France | D133: arrivée port | E133: déclinaison | F133: Brésil | H133: 0.017085578 | I133: 6.3332542 | J133: 1.6213546 | K133: 0.0068477564 | L133: 0.0053919074 | M133: 0.076095772 | N133: 0.023400285 | O133: 0.00012819844 | P133: 0.010822505 | Q133: 13.439853 | R133: 12.798869 | S133: 0.14518324 | T133: 1.6213546 | U133: 1.1475111e-08 | V133: 0.012584302 | W133: 0.0058498029 | X133: 4.9129801e-08 | Y133: 3.3943422e-08 | Z133: 1.2890474e-09 | AA133: 0.0068477564 | AB133: 0.00012819844 | AC133: 0.010822505 | AD133: 0.023400285 | AE133: 97.765652 | AF133: 16.204051 | AG133: 0.1164817 | AH133: 5.9421616 | AI133: 4.0621361e-06 | AJ133: 0.00035927605 | AK133: 0.67277531 | AL133: 0.94822
A134: Soybean grain dried, stored and transported, processing {FR} U | B134: Graines d'oléagineux et de protéagineux | C134: Graines de soja, France, sortie OS | D134: sortie OS | E134: moyenne | F134: France | H134: 0.072687069 | I134: 1.7251811 | J134: 0.47274394 | K134: 0.0019591849 | L134: 0.0051806728 | M134: 4.0046733 | N134: 0.0074368286 | O134: 0.00029051825 | P134: 0.0091640441 | Q134: 22.633525 | R134: 1.7579111 | S134: 0.064629744 | T134: 0.47274394 | U134: 1.2036965e-08 | V134: 0.008974089 | W134: 0.00071620524 | X134: 1.3369371e-08 | Y134: -1.9748103e-09 | Z134: 5.9676427e-10 | AA134: 0.0019591849 | AB134: 0.00029051825 | AC134: 0.0091640441 | AD134: 0.0074368286 | AE134: 6.0627322 | AF134: 201.37479 | AG134: 0.033492136 | AH134: 1.624538 | AI134: 1.2170236e-06 | AJ134: 5.4999498e-05 | AK134: 0.23621182 | AL134: 0.23647712
A135: Soybean US, animal feed, at french port {FR} U | B135: Graines d'oléagineux et de protéagineux | C135: Graines de soja, USA, rendues port France | D135: arrivée port | E135: moyenne | F135: USA | H135: 0.0034131449 | I135: 5.3931209 | J135: 0.62487849 | K135: 0.0046813461 | L135: 0.0010967426 | M135: 3.3027357 | N135: 0.017467427 | O135: 8.3722972e-05 | P135: 0.0016793188 | Q135: 26.167677 | R135: 5.5067948 | S135: 0.074983811 | T135: 0.62487849 | U135: 5.8225428e-09 | V135: 0.013284026 | W135: 0.0046291634 | X135: 2.8654969e-08 | Y135: 4.8434012e-09 | Z135: 2.6305839e-10 | AA135: 0.0046813461 | AB135: 8.3722972e-05 | AC135: 0.0016793188 | AD135: 0.017467427 | AE135: 12.470729 | AF135: 184.72513 | AG135: 0.30766216 | AH135: 5.0616859 | AI135: 2.4256205e-06 | AJ135: 0.00024156708 | AK135: 0.61298342 | AL135: 0.011653503
A136: Flaxseed oil, animal feed, at plant {FR} U | B136: Graines d'oléagineux et de protéagineux | C136: Huile de lin, France, sortie usine transformation | D136: sortie usine | E136: moyenne | F136: France | G136: France | H136: 0.38939996 | I136: 13.494187 | J136: 2.1231661 | K136: 0.032229301 | L136: 0.019036347 | M136: 10.301625 | N136: 0.14020422 | O136: 0.00090229514 | P136: 0.029300787 | Q136: 60.099446 | R136: 13.840431 | S136: 0.32336644 | T136: 2.1231661 | U136: 2.7978201e-08 | V136: 0.12237133 | W136: 0.0055784082 | X136: 2.0840095e-07 | Y136: 2.9340287e-08 | Z136: 5.8469956e-09 | AA136: 0.032229301 | AB136: 0.00090229514 | AC136: 0.029300787 | AD136: 0.14020422 | AE136: 27.138002 | AF136: 518.43681 | AG136: 0.46763546 | AH136: 12.627292 | AI136: 7.4539558e-06 | AJ136: 0.00044953008 | AK136: 1.5149347 | AL136: 0.6077818
A137: Lupin, conventional, national average, at farm gate, production {FR} U | B137: Graines d'oléagineux et de protéagineux | C137: Lupin, conventionnel, France, sortie champ | D137: sortie champ | E137: moyenne | F137: France | H137: 0.17002001 | I137: 2.5830325 | J137: 0.67834927 | K137: 0.0079379393 | L137: 0.0086953576 | M137: 5.4735127 | N137: 0.034579531 | O137: 0.0003668215 | P137: 0.015182114 | Q137: 19.060251 | R137: 2.6372423 | S137: 0.11459354 | T137: 0.67834927 | U137: 6.3061701e-09 | V137: 0.013019213 | W137: 0.00094562895 | X137: 5.8297794e-08 | Y137: 1.1303771e-08 | Z137: 2.4353416e-09 | AA137: 0.0079379393 | AB137: 0.0003668215 | AC137: 0.015182114 | AD137: 0.034579531 | AE137: 7.6758898 | AF137: 275.85437 | AG137: 0.085592754 | AH137: 2.4335857 | AI137: 2.0566893e-06 | AJ137: 0.012035763 | AK137: 0.34317791 | AL137: 0.3231356
A138: Lupin, conventional, stored and transported, processing {FR} U | B138: Graines d'oléagineux et de protéagineux | C138: Lupin, conventionnel, France, sortie OS | D138: sortie OS | E138: moyenne | F138: France | H138: 0.1700203 | I138: 2.7780746 | J138: 0.68880179 | K138: 0.0079859749 | L138: 0.0087046925 | M138: 5.4747001 | N138: 0.034762815 | O138: 0.00036784433 | P138: 0.01519938 | Q138: 19.262541 | R138: 2.8382757 | S138: 0.11567548 | T138: 0.68880179 | U138: 6.5389662e-09 | V138: 0.015688831 | W138: 0.0010093664 | X138: 5.8970899e-08 | Y138: 1.1514313e-08 | Z138: 2.4414284e-09 | AA138: 0.0079859749 | AB138: 0.00036784433 | AC138: 0.01519938 | AD138: 0.034762815 | AE138: 7.7434596 | AF138: 276.01325 | AG138: 0.086822372 | AH138: 2.6198569 | AI138: 2.1605174e-06 | AJ138: 0.012041055 | AK138: 0.35361932 | AL138: 0.32314142
A139: Spring pea, conventional, 15% moisture, animal feed, at farm gate, production {FR} U | B139: Graines d'oléagineux et de protéagineux | C139: Pois, conventionnel, France, sortie champ | D139: sortie champ | E139: moyenne | F139: France | H139: 0.055261562 | I139: 1.9772271 | J139: 0.3436466 | K139: 0.0013890059 | L139: 0.0041562148 | M139: 2.4164222 | N139: 0.0049213169 | O139: 0.00016875603 | P139: 0.0078756913 | Q139: 18.745267 | R139: 2.0259434 | S139: 0.055068144 | T139: 0.3436466 | U139: 2.0308176e-08 | V139: 0.018245395 | W139: 0.00060326206 | X139: 9.6391976e-09 | Y139: 5.6305244e-09 | Z139: 8.8088743e-10 | AA139: 0.0013890059 | AB139: 0.00016875603 | AC139: 0.0078756913 | AD139: 0.0049213169 | AE139: 19.834745 | AF139: 121.51531 | AG139: 0.17259938 | AH139: 1.8749027 | AI139: 1.3293865e-06 | AJ139: 6.0070627e-05 | AK139: 0.20093091 | AL139: 0.14265562
A140: Spring pea grain stored and transported, processing {FR} U | B140: Graines d'oléagineux et de protéagineux | C140: Pois, conventionnel, France, sortie OS | D140: sortie OS | E140: moyenne | F140: France | H140: 0.055261838 | I140: 2.1587529 | J140: 0.3540004 | K140: 0.0014363526 | L140: 0.0041653656 | M140: 2.4175979 | N140: 0.0051035087 | O140: 0.00016973754 | P140: 0.0078928238 | Q140: 18.932905 | R140: 2.2124006 | S140: 0.056112643 | T140: 0.3540004 | U140: 2.0536895e-08 | V140: 0.02031062 | W140: 0.00066662798 | X140: 1.0305555e-08 | Y140: 5.8359631e-09 | Z140: 8.868564e-10 | AA140: 0.0014363526 | AB140: 0.00016973754 | AC140: 0.0078928238 | AD140: 0.0051035087 | AE140: 19.901496 | AF140: 121.67352 | AG140: 0.17379244 | AH140: 2.0477758 | AI140: 1.4285804e-06 | AJ140: 6.5011917e-05 | AK140: 0.21127401 | AL140: 0.14266137
A141: Fat, from broiler, animal feed, at retailer gate {FR} U | B141: Huiles et corps gras | C141: Graisse produits avicoles, France, sortie usine transformation | D141: sortie usine | E141: moyenne | F141: France | G141: France | H141: 0.014754154 | I141: 9.098534 | J141: 0.56555413 | K141: 0.0075781178 | L141: 0.0016341563 | M141: 0.32929001 | N141: 0.033415618 | O141: 4.9626841e-05 | P141: 0.0017437702 | Q141: 12.813047 | R141: 9.5648766 | S141: 0.063718378 | T141: 0.56555413 | U141: 2.0090694e-08 | V141: 0.10950871 | W141: 0.0014419261 | X141: 5.3086414e-08 | Y141: 4.1167664e-09 | Z141: 3.2955949e-10 | AA141: 0.0075781178 | AB141: 4.9626841e-05 | AC141: 0.0017437702 | AD141: 0.033415618 | AE141: 8.521789 | AF141: 17.436186 | AG141: 0.083451982 | AH141: 8.4425797 | AI141: 8.2575652e-07 | AJ141: 0.0056126389 | AK141: 0.50333154 | AL141: 0.056609954
A142: Fat, from pig, animal feed, at retailer gate {FR} U | B142: Huiles et corps gras | C142: Graisse produits porcins, France, sortie usine transformation | D142: sortie usine | E142: moyenne | F142: France | G142: France | H142: 2.5662443e-06 | I142: 7.2591046 | J142: 0.3565056 | K142: 0.00027872405 | L142: 6.1175978e-05 | M142: 0.0020321335 | N142: 0.0009407763 | O142: 8.4937624e-06 | P142: 9.1682128e-05 | Q142: 7.4029035 | R142: 7.3897961 | S142: 0.021774072 | T142: 0.3565056 | U142: 1.6110974e-08 | V142: 0.080652964 | W142: 0.00061057294 | X142: 1.9890202e-09 | Y142: 5.66049e-10 | Z142: 5.9294692e-11 | AA142: 0.00027872405 | AB142: 8.4937624e-06 | AC142: 9.1682128e-05 | AD142: 0.0009407763 | AE142: 0.27342532 | AF142: 0.12192925 | AG142: -0.0021101877 | AH142: 6.7066123 | AI142: 1.8640108e-07 | AJ142: 8.0961752e-05 | AK142: 0.35638807 | AL142: 3.6565003e-05
...

Sheet v9_LCA Feedstuff ECOALIM EN
H1: LCA impact (per kg of feedstuff) - ECOALIM method | S1: LCA impact (per kg of feedstuff) - EF3.1 method. Same indicators as ECOALIM : climate change, acidification, 3 eutrophications
A2: Simapro LCI name | B2: Types of feedstuffs for livestock | C2: Feedstuff | D2: Perimeter | E2: Average data / subcategory | F2: Country of production for the raw feedstuff | G2: Country of transformation for transformed feedstuff | H2: Phosphorous consumption (kg P) | I2: Cumulative energy demand : non renewable fossil+nuclear - CED 1.11 (MJ) | J2: Climate change - EF 3.1 (kg CO2 eq) | K2: Acidification - EF 3.1 (molc H+ eq) | L2: Eutrophication - CML baseline (kg PO4---eq) | M2: Land competition - CML non baseline (m2a) | N2: Eutrophication, terrestrial - EF 3.1 (mol N eq) | O2: Eutrophication, freshwater - EF 3.1 (kg P eq) | P2: Eutrophication, marine - EF 3.1 (kg N eq) | Q2: Cumulative energy demand : total - CED 1.11 (MJ) - WITHOUT ENERGY GROSS CALORIFIC VALUE | R2: Cumulative energy demand : total - CED 1.11 (MJ) | S2: Single score (mPt) | T2: Climate change (kg CO2 eq) | U2: Ozone depletion (kg CFC11 eq) | V2: Ionising radiation (kBq U-235 eq) | W2: Photochemical ozone formation (kg NMVOC eq) | X2: Particulate matter (disease inc.) | Y2: Human toxicity, non-cancer (CTUh) | Z2: Human toxicity, cancer (CTUh) | AA2: Acidification (mol H+ eq) | AB2: Eutrophication, freshwater (kg P eq) | AC2: Eutrophication, marine (kg N eq) | AD2: Eutrophication, terrestrial (mol N eq) | AE2: Ecotoxicity (CTUe) | AF2: Land use (Pt) | AG2: Water use (m3 depriv.) | AH2: Resource use, fossils (MJ) | AI2: Resource use, minerals and metals (kg Sb eq) | AJ2: Climate change - Biogenic (kg CO2 eq/kg) | AK2: Climate change - Fossil (kg CO2 eq/kg) | AL2: Climate change - Land use and LU change (kg CO2 eq/kg)
A3: Arginine S {FR} U | B3: Amino acids | C3: Arginine, France, at plant | D3: At plant | E3: average data | F3: France | H3: 0.045015603 | I3: 80.452021 | J3: 5.4863177 | K3: 0.017101217 | L3: 0.0061674212 | M3: 1.6717695 | N3: 0.055378136 | O3: 0.00085271321 | P3: 0.0066452565 | Q3: 122.32334 | R3: 82.596568 | S3: 0.51805822 | T3: 5.4863177 | U3: 5.8953853e-07 | V3: 0.18414245 | W3: 0.01361021 | X3: 1.252302e-07 | Y3: 7.6763593e-08 | Z3: 2.5836553e-09 | AA3: 0.017101217 | AB3: 0.00085271321 | AC3: 0.0066452565 | AD3: 0.055378136 | AE3: 112.61448 | AF3: 88.217894 | AG3: 1.9530294 | AH3: 73.321642 | AI3: 8.6479781e-05 | AJ3: 0.0079178931 | AK3: 5.3249851 | AL3: 0.15341468
A4: Arginine S {BR} U | B4: Amino acids | C4: Arginine, Brazil, at plant | D4: At plant | E4: average data | F4: Brazil | H4: 0.0099035886 | I4: 83.090895 | J4: 5.2777236 | K4: 0.040691334 | L4: 0.014060187 | M4: 0.23946304 | N4: 0.15223965 | O4: 0.00086346942 | P4: 0.020984514 | Q4: 206.65468 | R4: 99.995623 | S4: 0.72253211 | T4: 5.2777236 | U4: 5.1919127e-07 | V4: 0.20308078 | W4: 0.02440035 | X4: 6.6001875e-07 | Y4: 8.6115947e-08 | Z4: 3.7442951e-09 | AA4: 0.040691334 | AB4: 0.00086346942 | AC4: 0.020984514 | AD4: 0.15223965 | AE4: 164.41071 | AF4: 171.57294 | AG4: 3.5610257 | AH4: 76.290416 | AI4: 9.0169142e-05 | AJ4: 0.16612311 | AK4: 5.691564 | AL4: -0.57996349
A5: Arginine S {CN} U | B5: Amino acids | C5: Arginine, China, at plant | D5: At plant | E5: average data | F5: China | H5: 0.011779037 | I5: 167.42999 | J5: 16.648908 | K5: 0.12416583 | L5: 0.015506186 | M5: 0.444498 | N5: 0.2928326 | O5: 0.0038432205 | P5: 0.024927422 | Q5: 177.05489 | R5: 174.86087 | S5: 2.9140161 | T5: 16.648908 | U5: 5.6298064e-07 | V5: 0.43122356 | W5: 0.050274385 | X5: 1.7290801e-06 | Y5: 4.0667859e-07 | Z5: 6.0776762e-09 | AA5: 0.12416583 | AB5: 0.0038432205 | AC5: 0.024927422 | AD5: 0.2928326 | AE5: 3947.2152 | AF5: 204.63452 | AG5: 6.1225456 | AH5: 157.38659 | AI5: 0.00012782657 | AJ5: 0.0099943685 | AK5: 16.540891 | AL5: 0.098023135
A6: Arginine S {KR} U | B6: Amino acids | C6: Arginine, South Korea, at plant | D6: At plant | E6: average data | F6: South Korea | H6: 0.019642219 | I6: 141.3639 | J6: 9.8602266 | K6: 0.04867871 | L6: 0.02151294 | M6: 1.2073389 | N6: 0.15063745 | O6: 0.0043342432 | P6: 0.015778862 | Q6: 188.04174 | R6: 144.04236 | S6: 1.0566563 | T6: 9.8602266 | U6: 5.6283586e-07 | V6: 1.0439318 | W6: 0.031457879 | X6: 3.8711836e-07 | Y6: 1.6846873e-07 | Z6: 5.0699489e-09 | AA6: 0.04867871 | AB6: 0.0043342432 | AC6: 0.015778862 | AD6: 0.15063745 | AE6: 183.13529 | AF6: 71.787198 | AG6: 9.0298117 | AH6: 132.19559 | AI6: 0.00012872062 | AJ6: 0.011783037 | AK6: 9.7507003 | AL6: 0.097743264
A7: Arginine S {ID} U | B7: Amino acids | C7: Arginine, Indonesia, at plant | D7: At plant | E7: average data | F7: Indonesia | H7: 0.0076330237 | I7: 107.83167 | J7: 8.7268566 | K7: 0.043918921 | L7: 0.0334228 | M7: 0.11377903 | N7: 0.11943574 | O7: 0.0096940598 | P7: 0.025442361 | Q7: 112.11928 | R7: 111.52962 | S7: 2.294867 | T7: 8.7268566 | U7: 6.0260013e-07 | V7: 0.17119937 | W7: 0.029094921 | X7: 5.7843566e-07 | Y7: 2.6305978e-07 | Z7: 2.5277971e-09 | AA7: 0.043918921 | AB7: 0.0096940598 | AC7: 0.025442361 | AD7: 0.11943574 | AE7: 3839.5856 | AF7: 561.43675 | AG7: 1.919509 | AH7: 97.945246 | AI7: 9.4085041e-05 | AJ7: 0.020816307 | AK7: 8.6127631 | AL7: 0.093277132
A8: DL-Methionine, animal feed, at retailer gate {RER} U | B8: Amino acids | C8: DL-methionine, Europe, at plant | D8: At plant | E8: average data | F8: Europe | H8: 0.00057137984 | I8: 87.211153 | J8: 3.1245617 | K8: 0.015085822 | L8: 0.001387192 | M8: 0.026111842 | N8: 0.017419774 | O8: 0.00022751121 | P8: 0.0017760359 | Q8: 88.653889 | R8: 88.390163 | S8: 0.27068939 | T8: 3.1245617 | U8: 4.3851807e-08 | V8: 0.57783132 | W8: 0.0085835482 | X8: 1.361377e-07 | Y8: 8.5214368e-09 | Z8: 4.8545023e-10 | AA8: 0.015085822 | AB8: 0.00022751121 | AC8: 0.0017760359 | AD8: 0.017419774 | AE8: 4.0007428 | AF8: 1.8905054 | AG8: 0.82851691 | AH8: 80.987488 | AI8: 4.9079235e-06 | AJ8: 0.0026867162 | AK8: 3.1214862 | AL8: 0.00038877531
A9: Histidine S {BR} U | B9: Amino acids | C9: Histidine, Brazil, at plant | D9: At plant | E9: average data | F9: Brazil | H9: 0.0099036046 | I9: 83.090911 | J9: 5.2777238 | K9: 0.04069139 | L9: 0.014060212 | M9: 0.23946312 | N9: 0.15223989 | O9: 0.0008634698 | P9: 0.020984553 | Q9: 206.65497 | R9: 99.995643 | S9: 0.72253254 | T9: 5.2777238 | U9: 5.1919131e-07 | V9: 0.2030808 | W9: 0.024400364 | X9: 6.6001917e-07 | Y9: 8.6115995e-08 | Z9: 3.7442967e-09 | AA9: 0.04069139 | AB9: 0.0008634698 | AC9: 0.020984553 | AD9: 0.15223989 | AE9: 164.41088 | AF9: 171.57336 | AG9: 3.5610287 | AH9: 76.290431 | AI9: 9.0169156e-05 | AJ9: 0.1661231 | AK9: 5.6915661 | AL9: -0.57996546
A10: Histidine S {ID} U | B10: Amino acids | C10: Histidine, Indonesia, at plant | D10: At plant | E10: average data | F10: Indonesia | H10: 0.0076414123 | I10: 108.90608 | J10: 8.8179937 | K10: 0.047109172 | L10: 0.034202007 | M10: 3.4866223 | N10: 0.13654904 | O10: 0.0097142661 | P10: 0.026965005 | Q10: 137.89349 | R10: 112.62075 | S10: 2.3500417 | T10: 8.8179937 | U10: 6.1545961e-07 | V10: 0.17237456 | W10: 0.033356483 | X10: 7.3136226e-07 | Y10: 2.715447e-07 | Z10: 2.8095742e-09 | AA10: 0.047109172 | AB10: 0.0097142661 | AC10: 0.026965005 | AD10: 0.13654904 | AE10: 3840.7362 | AF10: 677.62074 | AG10: 1.9243197 | AH10: 98.955711 | AI10: 9.4302839e-05 | AJ10: 0.021948001 | AK10: 8.7019378 | AL10: 0.094107907
A11: Isoleucine S {FR} U | B11: Amino acids | C11: Isoleucine, France, at plant | D11: At plant | E11: average data | F11: France | H11: 0.12910564 | I11: 211.96992 | J11: 13.452663 | K11: 0.048339112 | L11: 0.012477047 | M11: 5.8286752 | N11: 0.13383991 | O11: 0.001344788 | P11: 0.014934987 | Q11: 327.48011 | R11: 214.25333 | S11: 0.97871922 | T11: 13.452663 | U11: 8.3399747e-07 | V11: 0.30688944 | W11: 0.033267112 | X11: 2.9265535e-07 | Y11: 1.2024822e-07 | Z11: 4.5778287e-09 | AA11: 0.048339112 | AB11: 0.001344788 | AC11: 0.014934987 | AD11: 0.13383991 | AE11: 153.05658 | AF11: 308.40289 | AG11: -0.034443253 | AH11: 192.40618 | AI11: 3.1512512e-05 | AJ11: 0.010276524 | AK11: 13.191921 | AL11: 0.25046544
A12: Isoleucine S {CN} U | B12: Amino acids | C12: Isoleucine, China, at plant | D12: At plant | E12: average data | F12: China | H12: 0.041764379 | I12: 459.50062 | J12: 51.547117 | K12: 0.41968884 | L12: 0.043909282 | M12: 2.8140008 | N12: 0.82881147 | O12: 0.010720332 | P12: 0.069682965 | Q12: 489.12655 | R12: 473.49859 | S12: 8.004921 | T12: 51.547117 | U12: 6.245685e-07 | V12: 0.91497747 | W12: 0.14956191 | X12: 6.2469836e-06 | Y12: 1.0657376e-06 | Z12: 1.458457e-08 | AA12: 0.41968884 | AB12: 0.010720332 | AC12: 0.069682965 | AD12: 0.82881147 | AE12: 10242.376 | AF12: 628.6305 | AG12: 12.008743 | AH12: 433.68233 | AI12: 0.0001379012 | AJ12: 0.015656962 | AK12: 51.427339 | AL12: 0.10412184
A13: Leucine S {FR} U | B13: Amino acids | C13: Leucine, France, at plant | D13: At plant | E13: average data | F13: France | H13: 0.076110874 | I13: 135.63526 | J13: 8.7123247 | K13: 0.031219095 | L13: 0.0077778056 | M13: 3.1136965 | N13: 0.080566704 | O13: 0.00088097367 | P13: 0.0092514569 | Q13: 202.22819 | R13: 137.24019 | S13: 0.62664997 | T13: 8.7123247 | U13: 5.8173712e-07 | V13: 0.2196737 | W13: 0.020901468 | X13: 1.9068487e-07 | Y13: 7.3871934e-08 | Z13: 2.7843704e-09 | AA13: 0.031219095 | AB13: 0.00088097367 | AC13: 0.0092514569 | AD13: 0.080566704 | AE13: 86.376195 | AF13: 163.84779 | AG13: 0.65458712 | AH13: 123.11156 | AI13: 2.0749821e-05 | AJ13: 0.0074643111 | AK13: 8.5573705 | AL13: 0.14748993
A14: Lysine solid (HCl) S {FR} U | B14: Amino acids | C14: L-lysine HCl, France, at plant | D14: At plant | E14: average data | F14: France | H14: 0.025288634 | I14: 34.01038 | J14: 2.3714654 | K14: 0.01498773 | L14: 0.003661951 | M14: 0.99203445 | N14: 0.030870752 | O14: 0.00041338235 | P14: 0.0043237762 | Q14: 58.367257 | R14: 34.906623 | S14: 0.23478618 | T14: 2.3714654 | U14: 1.7853496e-07 | V14: 0.12326532 | W14: 0.0061932531 | X14: 9.9157407e-08 | Y14: 3.7532643e-08 | Z14: 1.2009211e-09 | AA14: 0.01498773 | AB14: 0.00041338235 | AC14: 0.0043237762 | AD14: 0.030870752 | AE14: 79.110115 | AF14: 51.305607 | AG14: 0.69314368 | AH14: 31.073416 | AI14: 2.0519543e-05 | AJ14: 0.0048869303 | AK14: 2.31133 | AL14: 0.055248431
... A32: Valine S {CN} U | B32: Amino acids | C32: Valine, China, at plant | D32: At plant | E32: average data | F32: China | H32: 0.019362433 | I32: 187.30396 | J32: 20.585035 | K32: 0.16603318 | L32: 0.017829429 | M32: 0.85778548 | N32: 0.330144 | O32: 0.0043258745 | P32: 0.028080775 | Q32: 198.18628 | R32: 193.63947 | S32: 3.1816621 | T32: 20.585035 | U32: 3.1606044e-07 | V32: 0.42527155 | W32: 0.059742929 | X32: 2.4163395e-06 | Y32: 4.2738074e-07 | Z32: 5.9934308e-09 | AA32: 0.16603318 | AB32: 0.0043258745 | AC32: 0.028080775 | AD32: 0.330144 | AE32: 4092.9095 | AF32: 236.20776 | AG32: 3.0867541 | AH32: 176.65034 | AI32: 5.9285634e-05 | AJ32: 0.0082317596 | AK32: 20.535744 | AL32: 0.041059052
A33: Arginine, consumption mix {FR} U | B33: Amino acids | C33: Arginine, French consumption mix | D33: Arrival in France | E33: average data | F33: Multiple origin | G33: Multiple origin | H33: 0.010663681 | I33: 155.18929 | J33: 14.786523 | K33: 0.10764677 | L33: 0.020873725 | M33: 0.3644042 | N33: 0.26062416 | O33: 0.0054458721 | P33: 0.026394246 | Q33: 163.45933 | R33: 161.67945 | S33: 2.7792472 | T33: 14.786523 | U33: 5.7848148e-07 | V33: 0.36939659 | W33: 0.048685163 | X33: 1.4319573e-06 | Y33: 3.6960425e-07 | Z33: 5.2629125e-09 | AA33: 0.10764677 | AB33: 0.0054458721 | AC33: 0.026394246 | AD33: 0.26062416 | AE33: 3919.9072 | AF33: 302.16377 | AG33: 5.0022407 | AH33: 144.96273 | AI33: 0.00011923671 | AJ33: 0.013022849 | AK33: 14.67654 | AL33: 0.096960167
A34: Histidine, consumption mix {FR} U | B34: Amino acids | C34: Histidine, French consumption mix | D34: Arrival in France | E34: average data | F34: Multiple origin | G34: Multiple origin | H34: 0.0099086279 | I34: 87.164423 | J34: 5.5608844 | K34: 0.0441204 | L34: 0.014440686 | M34: 0.251647 | N34: 0.16195325 | O34: 0.00088598181 | P34: 0.02187225 | Q34: 210.80868 | R34: 104.1311 | S34: 0.75120896 | T34: 5.5608844 | U34: 5.2459959e-07 | V34: 0.21062916 | W34: 0.027345931 | X34: 6.7669625e-07 | Y34: 8.829235e-08 | Z34: 3.8850979e-09 | AA34: 0.0441204 | AB34: 0.00088598181 | AC34: 0.02187225 | AD34: 0.16195325 | AE34: 166.27827 | AF34: 173.28057 | AG34: 3.577876 | AH34: 80.124215 | AI34: 9.0854783e-05 | AJ34: 0.16622357 | AK34: 5.9744319 | AL34: -0.57977107
A35: Isoleucine, consumption mix {FR} U | B35: Amino acids | C35: Isoleucine, French consumption mix | D35: Arrival in France | E35: average data | F35: Multiple origin | G35: Multiple origin | H35: 0.076703799 | I35: 363.15311 | J35: 36.498844 | K35: 0.27436803 | L35: 0.031681301 | M35: 4.0270047 | N35: 0.56004196 | O35: 0.0069876672 | P35: 0.048622928 | Q35: 427.20035 | R35: 372.51822 | S35: 5.2160169 | T35: 36.498844 | U35: 7.1168731e-07 | V35: 0.67842097 | W35: 0.10567667 | X35: 3.875099e-06 | Y35: 6.8878047e-07 | Z35: 1.0683826e-08 | AA35: 0.27436803 | AB35: 0.0069876672 | AC35: 0.048622928 | AD35: 0.56004196 | AE35: 6207.8551 | AF35: 501.45482 | AG35: 7.2022145 | AH35: 339.68093 | AI35: 9.5727297e-05 | AJ35: 0.013585701 | AK35: 36.322446 | AL35: 0.16281133
A36: Leucine, consumption mix {FR} U | B36: Amino acids | C36: Leucine, French consumption mix | D36: Arrival in France | E36: average data | F36: Multiple origin | G36: Multiple origin | H36: 0.076111561 | I36: 136.10085 | J36: 8.743147 | K36: 0.031293915 | L36: 0.0077935493 | M36: 3.1155006 | N36: 0.080775468 | O36: 0.00088345566 | P36: 0.0092717751 | Q36: 202.70213 | R36: 137.71218 | S36: 0.62905446 | T36: 8.743147 | U36: 5.8240319e-07 | V36: 0.22043063 | W36: 0.021014468 | X36: 1.9297916e-07 | Y36: 7.4180735e-08 | Z36: 2.7991094e-09 | AA36: 0.031293915 | AB36: 0.00088345566 | AC36: 0.0092717751 | AD36: 0.080775468 | AE36: 86.591377 | AF36: 164.11351 | AG36: 0.65678612 | AH36: 123.54961 | AI36: 2.0849751e-05 | AJ36: 0.0074747106 | AK36: 8.5881658 | AL36: 0.14750651
A37: Lysine (liquid), consumption mix {FR} U | B37: Amino acids | C37: Lysine (liquid), French consumption mix | D37: Arrival in France | E37: average data | F37: Multiple origin | G37: Multiple origin | H37: 0.0043705593 | I37: 43.227505 | J37: 3.0309723 | K37: 0.022215616 | L37: 0.0077986038 | M37: 1.4547252 | N37: 0.057798921 | O37: 0.0015169041 | P37: 0.0082289444 | Q37: 63.340592 | R37: 44.254925 | S37: 0.50447927 | T37: 3.0309723 | U37: 7.2733301e-08 | V37: 0.2947324 | W37: 0.013068181 | X37: 1.9829499e-07 | Y37: 5.7296808e-08 | Z37: 1.2822583e-09 | AA37: 0.022215616 | AB37: 0.0015169041 | AC37: 0.0082289444 | AD37: 0.057798921 | AE37: 475.66761 | AF37: 121.55202 | AG37: 4.4648678 | AH37: 39.985783 | AI37: 2.4062021e-05 | AJ37: 0.0050657447 | AK37: 3.0178917 | AL37: 0.0080147957
A38: Lysine solid (HCl), consumption mix {FR} U | B38: Amino acids | C38: L-lysine HCl, French consumption mix | D38: Arrival in France | E38: average data | F38: Multiple origin | G38: Multiple origin | H38: 0.010848744 | I38: 82.183962 | J38: 8.4544414 | K38: 0.070347972 | L38: 0.008829022 | M38: 4.0286638 | N38: 0.18408523 | O38: 0.0020281549 | P38: 0.015413496 | Q38: 111.57333 | R38: 85.333947 | S38: 1.7058075 | T38: 8.4544414 | U38: 1.6676671e-07 | V38: 0.22144679 | W38: 0.029912725 | X38: 8.5703568e-07 | Y38: 2.2947652e-07 | Z38: 3.3340957e-09 | AA38: 0.070347972 | AB38: 0.0020281549 | AC38: 0.015413496 | AD38: 0.18408523 | AE38: 2471.9022 | AF38: 335.7904 | AG38: 5.4850677 | AH38: 77.210167 | AI38: 6.8835909e-05 | AJ38: 0.0065504605 | AK38: 8.4107763 | AL38: 0.0371146
A39: Lysine sulfate, consumption mix {FR} U | B39: Amino acids | C39: Lysine sulfate, French consumption mix | D39: Arrival in France | E39: average data | F39: Multiple origin | G39: Multiple origin | H39: 0.0073605166 | I39: 59.408584 | J39: 6.5190868 | K39: 0.051542313 | L39: 0.0074104705 | M39: 4.148941 | N39: 0.12405226 | O39: 0.0016482723 | P39: 0.011498325 | Q39: 87.592987 | R39: 61.533327 | S39: 1.120893 | T39: 6.5190868 | U39: 9.0909314e-08 | V39: 0.14114785 | W39: 0.023712234 | X39: 6.7066451e-07 | Y39: 1.4314686e-07 | Z39: 2.0118535e-09 | AA39: 0.051542313 | AB39: 0.0016482723 | AC39: 0.011498325 | AD39: 0.12405226 | AE39: 1497.6053 | AF39: 311.58038 | AG39: 2.6098784 | AH39: 55.88253 | AI39: 2.3583283e-05 | AJ39: 0.0053345245 | AK39: 6.4862068 | AL39: 0.027545398
A40: Lysine, consumption mix {FR} U | B40: Amino acids | C40: Lysine, French consumption mix | D40: Arrival in France | E40: average data | F40: Multiple origin | G40: Multiple origin | H40: 0.0085514863 | I40: 67.919697 | J40: 6.7774395 | K40: 0.055057439 | L40: 0.0082476921 | M40: 3.4924666 | N40: 0.141294 | O40: 0.0018207091 | P40: 0.012854102 | Q40: 94.96704 | R40: 70.346407 | S40: 1.2952866 | T40: 6.7774395 | U40: 1.2711501e-07 | V40: 0.21749489 | W40: 0.024656803 | X40: 6.6551994e-07 | Y40: 1.7001457e-07 | Z40: 2.5521309e-09 | AA40: 0.055057439 | AB40: 0.0018207091 | AC40: 0.012854102 | AD40: 0.141294 | AE40: 1789.1563 | AF40: 282.60545 | AG40: 4.5418264 | AH40: 63.688893 | AI40: 4.7672497e-05 | AJ40: 0.005919839 | AK40: 6.7431993 | AL40: 0.028320343
A41: Tryptophane, consumption mix {FR} U | B41: Amino acids | C41: Tryptophane, French consumption mix | D41: Arrival in France | E41: average data | F41: Multiple origin | G41: Multiple origin | H41: 0.029272739 | I41: 114.98697 | J41: 9.8518503 | K41: 0.065684826 | L41: 0.037602641 | M41: 2.6041162 | N41: 0.14319822 | O41: 0.010438352 | P41: 0.0271827 | Q41: 153.4205 | R41: 119.64149 | S41: 2.1813174 | T41: 9.8518503 | U41: 9.3845392e-07 | V41: 0.44668478 | W41: 0.033957907 | X41: 7.0537799e-07 | Y41: 2.4539183e-07 | Z41: 2.8458647e-09 | AA41: 0.065684826 | AB41: 0.010438352 | AC41: 0.0271827 | AD41: 0.14319822 | AE41: 3350.5415 | AF41: 603.64737 | AG41: 2.964494 | AH41: 104.77578 | AI41: 3.4116895e-05 | AJ41: 0.023648716 | AK41: 9.7425041 | AL41: 0.085697435
A42: Threonine, consumption mix {FR} U | B42: Amino acids | C42: Threonine, French consumption mix | D42: Arrival in France | E42: average data | F42: Multiple origin | G42: Multiple origin | H42: 0.012500814 | I42: 99.283182 | J42: 10.793633 | K42: 0.089652265 | L42: 0.01028967 | M42: 4.0421396 | N42: 0.21657241 | O42: 0.0024544605 | P42: 0.018215573 | Q42: 127.63571 | R42: 102.68653 | S42: 2.0406183 | T42: 10.793633 | U42: 1.6776439e-07 | V42: 0.23059707 | W42: 0.036218791 | X42: 1.181144e-06 | Y42: 2.7543589e-07 | Z42: 3.7127188e-09 | AA42: 0.089652265 | AB42: 0.0024544605 | AC42: 0.018215573 | AD42: 0.21657241 | AE42: 2953.1419 | AF42: 359.23139 | AG42: 5.1819037 | AH42: 93.476982 | AI42: 5.4093082e-05 | AJ42: 0.0066127504 | AK42: 10.745566 | AL42: 0.041454583
A43: Valine, consumption mix {FR} U | B43: Amino acids | C43: Valine, French consumption mix | D43: Arrival in France | E43: average data | F43: Multiple origin | G43: Multiple origin | H43: 0.028418822 | I43: 164.30008 | J43: 16.934559 | K43: 0.13260328 | L43: 0.015032014 | M43: 1.1801981 | N43: 0.26960372 | O43: 0.0033863533 | P43: 0.023453043 | Q43: 184.05698 | R43: 169.36765 | S43: 2.4906992 | T43: 16.934559 | U43: 3.3955754e-07 | V43: 0.36626093 | W43: 0.050975287 | X43: 1.8341026e-06 | Y43: 3.3135742e-07 | Z43: 5.0730015e-09 | AA43: 0.13260328 | AB43: 0.0033863533 | AC43: 0.023453043 | AD43: 0.26960372 | AE43: 3048.4942 | AF43: 204.16847 | AG43: 2.510138 | AH43: 154.1699 | AI43: 4.8615988e-05 | AJ43: 0.0077604739 | AK43: 16.870434 | AL43: 0.056364506
A44: Fish hydrolyzate (CPSP) from whole fishes, from Chile, at feed plant S {FR} U | B44: Animal products | C44: Fish hydrolyzate (CPSP), Chile, at plant | D44: At plant | E44: average data | F44: Chili | G44: Chili | H44: 1.278e-05 | I44: 28.997213 | J44: 1.8482437 | K44: 0.0082381312 | L44: 0.0012264213 | M44: 0.007824418 | N44: 0.02704603 | O44: 8.7837083e-05 | P44: 0.0024868885 | Q44: 31.283023 | R44: 31.153356 | S44: 0.13158321 | T44: 1.8482437 | U44: 2.7561727e-07 | V44: 0.070248695 | W44: 0.0072703852 | X44: 6.4097189e-08 | Y44: 3.9051793e-09 | Z44: 3.0112111e-10 | AA44: 0.0082381312 | AB44: 8.7837083e-05 | AC44: 0.0024868885 | AD44: 0.02704603 | AE44: 2.7261492 | AF44: 2.825786 | AG44: 0.49202219 | AH44: 26.56216 | AI44: 6.6691634e-07 | AJ44: 0.030254526 | AK44: 1.7614587 | AL44: 0.056530469
... A61: Maize starch, national average, animal feed, at plant {FR} U | B61: Cereal byproducts | C61: Maize starch, France, at plant | D61: At plant | E61: average data | F61: France | G61: France | H61: 0.069567419 | I61: 10.578607 | J61: 0.80417284 | K61: 0.011551344 | L61: 0.0039090038 | M61: 1.3465493 | N61: 0.050273105 | O61: 0.00019677443 | P61: 0.0049264012 | Q61: 28.355569 | R61: 10.954821 | S61: 0.12176539 | T61: 0.80417284 | U61: 2.7475345e-08 | V61: 0.17344596 | W61: 0.0024702547 | X61: 8.0612885e-08 | Y61: 1.5246462e-08 | Z61: 9.5655e-10 | AA61: 0.011551344 | AB61: 0.00019677443 | AC61: 0.0049264012 | AD61: 0.050273105 | AE61: 28.43737 | AF61: 68.110576 | AG61: 0.78175009 | AH61: 9.944215 | AI61: 8.2454422e-06 | AJ61: 0.00050495374 | AK61: 0.72519367 | AL61: 0.078474218
A62: Soft wheat grain, conventional, Great Britain, animal feed, at french port {FR} U | B62: Cereal byproducts | C62: Soft wheat grain, conventional, Great Britain, at french port | D62: At french port | E62: average data | F62: Great Britain | H62: 0.075623064 | I62: 2.8435962 | J62: 0.36451741 | K62: 0.0068821911 | L62: 0.0023551919 | M62: 1.0244128 | N62: 0.030444154 | O62: 7.0289353e-05 | P62: 0.003425902 | Q62: 15.344053 | R62: 2.926416 | S62: 0.058058517 | T62: 0.36451741 | U62: 8.2342777e-09 | V62: 0.010000459 | W62: 0.0020106666 | X62: 4.5977213e-08 | Y62: 1.5670327e-08 | Z62: 9.6028255e-10 | AA62: 0.0068821911 | AB62: 7.0289353e-05 | AC62: 0.003425902 | AD62: 0.030444154 | AE62: 6.7816691 | AF62: 53.224547 | AG62: 0.19015156 | AH62: 2.6423947 | AI62: 1.9734534e-06 | AJ62: 0.00016096774 | AK62: 0.36345456 | AL62: 0.00090188331
A63: Wheat bran, animal feed, at plant {FR} U | B63: Cereal byproducts | C63: Wheat bran, France, at plant | D63: At plant | E63: average data | F63: France | G63: France | H63: 0.013330422 | I63: 0.60420918 | J63: 0.081156728 | K63: 0.0013071798 | L63: 0.0005785762 | M63: 0.21187801 | N63: 0.005752649 | O63: 1.6624787e-05 | P63: 0.00086598574 | Q63: 3.3339901 | R63: 0.62509677 | S63: 0.011156881 | T63: 0.081156728 | U63: 1.2007259e-09 | V63: 0.0096233256 | W63: 0.00027547361 | X63: 8.516728e-09 | Y63: 1.9468175e-09 | Z63: 1.0134341e-10 | AA63: 0.0013071798 | AB63: 1.6624787e-05 | AC63: 0.00086598574 | AD63: 0.005752649 | AE63: 0.65960401 | AF63: 10.700686 | AG63: 0.02837389 | AH63: 0.57051708 | AI63: 2.5538457e-07 | AJ63: 2.0131824e-05 | AK63: 0.068668715 | AL63: 0.012467881
A64: Wheat bran, from wheat starch extraction, at plant {FR} U | B64: Cereal byproducts | C64: Wheat bran, from starch extraction, France, at plant | D64: At plant | E64: average data | F64: France | G64: France | H64: 0.039072939 | I64: 5.5119135 | J64: 0.38903044 | K64: 0.0036865462 | L64: 0.001827753 | M64: 0.64528653 | N64: 0.01578457 | O64: 7.4739571e-05 | P64: 0.002738928 | Q64: 13.043917 | R64: 5.684551 | S64: 0.044202288 | T64: 0.38903044 | U64: 9.8891285e-09 | V64: 0.095709949 | W64: 0.0010952975 | X64: 2.4825494e-08 | Y64: 1.8893668e-09 | Z64: 4.0761869e-10 | AA64: 0.0036865462 | AB64: 7.4739571e-05 | AC64: 0.002738928 | AD64: 0.01578457 | AE64: 5.5399842 | AF64: 32.612292 | AG64: 0.076636466 | AH64: 5.1869712 | AI64: 1.0928678e-06 | AJ64: 0.00024159088 | AK64: 0.35090157 | AL64: 0.037887288
A65: Wheat feed flour, animal feed, at plant {FR} U | B65: Cereal byproducts | C65: Wheat feed flour, France, at plant | D65: At plant | E65: average data | F65: France | G65: France | H65: 0.019276639 | I65: 0.87372497 | J65: 0.1173578 | K65: 0.0018902652 | L65: 0.00083665804 | M65: 0.3063891 | N65: 0.0083186969 | O65: 2.4040501e-05 | P65: 0.0012522705 | Q65: 4.8211621 | R65: 0.90392976 | S65: 0.016133561 | T65: 0.1173578 | U65: 1.7363262e-09 | V65: 0.013915942 | W65: 0.00039835239 | X65: 1.2315731e-08 | Y65: 2.8152221e-09 | Z65: 1.4654903e-10 | AA65: 0.0018902652 | AB65: 2.4040501e-05 | AC65: 0.0012522705 | AD65: 0.0083186969 | AE65: 0.95382941 | AF65: 15.473873 | AG65: 0.041030452 | AH65: 0.82500405 | AI65: 3.6930235e-07 | AJ65: 2.9111899e-05 | AK65: 0.099299336 | AL65: 0.018029351
A66: Wheat flour, animal feed, at plant {FR} U | B66: Cereal byproducts | C66: Wheat flour, France, at plant | D66: At plant | E66: average data | F66: France | G66: France | H66: 0.094649842 | I66: 4.2900595 | J66: 0.57623618 | K66: 0.0092813534 | L66: 0.0041080579 | M66: 1.504395 | N66: 0.040845467 | O66: 0.00011804078 | P66: 0.0061487485 | Q66: 23.672292 | R66: 4.4383674 | S66: 0.079217075 | T66: 0.57623618 | U66: 8.5255005e-09 | V66: 0.068328388 | W66: 0.0019559421 | X66: 6.0471225e-08 | Y66: 1.3822966e-08 | Z66: 7.1956747e-10 | AA66: 0.0092813534 | AB66: 0.00011804078 | AC66: 0.0061487485 | AD66: 0.040845467 | AE66: 4.6833787 | AF66: 75.977955 | AG66: 0.2014628 | AH66: 4.0508359 | AI66: 1.8133041e-06 | AJ66: 0.00014294176 | AK66: 0.48756768 | AL66: 0.088525555
A67: Wheat gluten feed, from wheat starch extraction, at plant {FR} U | B67: Cereal byproducts | C67: Wheat gluten feed, from wheat starch extraction, France, at plant | D67: At plant | E67: average data | F67: France | G67: France | H67: 0.053949858 | I67: 7.6105602 | J67: 0.53715277 | K67: 0.005090189 | L67: 0.0025236651 | M67: 0.8909777 | N67: 0.021794504 | O67: 0.00010319647 | P67: 0.0037817677 | Q67: 18.010354 | R67: 7.848929 | S67: 0.061032194 | T67: 0.53715277 | U67: 1.3654388e-08 | V67: 0.13215126 | W67: 0.0015123292 | X67: 3.4277736e-08 | Y67: 2.6087382e-09 | Z67: 5.6281845e-10 | AA67: 0.005090189 | AB67: 0.00010319647 | AC67: 0.0037817677 | AD67: 0.021794504 | AE67: 7.6493187 | AF67: 45.029337 | AG67: 0.1058156 | AH67: 7.1618969 | AI67: 1.5089744e-06 | AJ67: 0.00033357598 | AK67: 0.48450642 | AL67: 0.052312774
A68: Wheat gluten meal, from wheat starch extraction, at plant {FR} U | B68: Cereal byproducts | C68: Wheat gluten meal, from wheat starch extraction, France, at plant | D68: At plant | E68: average data | F68: France | G68: France | H68: 0.26105462 | I68: 36.826267 | J68: 2.5991952 | K68: 0.0246306 | L68: 0.012211607 | M68: 4.3112967 | N68: 0.10546007 | O68: 0.00049935098 | P68: 0.018299361 | Q68: 87.149185 | R68: 37.979695 | S68: 0.2953249 | T68: 2.5991952 | U68: 6.6071373e-08 | V68: 0.63945854 | W68: 0.0073179159 | X68: 1.6586441e-07 | Y68: 1.2623262e-08 | Z68: 2.7233873e-09 | AA68: 0.0246306 | AB68: 0.00049935098 | AC68: 0.018299361 | AD68: 0.10546007 | AE68: 37.013814 | AF68: 217.88967 | AG68: 0.51202455 | AH68: 34.655258 | AI68: 7.3016824e-06 | AJ68: 0.0016141201 | AK68: 2.3444481 | AL68: 0.25313304
A69: Wheat middlings, animal feed, at plant {FR} U | B69: Cereal byproducts | C69: Wheat middlings, France, at plant | D69: At plant | E69: average data | F69: France | G69: France | H69: 0.01688805 | I69: 0.76546074 | J69: 0.10281586 | K69: 0.0016560403 | L69: 0.00073298681 | M69: 0.26842409 | N69: 0.0072879179 | O69: 2.1061616e-05 | P69: 0.0010971003 | Q69: 4.2237666 | R69: 0.79192281 | S69: 0.014134434 | T69: 0.10281586 | U69: 1.5211761e-09 | V69: 0.012191602 | W69: 0.0003489921 | X69: 1.0789675e-08 | Y69: 2.4663848e-09 | Z69: 1.2838998e-10 | AA69: 0.0016560403 | AB69: 2.1061616e-05 | AC69: 0.0010971003 | AD69: 0.0072879179 | AE69: 0.83563935 | AF69: 13.556488 | AG69: 0.035946323 | AH69: 0.72277688 | AI69: 3.2354169e-07 | AJ69: 2.5504612e-05 | AK69: 0.086995045 | AL69: 0.015795314
A70: Wheat starch slurry, from wheat starch extraction, at plant {FR} U | B70: Cereal byproducts | C70: Wheat starch slurry, France at plant | D70: At plant | E70: average data | F70: France | G70: France | H70: 0.0067287254 | I70: 0.94920304 | J70: 0.06699468 | K70: 0.00063485772 | L70: 0.00031475615 | M70: 0.11112437 | N70: 0.0027182506 | O70: 1.2870853e-05 | P70: 0.00047166901 | Q70: 2.2462844 | R70: 0.97893283 | S70: 0.0076120473 | T70: 0.06699468 | U70: 1.7030004e-09 | V70: 0.016482148 | W70: 0.00018862048 | X70: 4.2751821e-09 | Y70: 3.2536662e-10 | Z70: 7.019575e-11 | AA70: 0.00063485772 | AB70: 1.2870853e-05 | AC70: 0.00047166901 | AD70: 0.0027182506 | AE70: 0.95403707 | AF70: 5.6161416 | AG70: 0.013197516 | AH70: 0.89324493 | AI70: 1.8820205e-07 | AJ70: 4.1604209e-05 | AK70: 0.060428531 | AL70: 0.0065245452
A71: Wheat starch, from wheat starch extraction, at plant {FR} U | B71: Cereal byproducts | C71: Wheat starch, France, at plant | D71: At plant | E71: average data | F71: France | G71: France | H71: 0.084217552 | I71: 11.880342 | J71: 0.83851363 | K71: 0.0079459571 | L71: 0.0039395266 | M71: 1.3908463 | N71: 0.034021957 | O71: 0.00016109317 | P71: 0.0059034671 | Q71: 28.114771 | R71: 12.252443 | S71: 0.095273318 | T71: 0.83851363 | U71: 2.1314962e-08 | V71: 0.20629259 | W71: 0.002360797 | X71: 5.3508704e-08 | Y71: 4.0723286e-09 | Z71: 8.7857862e-10 | AA71: 0.0079459571 | AB71: 0.00016109317 | AC71: 0.0059034671 | AD71: 0.034021957 | AE71: 11.940845 | AF71: 70.292318 | AG71: 0.16518173 | AH71: 11.179963 | AI71: 2.35556e-06 | AJ71: 0.00052072338 | AK71: 0.7563309 | AL71: 0.081662008
A72: Barley, feed grain, conventional, national average, animal feed, at farm gate {FR} U | B72: Cereal grains | C72: Feed barley grain, conventional, France, at field | D72: At field | E72: declination | F72: France | H72: 0.081625989 | I72: 2.2820103 | J72: 0.45529407 | K72: 0.0065762184 | L72: 0.0032362914 | M72: 1.5414004 | N72: 0.02883029 | O72: 0.00012256998 | P72: 0.0048306709 | Q72: 18.08586 | R72: 2.3357034 | S72: 0.060826727 | T72: 0.45529407 | U72: 7.8885153e-09 | V72: 0.009429494 | W72: 0.0014259632 | X72: 4.222388e-08 | Y72: 5.7740573e-09 | Z72: 6.6493146e-10 | AA72: 0.0065762184 | AB72: 0.00012256998 | AC72: 0.0048306709 | AD72: 0.02883029 | AE72: 7.0831454 | AF72: 77.605433 | AG72: 0.12722584 | AH72: 2.1111049 | AI72: 1.6335195e-06 | AJ72: 0.0022461663 | AK72: 0.36215731 | AL72: 0.09089059
A73: Barley, feed grain, conventional, stored and transported, processing {FR} U | B73: Cereal grains | C73: Feed barley grain, conventional, France, at storage agency | D73: At storage agency | E73: average data | F73: France | H73: 0.081626266 | I73: 2.4635361 | J73: 0.46564787 | K73: 0.0066235651 | L73: 0.0032454422 | M73: 1.5425761 | N73: 0.029012482 | O73: 0.00012355149 | P73: 0.0048478034 | Q73: 18.273498 | R73: 2.5221605 | S73: 0.061871227 | T73: 0.46564787 | U73: 8.1172341e-09 | V73: 0.011494719 | W73: 0.0014893291 | X73: 4.2890237e-08 | Y73: 5.979496e-09 | Z73: 6.7090044e-10 | AA73: 0.0066235651 | AB73: 0.00012355149 | AC73: 0.0048478034 | AD73: 0.029012482 | AE73: 7.1498958 | AF73: 77.76364 | AG73: 0.1284189 | AH73: 2.2839779 | AI73: 1.7327134e-06 | AJ73: 0.0022511076 | AK73: 0.37250042 | AL73: 0.090896344
A74: Feed barley, protein crop scenario, at farm gate {FR} U | B74: Cereal grains | C74: Feed barley grain, conventional, France, protein crop lever, at field | D74: At field | E74: declination | F74: France | H74: 0.080325709 | I74: 2.0842581 | J74: 0.4213521 | K74: 0.0082440029 | L74: 0.0035638393 | M74: 1.3579251 | N74: 0.03630399 | O74: 9.8757533e-05 | P74: 0.0053123677 | Q74: 17.805128 | R74: 2.1333758 | S74: 0.065044803 | T74: 0.4213521 | U74: 6.9927586e-09 | V74: 0.0095479761 | W74: 0.001326826 | X74: 5.3625222e-08 | Y74: 1.4450421e-08 | Z74: 6.204769e-10 | AA74: 0.0082440029 | AB74: 9.8757533e-05 | AC74: 0.0053123677 | AD74: 0.03630399 | AE74: 6.8353327 | AF74: 68.397166 | AG74: 0.17425328 | AH74: 1.9266647 | AI74: 1.2106631e-06 | AJ74: 8.0712776e-05 | AK74: 0.34119097 | AL74: 0.080080419
A75: Feed barley, systematic covercropping scenario, at farm gate {FR} U | B75: Cereal grains | C75: Feed barley grain, conventional, France, systematic covercropping lever, at field | D75: At field | E75: declination | F75: France | H75: 0.083594024 | I75: 2.0908384 | J75: 0.413626 | K75: 0.0081203313 | L75: 0.0030345873 | M75: 1.3580264 | N75: 0.035710176 | O75: 9.9035582e-05 | P75: 0.0041578412 | Q75: 17.811508 | R75: 2.1397475 | S75: 0.062742611 | T75: 0.413626 | U75: 6.9803263e-09 | V75: 0.0096201034 | W75: 0.0013132351 | X75: 5.2861399e-08 | Y75: 1.471488e-08 | Z75: 6.2389082e-10 | AA75: 0.0081203313 | AB75: 9.9035582e-05 | AC75: 0.0041578412 | AD75: 0.035710176 | AE75: 6.835648 | AF75: 68.410242 | AG75: 0.17299038 | AH75: 1.9337384 | AI75: 1.2160635e-06 | AJ75: 8.031372e-05 | AK75: 0.33346037 | AL75: 0.080085322
A76: Barley, feed grain, systematic covercropping scenario, stored and transported, processing {FR} U | B76: Cereal grains | C76: Feed barley grain, conventional, France, systematic covercropping lever, at storage agency | D76: At storage agency | E76: declination | F76: France | H76: 0.083594301 | I76: 2.2723642 | J76: 0.4239798 | K76: 0.008167678 | L76: 0.0030437381 | M76: 1.3592021 | N76: 0.035892367 | O76: 0.00010001709 | P76: 0.0041749737 | Q76: 17.999146 | R76: 2.3262047 | S76: 0.06378711 | T76: 0.4239798 | U76: 7.2090451e-09 | V76: 0.011685328 | W76: 0.001376601 | X76: 5.3527756e-08 | Y76: 1.4920319e-08 | Z76: 6.2985979e-10 | AA76: 0.008167678 | AB76: 0.00010001709 | AC76: 0.0041749737 | AD76: 0.035892367 | AE76: 6.9023984 | AF76: 68.568449 | AG76: 0.17418344 | AH76: 2.1066115 | AI76: 1.3152574e-06 | AJ76: 8.5255011e-05 | AK76: 0.34380347 | AL76: 0.080091076
A77: Feed barley, basis scenario without lever, at farm gate {FR} U | B77: Cereal grains | C77: Feed barley grain, conventional, France, without lever, at field | D77: At field | E77: average data | F77: France | H77: 0.083594012 | I77: 2.0845758 | J77: 0.42106452 | K77: 0.0082495588 | L77: 0.003535528 | M77: 1.3580266 | N77: 0.036303819 | O77: 9.910746e-05 | P77: 0.0052453977 | Q77: 17.805532 | R77: 2.1337393 | S77: 0.065015993 | T77: 0.42106452 | U77: 6.9908356e-09 | V77: 0.009562167 | W77: 0.001327383 | X77: 5.3682595e-08 | Y77: 1.4812881e-08 | Z77: 6.2417808e-10 | AA77: 0.0082495588 | AB77: 9.910746e-05 | AC77: 0.0052453977 | AD77: 0.036303819 | AE77: 6.8313882 | AF77: 68.409093 | AG77: 0.17503384 | AH77: 1.9269952 | AI77: 1.2077196e-06 | AJ77: 8.086272e-05 | AK77: 0.34089849 | AL77: 0.080085166
A78: Barley, feed grain, basis scenario without lever, stored and transported, processing {FR} U | B78: Cereal grains | C78: Feed barley grain, conventional, France, without lever, at storage agency | D78: At storage agency | E78: declination | F78: France | H78: 0.083594289 | I78: 2.2661016 | J78: 0.43141832 | K78: 0.0082969055 | L78: 0.0035446787 | M78: 1.3592024 | N78: 0.036486011 | O78: 0.00010008897 | P78: 0.0052625302 | Q78: 17.99317 | R78: 2.3201964 | S78: 0.066060492 | T78: 0.43141832 | U78: 7.2195544e-09 | V78: 0.011627392 | W78: 0.0013907489 | X78: 5.4348952e-08 | Y78: 1.501832e-08 | Z78: 6.3014705e-10 | AA78: 0.0082969055 | AB78: 0.00010008897 | AC78: 0.0052625302 | AD78: 0.036486011 | AE78: 6.8981386 | AF78: 68.5673 | AG78: 0.17622691 | AH78: 2.0998683 | AI78: 1.3069136e-06 | AJ78: 8.5804011e-05 | AK78: 0.35124159 | AL78: 0.08009092
A79: Barley, feed grain, protein crop scenario, stored and transported, processing {FR} U | B79: Cereal grains | C79: Feed barley grain, conventional, France,protein crop lever, at storage agency | D79: At storage agency | E79: declination | F79: France | H79: 0.080325985 | I79: 2.2657839 | J79: 0.4317059 | K79: 0.0082913495 | L79: 0.00357299 | M79: 1.3591008 | N79: 0.036486182 | O79: 9.9739042e-05 | P79: 0.0053295002 | Q79: 17.992766 | R79: 2.319833 | S79: 0.066089303 | T79: 0.4317059 | U79: 7.2214774e-09 | V79: 0.011613201 | W79: 0.0013901919 | X79: 5.4291579e-08 | Y79: 1.4655859e-08 | Z79: 6.2644587e-10 | AA79: 0.0082913495 | AB79: 9.9739042e-05 | AC79: 0.0053295002 | AD79: 0.036486182 | AE79: 6.902083 | AF79: 68.555373 | AG79: 0.17544634 | AH79: 2.0995377 | AI79: 1.309857e-06 | AJ79: 8.5654066e-05 | AK79: 0.35153407 | AL79: 0.080086173
A80: Maize grain dried, conventional, stored and transported, processing {FR} U | B80: Cereal grains | C80: Maize grain dried, conventional, France, at storage agency | D80: At storage agency | E80: average data | F80: France | H80: 0.060615498 | I80: 4.2119291 | J80: 0.49356915 | K80: 0.0093893284 | L80: 0.0031235776 | M80: 1.1606155 | N80: 0.042444547 | O80: 0.00011891083 | P80: 0.0040270544 | Q80: 19.443314 | R80: 4.347412 | S80: 0.081434773 | T80: 0.49356915 | U80: 1.5909095e-08 | V80: 0.055647838 | W80: 0.001589727 | X80: 6.4602943e-08 | Y80: 8.7306775e-09 | Z80: 6.7610721e-10 | AA80: 0.0093893284 | AB80: 0.00011891083 | AC80: 0.0040270544 | AD80: 0.042444547 | AE80: 23.66598 | AF80: 58.581788 | AG80: 0.65172187 | AH80: 3.9449735 | AI80: 1.8539322e-06 | AJ80: 0.00014704721 | AK80: 0.42512999 | AL80: 0.068292112
A81: Maize grain dried, protein crop scenario, processing {FR} U | B81: Cereal grains | C81: Maize grain dried, conventional, France, protein crop lever, at field | D81: At field | E81: declination | F81: France | H81: 0.064501443 | I81: 4.5440248 | J81: 0.46192737 | K81: 0.010085246 | L81: 0.003584279 | M81: 1.2138217 | N81: 0.044173669 | O81: 0.00016132143 | P81: 0.0045537384 | Q81: 19.815471 | R81: 4.7245884 | S81: 0.088413379 | T81: 0.46192737 | U81: 2.0073366e-08 | V81: 0.084502909 | W81: 0.0013969265 | X81: 6.6887569e-08 | Y81: 1.1760704e-08 | Z81: 9.4353644e-10 | AA81: 0.010085246 | AB81: 0.00016132143 | AC81: 0.0045537384 | AD81: 0.044173669 | AE81: 23.799654 | AF81: 61.149011 | AG81: 1.0954345 | AH81: 4.2957053 | AI81: 1.786868e-06 | AJ81: 0.00012619967 | AK81: 0.39030262 | AL81: 0.071498544
A82: Maize grain dried, protein crop scenario, stored and transported, processing {FR} U | B82: Cereal grains | C82: Maize grain dried, conventional, France, protein crop lever, at storage agency | D82: At storage agency | E82: declination | F82: France | H82: 0.064501765 | I82: 4.7442168 | J82: 0.47399123 | K82: 0.010140222 | L82: 0.0035948501 | M82: 1.2151685 | N82: 0.044386903 | O82: 0.00016243148 | P82: 0.0045737614 | Q82: 20.021716 | R82: 4.929521 | S82: 0.089604116 | T82: 0.47399123 | U82: 2.0338804e-08 | V82: 0.086330394 | W82: 0.001471131 | X82: 6.7664725e-08 | Y82: 1.1997531e-08 | Z82: 9.5044132e-10 | AA82: 0.010140222 | AB82: 0.00016243148 | AC82: 0.0045737614 | AD82: 0.044386903 | AE82: 23.877385 | AF82: 61.331055 | AG82: 1.0967849 | AH82: 4.4858294 | AI82: 1.8990554e-06 | AJ82: 0.00013163328 | AK82: 0.40235436 | AL82: 0.07150523
A83: Maize grain dried, systematic covercropping scenario, processing {FR} U | B83: Cereal grains | C83: Maize grain dried, conventional, France, systematic covercropping lever, at field | D83: At field | E83: declination | F83: France | H83: 0.068424032 | I83: 4.7589508 | J83: 0.4804843 | K83: 0.010650089 | L83: 0.0029965556 | M83: 1.2790355 | N83: 0.046597998 | O83: 0.00016572935 | P83: 0.0030824941 | Q83: 20.052057 | R83: 4.9439137 | S83: 0.090616134 | T83: 0.4804843 | U83: 2.2143839e-08 | V83: 0.085407602 | W83: 0.0014802965 | X83: 7.0692265e-08 | Y83: 1.2270189e-08 | Z83: 9.6930148e-10 | AA83: 0.010650089 | AB83: 0.00016572935 | AC83: 0.0030824941 | AD83: 0.046597998 | AE83: 26.913513 | AF83: 64.818125 | AG83: 1.1046411 | AH83: 4.4965813 | AI83: 1.9339648e-06 | AJ83: 0.00013261832 | AK83: 0.40502557 | AL83: 0.075326109
... A102: Triticale grain stored and transported, processing {FR} U | B102: Cereal grains | C102: Triticale grain, conventional, France, at storage agency | D102: At storage agency | E102: average data | F102: France | H102: 0.045938829 | I102: 2.7873779 | J102: 0.55940846 | K102: 0.0060034959 | L102: 0.0043976032 | M102: 2.0819804 | N102: 0.026666601 | O102: 0.00017179857 | P102: 0.007224854 | Q102: 18.634288 | R102: 2.8480806 | S102: 0.069280191 | T102: 0.55940846 | U102: 9.2964504e-09 | V102: 0.012322646 | W102: 0.0018314006 | X102: 3.6629035e-08 | Y102: 8.7236959e-09 | Z102: 9.8647978e-10 | AA102: 0.0060034959 | AB102: 0.00017179857 | AC102: 0.007224854 | AD102: 0.026666601 | AE102: 2.8883167 | AF102: 104.79345 | AG102: 0.091090012 | AH102: 2.582392 | AI102: 1.7378512e-06 | AJ102: 0.0001298884 | AK102: 0.43650932 | AL102: 0.12276925
A103: Whey powder, animal feed, at retailer gate {FR} U | B103: Dairy products | C103: Whey powder, France, at plant | D103: At plant | E103: average data | F103: France | G103: France | H103: 0.020576029 | I103: 24.084057 | J103: 2.0154184 | K103: 0.010165867 | L103: 0.0025472025 | M103: 0.72934733 | N103: 0.04280823 | O103: 0.00012311139 | P103: 0.0029115746 | Q103: 33.926047 | R103: 24.79609 | S103: 0.13969024 | T103: 2.0154184 | U103: 6.2449962e-08 | V103: 0.1055387 | W103: 0.0034684464 | X103: 6.7675939e-08 | Y103: 1.1631327e-08 | Z103: 5.8040853e-10 | AA103: 0.010165867 | AB103: 0.00012311139 | AC103: 0.0029115746 | AD103: 0.04280823 | AE103: 10.273451 | AF103: 35.676399 | AG103: 0.042791001 | AH103: 21.959163 | AI103: 2.7852855e-06 | AJ103: 0.42574616 | AK103: 1.521094 | AL103: 0.068578179
A104: Whey, at plant {FR} U | B104: Dairy products | C104: Whey, France, at plant | D104: At plant | E104: average data | F104: France | G104: France | H104: 0.0013896213 | I104: 0.23427476 | J104: 0.049209619 | K104: 0.00060693258 | L104: 0.00014158751 | M104: 0.048713185 | N104: 0.0026484464 | O104: 3.0679448e-06 | P104: 0.00016210829 | Q104: 0.87809856 | R104: 0.26455072 | S104: 0.0046370042 | T104: 0.049209619 | U104: 4.5049284e-10 | V104: 0.0046072076 | W104: 8.1686536e-05 | X104: 4.1255353e-09 | Y104: 5.6748836e-10 | Z104: 2.2570715e-11 | AA104: 0.00060693258 | AB104: 3.0679448e-06 | AC104: 0.00016210829 | AD104: 0.0026484464 | AE104: 0.59155754 | AF104: 2.3727592 | AG104: 0.0053039218 | AH104: 0.22242863 | AI104: 8.2614343e-08 | AJ104: 0.028735828 | AK104: 0.015857445 | AL104: 0.004616346
A105: Faba bean dehulled, animal feed, at transformation plant {FR} U | B105: Legumes and oilseeds | C105: Faba bean dehulled, France, at plant | D105: At plant | E105: average data | F105: France | G105: France | H105: 0.10066119 | I105: 2.4858823 | J105: 0.40635428 | K105: 0.0015925624 | L105: 0.0043606269 | M105: 2.5082958 | N105: 0.0058364711 | O105: 0.00014557852 | P105: 0.0084770939 | Q105: 22.017336 | R105: 2.5372989 | S105: 0.059072702 | T105: 0.40635428 | U105: 6.5498959e-09 | V105: 0.01333385 | W105: 0.00094412742 | X105: 1.4104254e-08 | Y105: 3.8520836e-09 | Z105: 8.1888424e-10 | AA105: 0.0015925624 | AB105: 0.00014557852 | AC105: 0.0084770939 | AD105: 0.0058364711 | AE105: 21.455068 | AF105: 126.58346 | AG105: 0.039665682 | AH105: 2.3456209 | AI105: 1.3371636e-06 | AJ105: 8.0113646e-05 | AK105: 0.25838913 | AL105: 0.14788504
A106: Faba bean extruded, Bleu Blanc Coeur feed, at processing {FR} U | B106: Legumes and oilseeds | C106: Faba bean extruded, Bleu Blanc Cœur, France, at plant | D106: At plant | E106: average data | F106: France | G106: France | H106: 0.086568026 | I106: 2.3041141 | J106: 0.337721 | K106: 0.0012093141 | L106: 0.0037179292 | M106: 2.1547778 | N106: 0.004309921 | O106: 0.00012207286 | P106: 0.0072250106 | Q106: 19.114557 | R106: 2.3627001 | S106: 0.049374069 | T106: 0.337721 | U106: 5.9389539e-09 | V106: 0.026960702 | W106: 0.00059228352 | X106: 8.9035642e-09 | Y106: 2.9974594e-09 | Z106: 6.8786651e-10 | AA106: 0.0012093141 | AB106: 0.00012207286 | AC106: 0.0072250106 | AD106: 0.004309921 | AE106: 18.227818 | AF106: 108.49798 | AG106: 0.032715849 | AH106: 2.1793306 | AI106: 1.0803173e-06 | AJ106: 6.3040857e-05 | AK106: 0.21049585 | AL106: 0.1271621
A107: Faba bean, grain stored and transported, processing {FR} U | B107: Legumes and oilseeds | C107: Faba beans conventional, France, at storage agency | D107: At storage agency | E107: average data | F107: France | H107: 0.086567822 | I107: 1.5452315 | J107: 0.31289502 | K107: 0.0011795955 | L107: 0.0037102465 | M107: 2.1543768 | N107: 0.0042247635 | O107: 0.0001207485 | P107: 0.0072160029 | Q107: 18.324165 | R107: 1.5750083 | S107: 0.047257326 | T107: 0.31289502 | U107: 4.8594051e-09 | V107: 0.0081984223 | W107: 0.00054489711 | X107: 8.6410022e-09 | Y107: 2.916636e-09 | Z107: 6.8106025e-10 | AA107: 0.0011795955 | AB107: 0.0001207485 | AC107: 0.0072160029 | AD107: 0.0042247635 | AE107: 18.198209 | AF107: 108.47819 | AG107: 0.031343322 | AH107: 1.4575031 | AI107: 1.036641e-06 | AJ107: 4.8879166e-05 | AK107: 0.18568893 | AL107: 0.12715721
A108: Spring faba bean, conventional, national average, at farm gate {FR} U | B108: Legumes and oilseeds | C108: Faba beans, conventional, France, at field | D108: At field | E108: average data | F108: France | H108: 0.086567545 | I108: 1.3637056 | J108: 0.30254122 | K108: 0.0011322489 | L108: 0.0037010958 | M108: 2.1532011 | N108: 0.0040425717 | O108: 0.00011976699 | P108: 0.0071988704 | Q108: 18.136527 | R108: 1.3885512 | S108: 0.046212826 | T108: 0.30254122 | U108: 4.6306863e-09 | V108: 0.0061331975 | W108: 0.00048153119 | X108: 7.9746452e-09 | Y108: 2.7111973e-09 | Z108: 6.7509128e-10 | AA108: 0.0011322489 | AB108: 0.00011976699 | AC108: 0.0071988704 | AD108: 0.0040425717 | AE108: 18.131459 | AF108: 108.31998 | AG108: 0.030150258 | AH108: 1.28463 | AI108: 9.3744708e-07 | AJ108: 4.3937875e-05 | AK108: 0.17534582 | AL108: 0.12715146
A109: Flaxseed oil, animal feed, at plant {FR} U | B109: Legumes and oilseeds | C109: Flaxseed oil, France, at plant | D109: At plant | E109: average data | F109: France | G109: France | H109: 0.38939996 | I109: 13.494187 | J109: 2.1231661 | K109: 0.032229301 | L109: 0.019036347 | M109: 10.301625 | N109: 0.14020422 | O109: 0.00090229514 | P109: 0.029300787 | Q109: 60.099446 | R109: 13.840431 | S109: 0.32336644 | T109: 2.1231661 | U109: 2.7978201e-08 | V109: 0.12237133 | W109: 0.0055784082 | X109: 2.0840095e-07 | Y109: 2.9340287e-08 | Z109: 5.8469956e-09 | AA109: 0.032229301 | AB109: 0.00090229514 | AC109: 0.029300787 | AD109: 0.14020422 | AE109: 27.138002 | AF109: 518.43681 | AG109: 0.46763546 | AH109: 12.627292 | AI109: 7.4539558e-06 | AJ109: 0.00044953008 | AK109: 1.5149347 | AL109: 0.6077818
A110: Flaxseed, national average, animal feed, at farm gate {FR} U | B110: Legumes and oilseeds | C110: Flaxseed, conventional, France, at field | D110: At field | E110: average data | F110: France | H110: 0.20888315 | I110: 5.624869 | J110: 1.0913486 | K110: 0.017160451 | L110: 0.010183844 | M110: 5.5235463 | N110: 0.07475709 | O110: 0.0004804175 | P110: 0.015672896 | Q110: 30.548303 | R110: 5.7409468 | S110: 0.16831862 | T110: 1.0913486 | U110: 1.3331819e-08 | V110: 0.020421608 | W110: 0.0028159678 | X110: 1.0991755e-07 | Y110: 1.5320057e-08 | Z110: 3.1171722e-09 | AA110: 0.017160451 | AB110: 0.0004804175 | AC110: 0.015672896 | AD110: 0.07475709 | AE110: 14.390175 | AF110: 277.82736 | AG110: 0.24663765 | AH110: 5.2188527 | AI110: 3.8021291e-06 | AJ110: 0.00020661703 | AK110: 0.76512913 | AL110: 0.32601283
A111: Flaxseed grain dried, stored and transported, processing {FR} U | B111: Legumes and oilseeds | C111: Flaxseed, conventional, France, at storage agency | D111: At storage agency | E111: average data | F111: France | H111: 0.20888343 | I111: 5.8063948 | J111: 1.1017024 | K111: 0.017207798 | L111: 0.010192995 | M111: 5.5247221 | N111: 0.074939282 | O111: 0.00048139901 | P111: 0.015690029 | Q111: 30.735941 | R111: 5.9274039 | S111: 0.16936312 | T111: 1.1017024 | U111: 1.3560538e-08 | V111: 0.022486833 | W111: 0.0028793337 | X111: 1.1058391e-07 | Y111: 1.5525495e-08 | Z111: 3.1231411e-09 | AA111: 0.017207798 | AB111: 0.00048139901 | AC111: 0.015690029 | AD111: 0.074939282 | AE111: 14.456925 | AF111: 277.98557 | AG111: 0.24783072 | AH111: 5.3917258 | AI111: 3.9013231e-06 | AJ111: 0.00021155832 | AK111: 0.77547224 | AL111: 0.32601858
A112: Highly dehulled sunflower grains, animal feed, at transformation plant {FR} U | B112: Legumes and oilseeds | C112: Highly dehulled sunflower grains, France, at plant | D112: At plant | E112: average data | F112: France | G112: France | H112: 0.13423624 | I112: 5.7007048 | J112: 1.0811286 | K112: 0.0097075875 | L112: 0.0085489515 | M112: 5.4809015 | N112: 0.048779796 | O112: 0.00060686197 | P112: 0.013014647 | Q112: 37.302997 | R112: 5.8346832 | S112: 0.15322084 | T112: 1.0811286 | U112: 1.3111063e-08 | V112: 0.042428292 | W112: 0.0026008221 | X112: 8.2412734e-08 | Y112: 4.1134066e-08 | Z112: 3.7332791e-09 | AA112: 0.0097075875 | AB112: 0.00060686197 | AC112: 0.013014647 | AD112: 0.048779796 | AE112: 16.622267 | AF112: 275.74138 | AG112: 0.2383118 | AH112: 5.3578875 | AI112: 3.6231292e-06 | AJ112: 0.041141863 | AK112: 0.71741808 | AL112: 0.32256865
A113: Lupin, conventional, national average, at farm gate, production {FR} U | B113: Legumes and oilseeds | C113: Lupine, conventional, France, at field | D113: At field | E113: average data | F113: France | H113: 0.17002001 | I113: 2.5830325 | J113: 0.67834927 | K113: 0.0079379393 | L113: 0.0086953576 | M113: 5.4735127 | N113: 0.034579531 | O113: 0.0003668215 | P113: 0.015182114 | Q113: 19.060251 | R113: 2.6372423 | S113: 0.11459354 | T113: 0.67834927 | U113: 6.3061701e-09 | V113: 0.013019213 | W113: 0.00094562895 | X113: 5.8297794e-08 | Y113: 1.1303771e-08 | Z113: 2.4353416e-09 | AA113: 0.0079379393 | AB113: 0.0003668215 | AC113: 0.015182114 | AD113: 0.034579531 | AE113: 7.6758898 | AF113: 275.85437 | AG113: 0.085592754 | AH113: 2.4335857 | AI113: 2.0566893e-06 | AJ113: 0.012035763 | AK113: 0.34317791 | AL113: 0.3231356
A114: Lupin, conventional, stored and transported, processing {FR} U | B114: Legumes and oilseeds | C114: Lupine, conventional, France, at storage agency | D114: At storage agency | E114: average data | F114: France | H114: 0.1700203 | I114: 2.7780746 | J114: 0.68880179 | K114: 0.0079859749 | L114: 0.0087046925 | M114: 5.4747001 | N114: 0.034762815 | O114: 0.00036784433 | P114: 0.01519938 | Q114: 19.262541 | R114: 2.8382757 | S114: 0.11567548 | T114: 0.68880179 | U114: 6.5389662e-09 | V114: 0.015688831 | W114: 0.0010093664 | X114: 5.8970899e-08 | Y114: 1.1514313e-08 | Z114: 2.4414284e-09 | AA114: 0.0079859749 | AB114: 0.00036784433 | AC114: 0.01519938 | AD114: 0.034762815 | AE114: 7.7434596 | AF114: 276.01325 | AG114: 0.086822372 | AH114: 2.6198569 | AI114: 2.1605174e-06 | AJ114: 0.012041055 | AK114: 0.35361932 | AL114: 0.32314142
A115: Rapeseed grain, conventional, dried, stored and transported, processing {FR} U | B115: Legumes and oilseeds | C115: Rapeseed grain, conventional, France, at storage agency | D115: At storage agency | E115: average data | F115: France | H115: 0.11964247 | I115: 6.3878352 | J115: 1.1623546 | K115: 0.01685182 | L115: 0.0076756173 | M115: 3.174126 | N115: 0.07883093 | O115: 0.00026183865 | P115: 0.011667401 | Q115: 34.148616 | R115: 6.5523728 | S115: 0.15662854 | T115: 1.1623546 | U115: 4.0541453e-08 | V115: 0.044401214 | W115: 0.003691549 | X115: 1.2228975e-07 | Y115: 1.7862292e-08 | Z115: 1.4941648e-09 | AA115: 0.01685182 | AB115: 0.00026183865 | AC115: 0.011667401 | AD115: 0.07883093 | AE115: 25.376539 | AF115: 159.7129 | AG115: 0.28224289 | AH115: 5.9470964 | AI115: 4.3577565e-06 | AJ115: 0.029658136 | AK115: 0.94627711 | AL115: 0.1864194
A116: Rapeseed, protein crop scenario, at farm gate {FR} U | B116: Legumes and oilseeds | C116: Rapeseed grain, conventional, France, protein crop lever, at field | D116: At field | E116: declination | F116: France | H116: 0.15003631 | I116: 4.4864222 | J116: 0.91218494 | K116: 0.016717335 | L116: 0.0069878626 | M116: 2.744156 | N116: 0.073029302 | O116: 0.00025663396 | P116: 0.0098686609 | Q116: 30.573051 | R116: 4.5840487 | S116: 0.13599598 | T116: 0.91218494 | U116: 3.5796141e-08 | V116: 0.015127312 | W116: 0.0029751202 | X116: 1.0731555e-07 | Y116: 2.494532e-08 | Z116: 1.7026311e-09 | AA116: 0.016717335 | AB116: 0.00025663396 | AC116: 0.0098686609 | AD116: 0.073029302 | AE116: 22.874233 | AF116: 138.19583 | AG116: 0.28311433 | AH116: 4.1363919 | AI116: 2.6247925e-06 | AJ116: 0.00017131262 | AK116: 0.75019307 | AL116: 0.16182056
A117: Rapeseed grain, protein crop scenario, dried, stored and transported, processing {FR} U | B117: Legumes and oilseeds | C117: Rapeseed grain, conventional, France, protein crop lever, at storage agency | D117: At storage agency | E117: declination | F117: France | H117: 0.1500411 | I117: 4.6897065 | J117: 0.92378345 | K117: 0.0167663 | L117: 0.0069975071 | M117: 2.745422 | N117: 0.073217137 | O117: 0.00025767399 | P117: 0.0098864171 | Q117: 30.783624 | R117: 4.7926165 | S117: 0.13711644 | T117: 0.92378345 | U117: 3.6079279e-08 | V117: 0.017329895 | W117: 0.0030407313 | X117: 1.0799216e-07 | Y117: 2.5154973e-08 | Z117: 1.7089521e-09 | AA117: 0.0167663 | AB117: 0.00025767399 | AC117: 0.0098864171 | AD117: 0.073217137 | AE117: 22.942729 | AF117: 138.35873 | AG117: 0.28435005 | AH117: 4.3291644 | AI117: 2.7261489e-06 | AJ117: 0.00017656274 | AK117: 0.76177553 | AL117: 0.16183136
A118: Rapeseed, systematic covercropping scenario, at farm gate {FR} U | B118: Legumes and oilseeds | C118: Rapeseed grain, conventional, France, systematic covercropping lever, at field | D118: At field | E118: declination | F118: France | H118: 0.1586259 | I118: 4.4874509 | J118: 0.90375812 | K118: 0.016731821 | L118: 0.0061853764 | M118: 2.7444235 | N118: 0.073028952 | O118: 0.00025764458 | P118: 0.0080637331 | Q118: 30.574297 | R118: 4.5851969 | S118: 0.13324211 | T118: 0.90375812 | U118: 3.5791261e-08 | V118: 0.015164464 | W118: 0.0029766315 | X118: 1.0746684e-07 | Y118: 2.5889388e-08 | Z118: 1.7146642e-09 | AA118: 0.016731821 | AB118: 0.00025764458 | AC118: 0.0080637331 | AD118: 0.073028952 | AE118: 22.862068 | AF118: 138.22736 | AG118: 0.28516067 | AH118: 4.1374431 | AI118: 2.6168874e-06 | AJ118: 0.00017171245 | AK118: 0.74175337 | AL118: 0.16183304
A119: Rapeseed grain, systematic covercropping scenario, dried, stored and transported, processing {FR} U | B119: Legumes and oilseeds | C119: Rapeseed grain, conventional, France, systematic covercropping lever, at storage agency | D119: At storage agency | E119: declination | F119: France | H119: 0.15863094 | I119: 4.6907353 | J119: 0.91535638 | K119: 0.016780787 | L119: 0.0061949969 | M119: 2.7456894 | N119: 0.073216787 | O119: 0.00025868464 | P119: 0.0080814352 | Q119: 30.78487 | R119: 4.7937647 | S119: 0.13436249 | T119: 0.91535638 | U119: 3.6074399e-08 | V119: 0.017367047 | W119: 0.0030422426 | X119: 1.0814346e-07 | Y119: 2.6099069e-08 | Z119: 1.7209856e-09 | AA119: 0.016780787 | AB119: 0.00025868464 | AC119: 0.0080814352 | AD119: 0.073216787 | AE119: 22.930564 | AF119: 138.39026 | AG119: 0.28639646 | AH119: 4.3302157 | AI119: 2.7182436e-06 | AJ119: 0.00017696258 | AK119: 0.75333557 | AL119: 0.16184384
A120: Rapeseed, basis scenario without lever, at farm gate {FR} U | B120: Legumes and oilseeds | C120: Rapeseed grain, conventional, France, without lever, at field | D120: At field | E120: declination | F120: France | H120: 0.1586259 | I120: 4.4873758 | J120: 0.91226654 | K120: 0.016731807 | L120: 0.0069925412 | M120: 2.7444233 | N120: 0.073028923 | O120: 0.00025764384 | P120: 0.0098689065 | Q120: 30.574219 | R120: 4.5851202 | S120: 0.13621295 | T120: 0.91226654 | U120: 3.5791244e-08 | V120: 0.015164308 | W120: 0.0029766188 | X120: 1.0746669e-07 | Y120: 2.5889288e-08 | Z120: 1.7146624e-09 | AA120: 0.016731807 | AB120: 0.00025764384 | AC120: 0.0098689065 | AD120: 0.073028923 | AE120: 22.862052 | AF120: 138.22735 | AG120: 0.2851591 | AH120: 4.137373 | AI120: 2.616867e-06 | AJ120: 0.0001716988 | AK120: 0.75026181 | AL120: 0.16183303
A121: Rapeseed grain, basis scenario without lever, dried, stored and transported, processing {FR} U | B121: Legumes and oilseeds | C121: Rapeseed grain, conventional, France, without lever, at storage agency | D121: At storage agency | E121: declination | F121: France | H121: 0.15863094 | I121: 4.6906601 | J121: 0.92386506 | K121: 0.016780772 | L121: 0.0070021859 | M121: 2.7456892 | N121: 0.073216758 | O121: 0.0002586839 | P121: 0.0098866628 | Q121: 30.784793 | R121: 4.793688 | S121: 0.13733342 | T121: 0.92386506 | U121: 3.6074382e-08 | V121: 0.017366891 | W121: 0.0030422299 | X121: 1.081433e-07 | Y121: 2.6098969e-08 | Z121: 1.7209838e-09 | AA121: 0.016780772 | AB121: 0.0002586839 | AC121: 0.0098866628 | AD121: 0.073216758 | AE121: 22.930548 | AF121: 138.39025 | AG121: 0.28639489 | AH121: 4.3301455 | AI121: 2.7182232e-06 | AJ121: 0.00017694893 | AK121: 0.76184427 | AL121: 0.16184384
A122: Rapeseed, conventional, 9% moisture, national average, animal feed, at farm gate, production {FR} U | B122: Legumes and oilseeds | C122: Rapeseed, conventional, 9% moisture, France, at field | D122: At field | E122: average data | F122: France | H122: 0.11963859 | I122: 6.1845 | J122: 1.150749 | K122: 0.016802853 | L122: 0.0076659524 | M122: 3.1728472 | N122: 0.078642928 | O122: 0.00026079849 | P122: 0.011649591 | Q122: 33.937942 | R122: 6.3437522 | S122: 0.15550749 | T122: 1.150749 | U122: 4.0258181e-08 | V122: 0.04219782 | W122: 0.0036259184 | X122: 1.2161271e-07 | Y122: 1.7652857e-08 | Z122: 1.4878502e-09 | AA122: 0.016802853 | AB122: 0.00026079849 | AC122: 0.011649591 | AD122: 0.078642928 | AE122: 25.30797 | AF122: 159.54936 | AG122: 0.28100723 | AH122: 5.7542753 | AI122: 4.2563511e-06 | AJ122: 0.029652001 | AK122: 0.93468912 | AL122: 0.18640786
A123: Soybean, national average, animal feed, at farm gate {FR} U | B123: Legumes and oilseeds | C123: Soyabean, France, at field | D123: At field | E123: average data | F123: France | H123: 0.072679497 | I123: 1.4827574 | J123: 0.45892391 | K123: 0.0019085101 | L123: 0.0051702067 | M123: 4.0030752 | N123: 0.0072442145 | O123: 0.00028936503 | P123: 0.0091450765 | Q123: 22.381793 | R123: 1.5095727 | S123: 0.063376963 | T123: 0.45892391 | U123: 1.1657199e-08 | V123: 0.0065238686 | W123: 0.00064671745 | X123: 1.2681986e-08 | Y123: -2.1897661e-09 | Z123: 5.8989067e-10 | AA123: 0.0019085101 | AB123: 0.00028936503 | AC123: 0.0091450765 | AD123: 0.0072442145 | AE123: 5.9924059 | AF123: 201.19494 | AG123: 0.032199873 | AH123: 1.3959694 | AI123: 1.1118662e-06 | AJ123: 4.9200201e-05 | AK123: 0.22242754 | AL123: 0.23644718
A124: Soybean grain dried, stored and transported, processing {FR} U | B124: Legumes and oilseeds | C124: Soyabean, France, at storage agency | D124: At storage agency | E124: average data | F124: France | H124: 0.072687069 | I124: 1.7251811 | J124: 0.47274394 | K124: 0.0019591849 | L124: 0.0051806728 | M124: 4.0046733 | N124: 0.0074368286 | O124: 0.00029051825 | P124: 0.0091640441 | Q124: 22.633525 | R124: 1.7579111 | S124: 0.064629744 | T124: 0.47274394 | U124: 1.2036965e-08 | V124: 0.008974089 | W124: 0.00071620524 | X124: 1.3369371e-08 | Y124: -1.9748103e-09 | Z124: 5.9676427e-10 | AA124: 0.0019591849 | AB124: 0.00029051825 | AC124: 0.0091640441 | AD124: 0.0074368286 | AE124: 6.0627322 | AF124: 201.37479 | AG124: 0.033492136 | AH124: 1.624538 | AI124: 1.2170236e-06 | AJ124: 5.4999498e-05 | AK124: 0.23621182 | AL124: 0.23647712
... A126: Soybean BR, cut-off date 2020, animal feed, at french port {FR} U | B126: Legumes and oilseeds | C126: Soybean, Brazil, Cut-off date 2020, at french port | D126: At french port | E126: declination | F126: Brazil | H126: 0.017085578 | I126: 6.3332542 | J126: 1.6213546 | K126: 0.0068477564 | L126: 0.0053919074 | M126: 0.076095772 | N126: 0.023400285 | O126: 0.00012819844 | P126: 0.010822505 | Q126: 13.439853 | R126: 12.798869 | S126: 0.14518324 | T126: 1.6213546 | U126: 1.1475111e-08 | V126: 0.012584302 | W126: 0.0058498029 | X126: 4.9129801e-08 | Y126: 3.3943422e-08 | Z126: 1.2890474e-09 | AA126: 0.0068477564 | AB126: 0.00012819844 | AC126: 0.010822505 | AD126: 0.023400285 | AE126: 97.765652 | AF126: 16.204051 | AG126: 0.1164817 | AH126: 5.9421616 | AI126: 4.0621361e-06 | AJ126: 0.00035927605 | AK126: 0.67277531 | AL126: 0.94822
A127: Soybean extruded BR, animal feed, at french transformation plant {FR} U | B127: Legumes and oilseeds | C127: Soybean extruded, Brazil, average deforestation, extrusion in France, at plant | D127: At plant | E127: average data | F127: Brazil | G127: France | H127: 0.01721132 | I127: 7.1345395 | J127: 1.8111871 | K127: 0.0070879966 | L127: 0.0054911234 | M127: 0.076511895 | N127: 0.024299417 | O127: 0.00012466735 | P127: 0.011037008 | Q127: 15.832645 | R127: 15.179184 | S127: 0.15631457 | T127: 1.8111871 | U127: 1.2411862e-08 | V127: 0.031252104 | W127: 0.0062213812 | X127: 5.1989875e-08 | Y127: 3.6617063e-08 | Z127: 1.538327e-09 | AA127: 0.0070879966 | AB127: 0.00012466735 | AC127: 0.011037008 | AD127: 0.024299417 | AE127: 104.01636 | AF127: 18.545877 | AG127: 0.1177001 | AH127: 6.7039802 | AI127: 4.0734421e-06 | AJ127: 0.00037257742 | AK127: 0.70426615 | AL127: 1.1065483
A128: Soybean extruded, animal feed, at french transformation plant {FR} U | B128: Legumes and oilseeds | C128: Soybean extruded, France, at plant | D128: At plant | E128: average data | F128: France | G128: France | H128: 0.072688074 | I128: 3.0416391 | J128: 0.5339065 | K128: 0.0021779163 | L128: 0.0052279817 | M128: 4.0078062 | N128: 0.0083144086 | O128: 0.00029624565 | P128: 0.0092470544 | Q128: 23.997178 | R128: 3.1153725 | S128: 0.070212292 | T128: 0.5339065 | U128: 1.3880598e-08 | V128: 0.029425172 | W128: 0.0010298769 | X128: 1.7107108e-08 | Y128: -1.5008655e-09 | Z128: 6.2660676e-10 | AA128: 0.0021779163 | AB128: 0.00029624565 | AC128: 0.0092470544 | AD128: 0.0083144086 | AE128: 6.3443727 | AF128: 201.77714 | AG128: 0.037558843 | AH128: 2.8713334 | AI128: 1.3721286e-06 | AJ128: 8.8337239e-05 | AK128: 0.29731236 | AL128: 0.2365058
A129: Soybean toasted BR, animal feed, at french transformation plant {FR} U | B129: Legumes and oilseeds | C129: Soybean toasted, Brazil, average deforestation, toasting in France, at plant | D129: At plant | E129: average data | F129: Brazil | G129: France | H129: 0.017211409 | I129: 7.1414444 | J129: 1.8248316 | K129: 0.0070938081 | L129: 0.0054924926 | M129: 0.076411242 | N129: 0.024325957 | O129: 0.00012490223 | P129: 0.011038865 | Q129: 15.825509 | R129: 15.172892 | S129: 0.15660373 | T129: 1.8248316 | U129: 1.3015683e-08 | V129: 0.020946609 | W129: 0.006242691 | X129: 5.1972386e-08 | Y129: 3.6628059e-08 | Z129: 1.5408918e-09 | AA129: 0.0070938081 | AB129: 0.00012490223 | AC129: 0.011038865 | AD129: 0.024325957 | AE129: 104.02031 | AF129: 18.544145 | AG129: 0.11754237 | AH129: 6.6896544 | AI129: 4.0756963e-06 | AJ129: 0.00036993907 | AK129: 0.71791193 | AL129: 1.1065497
A130: Soybean BR, average, animal feed, at french port, consumption mix {FR} U | B130: Legumes and oilseeds | C130: Soybean, Brazil, average deforestation, at french port | D130: At french port | E130: average data | F130: Brazil | H130: 0.017211049 | I130: 6.3300547 | J130: 1.7833869 | K130: 0.0070444015 | L130: 0.0054808313 | M130: 0.075900125 | N130: 0.024155274 | O130: 0.0001231287 | P130: 0.011022495 | Q130: 14.995971 | R130: 14.345371 | S130: 0.15392174 | T130: 1.7833869 | U130: 1.1267088e-08 | V130: 0.012430473 | W130: 0.0061533903 | X130: 5.1434626e-08 | Y130: 3.650297e-08 | Z130: 1.5299211e-09 | AA130: 0.0070444015 | AB130: 0.0001231287 | AC130: 0.011022495 | AD130: 0.024155274 | AE130: 103.96563 | AF130: 18.493841 | AG130: 0.11614069 | AH130: 5.9392558 | AI130: 4.0205085e-06 | AJ130: 0.00035752383 | AK130: 0.67648738 | AL130: 1.106542
A131: Soybean BR, not associated to deforestation, animal feed, at french port {FR} U | B131: Legumes and oilseeds | C131: Soybean, Brazil, not associated to deforestation, at french port | D131: At french port | E131: declination | F131: Brazil | H131: 0.016583696 | I131: 6.3460519 | J131: 0.97322541 | K131: 0.0060611757 | L131: 0.0050362116 | M131: 0.07687836 | N131: 0.020380329 | O131: 0.00014847738 | P131: 0.010022547 | Q131: 7.2153803 | R131: 6.6128618 | S131: 0.11022923 | T131: 0.97322541 | U131: 1.2307203e-08 | V131: 0.013199616 | W131: 0.0046354533 | X131: 3.9910501e-08 | Y131: 2.3705228e-08 | Z131: 3.2555267e-10 | AA131: 0.0060611757 | AB131: 0.00014847738 | AC131: 0.010022547 | AD131: 0.020380329 | AE131: 72.965729 | AF131: 7.0448931 | AG131: 0.11784574 | AH131: 5.9537849 | AI131: 4.2286467e-06 | AJ131: 0.00036628493 | AK131: 0.65792703 | AL131: 0.3149321
A132: Soybean US, animal feed, at french port {FR} U | B132: Legumes and oilseeds | C132: Soybean, US, at french port | D132: At french port | E132: average data | F132: USA | H132: 0.0034131449 | I132: 5.3931209 | J132: 0.62487849 | K132: 0.0046813461 | L132: 0.0010967426 | M132: 3.3027357 | N132: 0.017467427 | O132: 8.3722972e-05 | P132: 0.0016793188 | Q132: 26.167677 | R132: 5.5067948 | S132: 0.074983811 | T132: 0.62487849 | U132: 5.8225428e-09 | V132: 0.013284026 | W132: 0.0046291634 | X132: 2.8654969e-08 | Y132: 4.8434012e-09 | Z132: 2.6305839e-10 | AA132: 0.0046813461 | AB132: 8.3722972e-05 | AC132: 0.0016793188 | AD132: 0.017467427 | AE132: 12.470729 | AF132: 184.72513 | AG132: 0.30766216 | AH132: 5.0616859 | AI132: 2.4256205e-06 | AJ132: 0.00024156708 | AK132: 0.61298342 | AL132: 0.011653503
A133: Spring pea, conventional, 15% moisture, animal feed, at farm gate, production {FR} U | B133: Legumes and oilseeds | C133: Spring pea, conventional, 15% moisture, France, at field | D133: At field | E133: average data | F133: France | H133: 0.055261562 | I133: 1.9772271 | J133: 0.3436466 | K133: 0.0013890059 | L133: 0.0041562148 | M133: 2.4164222 | N133: 0.0049213169 | O133: 0.00016875603 | P133: 0.0078756913 | Q133: 18.745267 | R133: 2.0259434 | S133: 0.055068144 | T133: 0.3436466 | U133: 2.0308176e-08 | V133: 0.018245395 | W133: 0.00060326206 | X133: 9.6391976e-09 | Y133: 5.6305244e-09 | Z133: 8.8088743e-10 | AA133: 0.0013890059 | AB133: 0.00016875603 | AC133: 0.0078756913 | AD133: 0.0049213169 | AE133: 19.834745 | AF133: 121.51531 | AG133: 0.17259938 | AH133: 1.8749027 | AI133: 1.3293865e-06 | AJ133: 6.0070627e-05 | AK133: 0.20093091 | AL133: 0.14265562
A134: Spring pea grain stored and transported, processing {FR} U | B134: Legumes and oilseeds | C134: Spring pea, conventional, France, at storage agency | D134: At storage agency | E134: average data | F134: France | H134: 0.055261838 | I134: 2.1587529 | J134: 0.3540004 | K134: 0.0014363526 | L134: 0.0041653656 | M134: 2.4175979 | N134: 0.0051035087 | O134: 0.00016973754 | P134: 0.0078928238 | Q134: 18.932905 | R134: 2.2124006 | S134: 0.056112643 | T134: 0.3540004 | U134: 2.0536895e-08 | V134: 0.02031062 | W134: 0.00066662798 | X134: 1.0305555e-08 | Y134: 5.8359631e-09 | Z134: 8.868564e-10 | AA134: 0.0014363526 | AB134: 0.00016973754 | AC134: 0.0078928238 | AD134: 0.0051035087 | AE134: 19.901496 | AF134: 121.67352 | AG134: 0.17379244 | AH134: 2.0477758 | AI134: 1.4285804e-06 | AJ134: 6.5011917e-05 | AK134: 0.21127401 | AL134: 0.14266137
A135: Sunflower grain, conventional, dried, stored and transported, processing {FR} U | B135: Legumes and oilseeds | C135: Sunflower grain, conventional, France, at storage agency | D135: At storage agency | E135: average data | F135: France | H135: 0.11762889 | I135: 4.4028356 | J135: 0.91081107 | K135: 0.0083166407 | L135: 0.0074514567 | M135: 4.8000943 | N135: 0.041950581 | O135: 0.00052733723 | P135: 0.01133029 | Q135: 32.077449 | R135: 4.505798 | S135: 0.13072048 | T135: 0.91081107 | U135: 1.071557e-08 | V135: 0.033910743 | W135: 0.0020120184 | X135: 6.8728688e-08 | Y135: 3.564916e-08 | Z135: 3.24825e-09 | AA135: 0.0083166407 | AB135: 0.00052733723 | AC135: 0.01133029 | AD135: 0.041950581 | AE135: 14.312755 | AF135: 241.24545 | AG135: 0.20606076 | AH135: 4.1353251 | AI135: 3.0615873e-06 | AJ135: 0.03603213 | AK135: 0.59213961 | AL135: 0.28263933
A136: Sunflower grain, protein crop scenario, at farm gate {FR} U | B136: Legumes and oilseeds | C136: Sunflower grain, conventional, France, protein crop lever, at field | D136: At field | E136: declination | F136: France | H136: 0.14318382 | I136: 3.1761408 | J136: 0.79887066 | K136: 0.006971234 | L136: 0.008790712 | M136: 4.7735394 | N136: 0.029444219 | O136: 0.00071226646 | P136: 0.013078018 | Q136: 28.878747 | R136: 3.2390955 | S136: 0.11611223 | T136: 0.79887066 | U136: 6.122429e-09 | V136: 0.012711247 | W136: 0.0017332709 | X136: 4.4469212e-08 | Y136: 2.9847241e-09 | Z136: 3.5510771e-09 | AA136: 0.006971234 | AB136: 0.00071226646 | AC136: 0.013078018 | AD136: 0.029444219 | AE136: 9.5836085 | AF136: 240.01817 | AG136: 0.13428397 | AH136: 2.9581273 | AI136: 2.2677691e-06 | AJ136: 0.00011181165 | AK136: 0.51690564 | AL136: 0.28185321
A137: Sunflower grain, protein crop scenario, dried, stored and transported, processing {FR} U | B137: Legumes and oilseeds | C137: Sunflower grain, conventional, France, protein crop lever, at storage agency | D137: At storage agency | E137: declination | F137: France | H137: 0.14319844 | I137: 3.4155823 | J137: 0.81254706 | K137: 0.0070222524 | L137: 0.0088014987 | M137: 4.7752134 | N137: 0.029638549 | O137: 0.00071345456 | P137: 0.013097331 | Q137: 29.12792 | R137: 3.4844046 | S137: 0.1173598 | T137: 0.81254706 | U137: 6.4938583e-09 | V137: 0.015142286 | W137: 0.0018025528 | X137: 4.5158751e-08 | Y137: 3.199693e-09 | Z137: 3.558203e-09 | AA137: 0.0070222524 | AB137: 0.00071345456 | AC137: 0.013097331 | AD137: 0.029638549 | AE137: 9.6541395 | AF137: 240.20183 | AG137: 0.13558147 | AH137: 3.1839702 | AI137: 2.3727394e-06 | AJ137: 0.00011757299 | AK137: 0.53054182 | AL137: 0.28188766
A138: Sunflower grain, systematic covercropping scenario, at farm gate {FR} U | B138: Legumes and oilseeds | C138: Sunflower grain, conventional, France, systematic covercropping lever, at field | D138: At field | E138: declination | F138: France | H138: 0.13540195 | I138: 3.7380666 | J138: 0.78514267 | K138: 0.0056511125 | L138: 0.0073665367 | M138: 4.820028 | N138: 0.023230852 | O138: 0.00071860146 | P138: 0.010202354 | Q138: 29.60675 | R138: 3.80309 | S138: 0.10881321 | T138: 0.78514267 | U138: 7.4415494e-09 | V138: 0.01527021 | W138: 0.0016001757 | X138: 3.6498847e-08 | Y138: 3.3800155e-09 | Z138: 3.5876039e-09 | AA138: 0.0056511125 | AB138: 0.00071860146 | AC138: 0.010202354 | AD138: 0.023230852 | AE138: 10.057106 | AF138: 242.381 | AG138: 0.11296131 | AH138: 3.5003281 | AI138: 2.6066041e-06 | AJ138: 0.00011178255 | AK138: 0.50043946 | AL138: 0.28459143
A139: Sunflower grain, systematic covercropping scenario, dried, stored and transported, processing {FR} U | B139: Legumes and oilseeds | C139: Sunflower grain, conventional, France, systematic covercropping lever, at storage agency | D139: At storage agency | E139: declination | F139: France | H139: 0.13541579 | I139: 3.9775642 | J139: 0.7988177 | K139: 0.0057019989 | L139: 0.007377181 | M139: 4.8217066 | N139: 0.023424561 | O139: 0.0007197902 | P139: 0.01022138 | Q139: 29.855996 | R139: 4.0484554 | S139: 0.11006005 | T139: 0.7988177 | U139: 7.8131106e-09 | V139: 0.017701506 | W139: 0.0016694444 | X139: 3.7187589e-08 | Y139: 3.5950239e-09 | Z139: 3.5947334e-09 | AA139: 0.0057019989 | AB139: 0.0007197902 | AC139: 0.01022138 | AD139: 0.023424561 | AE139: 10.127685 | AF139: 242.56489 | AG139: 0.11425667 | AH139: 3.7262252 | AI139: 2.7116083e-06 | AJ139: 0.00011754389 | AK139: 0.514074 | AL139: 0.28462616
A140: Sunflower grain, basis scenario without lever, at farm gate {FR} U | B140: Legumes and oilseeds | C140: Sunflower grain, conventional, France, without lever, at field | D140: At field | E140: declination | F140: France | H140: 0.1436249 | I140: 3.1733468 | J140: 0.79662183 | K140: 0.0069691632 | L140: 0.0085956751 | M140: 4.7735363 | N140: 0.029439002 | O140: 0.00071227907 | P140: 0.012641481 | Q140: 28.875829 | R140: 3.2362471 | S140: 0.11537233 | T140: 0.79662183 | U140: 6.1181187e-09 | V140: 0.012705403 | W140: 0.0017316835 | X140: 4.445758e-08 | Y140: 2.989393e-09 | Z140: 3.5548868e-09 | AA140: 0.0069691632 | AB140: 0.00071227907 | AC140: 0.012641481 | AD140: 0.029439002 | AE140: 9.5595821 | AF140: 240.01814 | AG140: 0.13431605 | AH140: 2.9555088 | AI140: 2.2649545e-06 | AJ140: 0.00011169383 | AK140: 0.51465641 | AL140: 0.28185372
A141: Sunflower grain, basis scenario without lever, dried, stored and transported, processing {FR} U | B141: Legumes and oilseeds | C141: Sunflower grain, conventional, France, without lever, at storage agency | D141: At storage agency | E141: declination | F141: France | H141: 0.14363957 | I141: 3.412788 | J141: 0.81029801 | K141: 0.0070201813 | L141: 0.0086064423 | M141: 4.7752103 | N141: 0.029633332 | O141: 0.00071346718 | P141: 0.01266075 | Q141: 29.125002 | R141: 3.4815559 | S141: 0.11661983 | T141: 0.81029801 | U141: 6.4895476e-09 | V141: 0.015136442 | W141: 0.0018009653 | X141: 4.5147117e-08 | Y141: 3.2043623e-09 | Z141: 3.562013e-09 | AA141: 0.0070201813 | AB141: 0.00071346718 | AC141: 0.01266075 | AD141: 0.029633332 | AE141: 9.6301106 | AF141: 240.2018 | AG141: 0.13561355 | AH141: 3.1813515 | AI141: 2.3699246e-06 | AJ141: 0.00011745517 | AK141: 0.52829237 | AL141: 0.28188818
A142: Sunflower grain, conventional, 9% moisture, national average, animal feed, at farm gate, production {FR} U | B142: Legumes and oilseeds | C142: Sunflower, conventional, 9% moisture, France, at field | D142: At field | E142: average data | F142: France | H142: 0.11761683 | I142: 4.1632955 | J142: 0.89712484 | K142: 0.0082654929 | L142: 0.007440805 | M142: 4.7984178 | N142: 0.041755019 | O142: 0.00052616774 | P142: 0.011311153 | Q142: 31.827981 | R142: 4.2603868 | S142: 0.12947157 | T142: 0.89712484 | U142: 1.0343719e-08 | V142: 0.031477827 | W142: 0.0019427156 | X142: 6.8036792e-08 | Y142: 3.5430946e-08 | Z142: 3.2411551e-09 | AA142: 0.0082654929 | AB142: 0.00052616774 | AC142: 0.011311153 | AD142: 0.041755019 | AE142: 14.241758 | AF142: 241.06169 | AG142: 0.20475622 | AH142: 3.9093871 | AI142: 2.9565482e-06 | AJ142: 0.036022777 | AK142: 0.57849727 | AL142: 0.2826048
A143: Calcium carbonate (<63 micrometer), production {RER} U | B143: Mineral products and vitamins | C143: Calcium carbonate (<63µm), Europe, at plant | D143: At plant | E143: average data | F143: Europe | G143: Europe | H143: 1.92e-14 | I143: 1.8904021 | J143: 0.079598434 | K143: 0.00031916627 | L143: 1.9751264e-05 | M143: 0 | N143: 0.00063355932 | O143: 2.1367e-09 | P143: 5.8051022e-05 | Q143: 1.8913359 | R143: 1.8913359 | S143: 0.0057117383 | T143: 0.079598434 | U143: 6.1712e-09 | V143: 0.0050013195 | W143: 0.00018966998 | X143: 1.5161984e-09 | Y143: 1.8699585e-10 | Z143: 1.4004314e-11 | AA143: 0.00031916627 | AB143: 2.1367e-09 | AC143: 5.8051022e-05 | AD143: 0.00063355932 | AE143: 0.18841764 | AF143: 0 | AG143: 0.0057266094 | AH143: 1.7561639 | AI143: 3.1314595e-10 | AJ143: 0 | AK143: 0.079598434 | AL143: 0
